BEGIN:VCALENDAR
VERSION:2.0
PRODID:-//Ε.Π.Ο.Σ. ΦΥΛΗΣ - ECPv6.15.18//NONSGML v1.0//EN
CALSCALE:GREGORIAN
METHOD:PUBLISH
X-WR-CALNAME:Ε.Π.Ο.Σ. ΦΥΛΗΣ
X-ORIGINAL-URL:https://eposfilis.gr
X-WR-CALDESC:Events for Ε.Π.Ο.Σ. ΦΥΛΗΣ
REFRESH-INTERVAL;VALUE=DURATION:PT1H
X-Robots-Tag:noindex
X-PUBLISHED-TTL:PT1H
BEGIN:VTIMEZONE
TZID:Europe/Athens
BEGIN:DAYLIGHT
TZOFFSETFROM:+0200
TZOFFSETTO:+0300
TZNAME:EEST
DTSTART:20250330T010000
END:DAYLIGHT
BEGIN:STANDARD
TZOFFSETFROM:+0300
TZOFFSETTO:+0200
TZNAME:EET
DTSTART:20251026T010000
END:STANDARD
BEGIN:DAYLIGHT
TZOFFSETFROM:+0200
TZOFFSETTO:+0300
TZNAME:EEST
DTSTART:20260329T010000
END:DAYLIGHT
BEGIN:STANDARD
TZOFFSETFROM:+0300
TZOFFSETTO:+0200
TZNAME:EET
DTSTART:20261025T010000
END:STANDARD
BEGIN:DAYLIGHT
TZOFFSETFROM:+0200
TZOFFSETTO:+0300
TZNAME:EEST
DTSTART:20270328T010000
END:DAYLIGHT
BEGIN:STANDARD
TZOFFSETFROM:+0300
TZOFFSETTO:+0200
TZNAME:EET
DTSTART:20271031T010000
END:STANDARD
END:VTIMEZONE
BEGIN:VEVENT
DTSTART;TZID=Europe/Athens:20260515T163000
DTEND;TZID=Europe/Athens:20260517T210000
DTSTAMP:20260423T142613
CREATED:20260108T181547Z
LAST-MODIFIED:20260112T161502Z
UID:6564-1778862600-1779051600@eposfilis.gr
SUMMARY:15-17/5 Νότια Μακεδονίας Καμβούνια όρη (διασχίσεις) Κορυφή Πρίονος (Βουνάσα) 1.616μ. «Μονοπάτι των μοναχών». Μπουχάρια.
DESCRIPTION:15-17/5\nΝότια Μακεδονίας Καμβούνια όρη (διασχίσεις) Κορυφή Πρίονος (Βουνάσα)\n1.616μ. «Μονοπάτι των μοναχών». Μπουχάρια. \nΤα Μπουχάρια είναι μοναδικοί φυσικοί σχηματισμοί βράχων που θυμίζουν\nκαμινάδες και δημιουργούν ένα πολύ εντυπωσιακό τοπίο — σαν μικρή\n«Καππαδοκία» στην Ελλάδα. Το φαινόμενο προέκυψε από διάβρωση πετρωμάτων\nσε διάστημα πολλών χιλιάδων ετών. Η περιοχή είναι χαρακτηρισμένο γεωπάρκο\nΠαρασκευή: Αναχώρηση 16:30 για το οργανωμένο καταφύγιο του ΕΟΣ ΔΕΣΚΑΤΗΣ\nστα 1415μ. όπου οι διανυκτερεύσεις (υπάρχει οργανωμένη κουζίνα\, θέρμανση κλπ.)\nΣάββατο: Η αφετηρία των διαδρομών είναι από το Μοναστήρι της Αγίας\nΕυαγγελίστριας (1000μ. υψόμετρο)\, ένα ιστορικό μοναστικό συγκρότημα του 12ου\nαιώνα όπου ξενάγηση και οι διαδρομές μας κινούνται ανάμεσα σε δάση με έλατα\,\nδρύες και αλπικά λιβάδια.\n«Μονοπάτι των μοναχών»: Διαδρομή προς τον Αυχένα «Σταυρός» (διάσχιση).\nΚοινή πορεία: Από την Μονή Αγίας Ευαγγελίστριας πεζοπορούμε τραβερσάροντας\nστις πλαγιές των Καμβουνίων από μονοπάτι ανάμεσα σε πυκνό ελατοδάσος και\nδολίνες με μικρές υψομετρικές διαφορές φτάνει σε μικρό σπιτάκι στη θέση\n«Σταυρός» 1400μ. κοντά στο καταφύγιο Ω.Π.: 5\, Υ.Δ.: 415\, Β.Δ.: 2 (14χλμ.). Από αυτό\nτο σημείο θα υπάρχει η δυνατότητα να επιβιβαστούν στο πούλμαν όσοι θέλουν και\nνα μεταφερθούν στη Δεσκάτη χτισμένη στις νότιες πλαγιές των Καμβουνίων.\nΕπίσκεψη στο λαογραφικό μουσείο «Χρήστος Μπουρονίκος» και άλλα γραφικά\nσημεία της κωμόπολης. Η ορειβατική ομάδα\, συνεχίζει την πεζοπορία για 2 ώρες\nακόμη\, μέσα από πευκοδάσος και φτάνει σε τη Δεσκάτη όπου ελέυθερος χρόνος\nκαι περιήγηση (866μ.) (21χλμ.) Β.Δ.: 2+\nΚυριακή: Διάσχιση των κορυφογραμμών της οροσειράς των Καμβουνίων. Από το\nκαταφύγιο Δεσκάτης (1.415μ.) εύκολη ανάβαση στην ψηλότερη κορυφή των\nΚαμβουνίων\, τον Πρίονο (1.616 μ.)\, από διαδεχόμενα διάσελα στην κορυφογραμμή\nσε βραχώδες πεδίο και λιβάδια\, θα περάσουμε από τις τοποθεσίες Γκέκηδες\,\nΣταυρός και την κορυφή Μαυρολίθαρα (1.480μ.) και η διαδρομή μας\nολοκληρώνεται στο ξωκλήσι Άγιος Πρόδρομος (800μ.) Ω.Π.: 4\, Υ.Δ.: +200 -816\, Β.Δ.:\n1+\nΣτο τέλος της πεζοπορίας μεταφορά με το πούλμαν κοντά στο χωριό Μικρολίβαδο\nΒελβεντού όπου βρίσκονται τα «Μπουχάρια»\, χαρακτηριστικό γεωλογικό\nφαινόμενο του γεωπάρκου των Γρεβενών. \nΣυντοντιστής : Χρήστος Ρέντας & ένα μέλος του Δ.Σ. \n 
URL:https://eposfilis.gr/event/15-17-5-%ce%bd%cf%8c%cf%84%ce%b9%ce%b1-%ce%bc%ce%b1%ce%ba%ce%b5%ce%b4%ce%bf%ce%bd%ce%af%ce%b1%cf%82-%ce%ba%ce%b1%ce%bc%ce%b2%ce%bf%cf%8d%ce%bd%ce%b9%ce%b1-%cf%8c%cf%81%ce%b7-%ce%b4%ce%b9%ce%b1%cf%83/
CATEGORIES:Ημερολόγιο
ATTACH;FMTTYPE=image/jpeg:https://eposfilis.gr/wp-content/uploads/2026/01/Καμβούνια-όρη-καταφύγιο.jpg
END:VEVENT
END:VCALENDAR