BEGIN:VCALENDAR
VERSION:2.0
PRODID:-//Ε.Π.Ο.Σ. ΦΥΛΗΣ - ECPv6.15.18//NONSGML v1.0//EN
CALSCALE:GREGORIAN
METHOD:PUBLISH
X-ORIGINAL-URL:https://eposfilis.gr
X-WR-CALDESC:Events for Ε.Π.Ο.Σ. ΦΥΛΗΣ
REFRESH-INTERVAL;VALUE=DURATION:PT1H
X-Robots-Tag:noindex
X-PUBLISHED-TTL:PT1H
BEGIN:VTIMEZONE
TZID:Europe/Athens
BEGIN:DAYLIGHT
TZOFFSETFROM:+0200
TZOFFSETTO:+0300
TZNAME:EEST
DTSTART:20240331T010000
END:DAYLIGHT
BEGIN:STANDARD
TZOFFSETFROM:+0300
TZOFFSETTO:+0200
TZNAME:EET
DTSTART:20241027T010000
END:STANDARD
BEGIN:DAYLIGHT
TZOFFSETFROM:+0200
TZOFFSETTO:+0300
TZNAME:EEST
DTSTART:20250330T010000
END:DAYLIGHT
BEGIN:STANDARD
TZOFFSETFROM:+0300
TZOFFSETTO:+0200
TZNAME:EET
DTSTART:20251026T010000
END:STANDARD
BEGIN:DAYLIGHT
TZOFFSETFROM:+0200
TZOFFSETTO:+0300
TZNAME:EEST
DTSTART:20260329T010000
END:DAYLIGHT
BEGIN:STANDARD
TZOFFSETFROM:+0300
TZOFFSETTO:+0200
TZNAME:EET
DTSTART:20261025T010000
END:STANDARD
END:VTIMEZONE
BEGIN:VEVENT
DTSTART;TZID=Europe/Athens:20250404T173000
DTEND;TZID=Europe/Athens:20250407T003000
DTSTAMP:20260423T062415
CREATED:20241228T192211Z
LAST-MODIFIED:20241228T192211Z
UID:2973-1743787800-1743985800@eposfilis.gr
SUMMARY:Ν.Πίνδος: Λάκμος\, Βερλίγκα. Κορυφή Τσουκαρέλα (2\,295μ.) Κοπρ - Κριάκουρας\, Ψάρρος- Καρατζούνι (1.714μ)
DESCRIPTION:4-6/4: \nΝ.Πίνδος: Λάκμος\, Βερλίγκα. Κορυφή Τσουκαρέλα (2\,295μ.) Κοπρ – Κριάκουρας\, Ψάρρος- Καρατζούνι (1.714μ) \nΠαρασκευή: Αναχώρηση 16:00 για την Ελάτη Τρικάλων όπου οι διανυκτερεύσεις σε ξενώνα ή σε περιορισμένο αριθμό σκηνών κοντά στον ξενώνα \nΣάββατο: Ορειβατική διαδρομή: Μετακίνηση οδικώς\, νωρίς το πρωί για το Χαλίκι (1.130μ.). από όπου ξεκινά και η διαδρομή. Περνώντας το ρέμα Καπραριά και ακολουθώντας στην αρχή το δασικό δρόμο καθώς και στη συνέχεια το μονοπάτι φτάνουμε στις πηγες Αχελώου\, στη Βερλίγκα\, στο περίφημο αλπικό οροπέδιο του Λάκμου. Στη συνέχεια ακολουθούμε τη νότια κορυφογραμμή και φτάνουμε στη κορυφή Τσουκαρέλα 2.295μ. Επιστροφή από την ίδια διαδρομή μέχρι το Χαλίκι Ω.Π.: 10-11\, Υ.Δ.: 1130\, Β.Δ.: 2+ (21χλμ.) \nΠεζοπορική διαδρομή: Η πεζοπορία μας αρχίζει από την Ελάτη (920μ.) με κατεύθυνση τα Κανάβια. Ακολουθούμε το Κακόρεμα και τη Βλάχα φτάνουμε στο Κοπρ (1250μ.) Στη συνέχεια επιστρέφουμε μέχρι ένα σημείο από τα ίδια και συνεχίζουμε προς τα Οικονομέικα και τον Κριάκουρα Ω.Π.: 5-6\, Υ.Δ.: 400\, Β.Δ.: 1+ \nΚυριακή: Κοινή πορεία: Η διαδρομή αρχίζει από την Ελάτη ( 920μ) με κατεύθυνση τον οικισμό Ψάρρο (Στουρναραίικα) (1000μ.) Στη συνέχεια ακολουθούμε το δασικό δρόμο\, όπου μετά από λίγο η βλάστηση γίνεται πιο έντονη με οξιές και έλατα. Συνεχίζουμε την πορεία μας και θα συναντήσουμε τη ράχη την οποία θα αρχίσουμε να ανεβαίνουμε. Στη συνέχεια θα περάσουμε στην αλπική ζώνη και θα καταλήξουμε στη κορυφη Καρατζούνι (1714μ.). Αναλόγως αν υπάρχει πολύ χιόνι όσοι πεζοπόροι διαθέτουν κατάλληλο εξοπλισμό θα συνεχίσουν μέχρι τη κορυφή. Επιστροφή από την ίδια διαδρομή. Ω.Π.: 6\, Υ.Δ.: 720μ\, Β.Δ.: 2 (11χλμ.) \nΣυντονιστές δύσκολης πορείας: Νίκος Κρούπης & Σωτήρης Τοπάλογλου \nΣυντονιστής εύκολης πορείας: ….. \n 
URL:https://eposfilis.gr/event/%ce%bd-%cf%80%ce%af%ce%bd%ce%b4%ce%bf%cf%82-%ce%bb%ce%ac%ce%ba%ce%bc%ce%bf%cf%82-%ce%b2%ce%b5%cf%81%ce%bb%ce%af%ce%b3%ce%ba%ce%b1-%ce%ba%ce%bf%cf%81%cf%85%cf%86%ce%ae-%cf%84%cf%83%ce%bf%cf%85%ce%ba-2/
CATEGORIES:Ημερολόγιο
ATTACH;FMTTYPE=image/jpeg:https://eposfilis.gr/wp-content/uploads/2024/12/unnamed.jpg
END:VEVENT
BEGIN:VEVENT
DTSTART;VALUE=DATE:20250406
DTEND;VALUE=DATE:20250407
DTSTAMP:20260423T062415
CREATED:20250311T153018Z
LAST-MODIFIED:20250311T153018Z
UID:5306-1743897600-1743983999@eposfilis.gr
SUMMARY:ΑΝΑΡΡΙΧΗΤΙΚΗ ΣΥΝΑΝΤΗΣΗ ΑΠΟΦΟΙΤΩΝ ΣΧΟΛΩΝ- 6 ΑΠΡΙΛΙΟΥ 2025
DESCRIPTION:ΑΝΑΡΡΙΧΗΤΙΚΗ ΣΥΝΑΝΤΗΣΗ ΑΠΟΦΟΙΤΩΝ ΣΧΟΛΩΝ  06/04/2025 \nΗ αναρριχητική συνάντηση των αποφοίτων των Σχολών Αναρρίχησης Βράχου Αρχαρίων και Μέσου Επιπέδου θα πραγματοποιηθεί στο πεδίο  «Καράβι» στον Υμηττό\, που ενδείκνυται για σκαρφάλωμα την άνοιξη. \nΛίγα λόγια για το πεδίο: Βρίσκεται στη δυτική πλευρά του Υμηττού πάνω από τον Βύρωνα και διαθέτει πολύ καλής ποιότητας ασβεστολιθικό βράχο με το ανάγλυφό του να παρουσιάζει μεγάλη ποικιλία με πλάκες\, αρνητικά\, δίεδρα και κόψεις. Το ανάπτυγμα των διαδρομών δεν ξεπερνά τα 15 μέτρα\, προφέρεται όμως ακόμη και για τεχνικά απαιτητικές αναρριχήσεις. Από εκεί θα έχουμε καταπληκτική θέα του λεκανοπεδίου. Το όνομα «καράβι» δόθηκε από τους αναρριχητές λόγω της χαρακτηριστικής κόψης στη διαδρομή 20\, που μοιάζει με πλώρη καραβιού. \nΥπενθυμίζεται ότι εκτός από τους αποφοίτους των σχολών αναρρίχησης του Συλλόγου μας και έμπειρους αναρριχητές του Συλλόγου μας”\, είναι επίσης ευπρόσδεκτα άτομα που έχουν ολοκληρώσει τις σχολές σε άλλους συλλόγους. \nΣας περιμένουμε με τον εξοπλισμό σας (μποντριέ\, κράνος\, παπούτσια\, σχοινί\, σετάκια\, gri-gri/κουβαδάκι)\, νερό\, σνακ και\, φυσικά\, όρεξη για σκαρφάλωμα! \nΣημείο συνάντησης: Κυριακή 6/4/25 : Μονή Αγίου Γεωργίου Κουταλά στις 10:30. \nΣε περίπτωση που υπάρχουν απορίες\, μπορείτε να επικοινωνήσετε με τον Σύλλογο μέσω email: eposfilis@gmail.com) ή τηλεφωνικά: 210-2411148 \n 
URL:https://eposfilis.gr/event/%ce%b1%ce%bd%ce%b1%cf%81%cf%81%ce%b9%cf%87%ce%b7%cf%84%ce%b9%ce%ba%ce%b7-%cf%83%cf%85%ce%bd%ce%b1%ce%bd%cf%84%ce%b7%cf%83%ce%b7-%ce%b1%cf%80%ce%bf%cf%86%ce%bf%ce%b9%cf%84%cf%89%ce%bd-%cf%83%cf%87/
CATEGORIES:Ημερολόγιο
ATTACH;FMTTYPE=image/jpeg:https://eposfilis.gr/wp-content/uploads/2025/03/IMG-8cd8cdb442c8fe2f250a2eaaf419c73e-V.jpg
END:VEVENT
BEGIN:VEVENT
DTSTART;VALUE=DATE:20250412
DTEND;VALUE=DATE:20250413
DTSTAMP:20260423T062415
CREATED:20250408T201550Z
LAST-MODIFIED:20250408T201550Z
UID:5362-1744416000-1744502399@eposfilis.gr
SUMMARY:Πάρνηθα: εθελοντικός καθαρισμός μονοπατιού από καμμένα κλαδιά
DESCRIPTION:12/4 \n  Πάρνηθα: Άγιος Κυπριανός – Άγιος Γεώργιος Κεραμιδίου. Εθελοντικός καθαρισμός από καμμένα κλαδιά    \nΏρα συνάντησης: 09:00 π.μ. στο πάρκινγκ της Ι.Μονής Κυπριανού  \nΕλάτε να φροντίσουμε όλοι μαζί το αγαπημένο μας βουνό για να μην χαθουν τα ίχνη των μονοπατιών μετά την τελευταία καταστροφική πυρκαγιά.  \nΧρειαζόμαστε τη βοήθειά σας! Μαζί μπορούμε να κάνουμε τη διαφορά!   \n✅ Φόρεσε άνετα ρούχα και παπούτσια πεζοπορίας\n✅ Φέρε μαζί σου νερό\, καπέλο και πολλή καλή διάθεση\n✅ Γάντια και εργαλεία θα παρέχονται από το σύλλογο  \nΑπαραίτητη η δήλωση συμμετοχής στο τηλέφωνο του συλλόγου 
URL:https://eposfilis.gr/event/12-4-%cf%80%ce%ac%cf%81%ce%bd%ce%b7%ce%b8%ce%b1-%ce%b5%ce%b8%ce%b5%ce%bb%ce%bf%ce%bd%cf%84%ce%b9%ce%ba%cf%8c%cf%82-%ce%ba%ce%b1%ce%b8%ce%b1%cf%81%ce%b9%cf%83%ce%bc%cf%8c%cf%82-%ce%bc%ce%bf%ce%bd/
CATEGORIES:DEFAULT,Ημερολόγιο
END:VEVENT
BEGIN:VEVENT
DTSTART;VALUE=DATE:20250413
DTEND;VALUE=DATE:20250414
DTSTAMP:20260423T062415
CREATED:20240922T145027Z
LAST-MODIFIED:20240922T145027Z
UID:2944-1744502400-1744588799@eposfilis.gr
SUMMARY:Πεντέλη\,Υπαίθριο μουσείο λατομικής τέχνης. Πεζοπορία & ξενάγηση
DESCRIPTION:13/4 \nΠεντέλη\,Υπαίθριο μουσείο λατομικής τέχνης. Πεζοπορία & ξενάγηση \nΣυνάντησηστο Διόνυσο στις 09:00  τέρμα Λεωφ.Αιολίδος & Κωνσταντινουπόλεως γωνία με τα δικά μας Ι.Χ.\, θα πεζοπορήσουμε και θα απολαύσουμε μια κυκλική διαδρομή\, με θέαση από κάποια σημεία\, στη Βόρεια Αττική στον κόλπο του Μαραθώνα και όχι μονο…Ξεκινάμε την πορεία μας σε δασικό δρόμο με πρώτο μας σταθμό την πηγή Σωληνάρι. Από εκεί θασυνεχίσουμε σε υπέροχο μονοπάτι που περνά ανάμεσα από τα ερείπια των σπιτιών όπου κατοικούσαν οι λατόμοι μέχρι να βγούμε στο Ανοιχτό Μουσείο Λατομικής Τέχνης“Αλούλα”\, ένα απίστευτα εντυπωσιακό μέρος. Ένα παλιό λατομείο που είχε σταματήσει να λειτουργεί από το 1940 και το 1994 αποφασίστηκε να μετατραπεί σε μουσείο της λατομικής τέχνης και σε χώρο αναψυχής. Για την υλοποίησή του εργάστηκαν αρχιτέκτονες\, η γλύπτρια τοπίου Νέλα Γκόλαντα και ένα συνεργείο Παριανών λατόμων. Οι διάσπαρτοι μαρμάρινοι όγκοι που έχουνσμιλευτεί κατάλληλα\, οι κατρακύλες που κατέβαζαν τα μάρμαρα\, οι καζάρ- μες των λατόμων\, αλλά και οι πηγές από όπου έπαιρναν νερό\, κάνουν το αισθητικό αποτέλεσμα τόσο ευφυές και αναπάντεχο ώστε αξιολογήθηκε ως ένα από τα σημαντικότερα εγχειρήματα του είδους στην Ευρώπη του ’90 και βραβεύτηκε. Συνεχίζοντας θα συναντήσουμε το εκκλησάκι του Αγ- ίου Λουκά και στην συνέχεια θα ανηφορήσουμε για το υψηλότερο σημείο της διαδρομής μας στα 900μ όπου βρίσκεται το εκκλησάκι τουΑγίου Ονουφρίου και από εκεί θα αγναντεύσουμε όλο το λεκανοπέδιο από ψηλά… ίσως τότε να μας φανεί διαφορετική η Αθήνα… και πιο ελεύθερη απαλλαγμένη από τα καθημερινά μας βάρη! Από αρχίζει η επιστροφή μας συνδυάζοντας μονοπάτι και δασικό        δρόμο .Ξενάγηση από τον Γ.Καρβελα \nΩ.Π.: 3.30\, Υ.Δ.:390\, Β.Δ.:1 (7\,5χλμ.) \nΣυντονιστής:Γιώργος Καρβελάς
URL:https://eposfilis.gr/event/%cf%80%ce%ac%cf%81%ce%bd%ce%b7%ce%b8%ce%b1-%cf%80%ce%b7%ce%b3%ce%ae-%ce%ba%cf%81%cf%8d%ce%b1%cf%82-%cf%86%cf%85%ce%bb%ce%ae%cf%82-%ce%ba%ce%b9%ce%ac%cf%86%ce%b1-%ce%bc%ce%b1%cf%81%ce%af%cf%83%cf%84-2/
CATEGORIES:Ημερολόγιο
END:VEVENT
BEGIN:VEVENT
DTSTART;TZID=Europe/Athens:20250416T190000
DTEND;TZID=Europe/Athens:20250422T180000
DTSTAMP:20260423T062415
CREATED:20241214T123842Z
LAST-MODIFIED:20241214T123842Z
UID:2962-1744830000-1745344800@eposfilis.gr
SUMMARY:Σίκινος
DESCRIPTION:Εθελοντικός καθαρισμός μονοπατιών  στη Σίκινο. \nΣίκινος… ένα χελιδόνι\, για να σου φέρει την άνοιξη μέσα στο θέρος  (Οδυσσέας Ελύτης\, Άξιον Εστί-Γένεσις) \nΜ.Τετάρτη 16/4 – Τρίτη του Πάσχα 22/4 \nΈναρξη κρατήσεων από 12/3 \nΣε αυτή την φωτεινή θαλασσόπετρα\, μακριά από τον θόρυβο της κοσμικότητας\, διατηρώντας  ανόθευτη την ομορφιά της και την αυθεντικότητά της θα δραστηριοποιηθούν οι εθελοντές του ΕΠΟΣ Φυλής κατά την περίοδο του Πάσχα προκειμένου να καθαριστεί  από βλάστηση μονοπάτι του νησιού. Εξοπλισμένοι με τα δέοντα\, ήτοι τσάπες\, ψαλίδες\, τσουγκράνες\, αλυσοπρίονο  και γάντια\, κατά την 4ωρη πρωινή εργασία θα έχουν την ευκαιρία  όχι μόνο της προσφοράς στην φύση και τον πολιτισμό\, μέσα από την διάνοιξη και συντήρηση δρόμων ξεχασμένων της παράδοσης\, αλλά και της βίωσης μιας μοναδικής εμπειρίας ομαδικότητας\, φιλοξενίας\, συμμετοχής σε δρώμενα και εναλλακτικών  διακοπών σε ένα καθηλωτικής ομορφιάς Κυκλαδονήσι. Η Κυριακή του Πάσχα θα εορταστεί με τρόπο παραδοσιακό χωρίς εργασία και με πασχαλινό γεύμα που θα προσφέρει ο Δήμος Σικίνου στους εθελοντές. Η διαμονή σε ξενώνες\, είναι προσφορά του Συλλόγου Σικινιωτών Πειραιά. Οι εθελοντές επιβαρύνονται το κόστος μετακίνησης με το πλοίο (εισιτήρια με έκπτωση) και 20€ οικονομική ενίσχυση στον σύλλογο. Κατά τη διάρκεια της παραμονής μας στο νησί θα γνωρίσουμε όμορφες γωνιές του\, θα πεζοπορήσουμε τα μονοπάτια του. \nΣυνάντηση στην Πύλη Ε9 μπροστά στο πλοίο «Αικατερίνη Π.» στις 13:15 την Μ. Τετάρτη  απ όπου ο  απόπλους στις 14:14 για Σίκινο.  \n \n  \n \n 
URL:https://eposfilis.gr/event/%cf%83%ce%af%ce%ba%ce%b9%ce%bd%ce%bf%cf%82-2/
CATEGORIES:Ημερολόγιο
ATTACH;FMTTYPE=image/jpeg:https://eposfilis.gr/wp-content/uploads/2024/12/image86846957.jpg
END:VEVENT
BEGIN:VEVENT
DTSTART;TZID=Europe/Athens:20250425T200000
DTEND;TZID=Europe/Athens:20250427T230000
DTSTAMP:20260423T062415
CREATED:20241214T124109Z
LAST-MODIFIED:20241214T124109Z
UID:2963-1745611200-1745794800@eposfilis.gr
SUMMARY:Καίσαρι – Κλημέντι – Κεφαλάρι Κορινθίας\, στις καταπράσινες πλαγιές του όρους Κυλλήνη (Ζήρεια).Εθελοντικός καθαρισμός μονοπατιού
DESCRIPTION:25-27/4/2025  \nΕθελοντικός καθαρισμός μονοπατιού Καίσαρι – Κλημέντι – Κεφαλάρι Κορινθίας\, στις καταπράσινε πλαγιές του όρους Κυλλήνη (Ζήρεια).  \nΤριήμερη δραστηριότητα εθελοντικού καθαρισμού μονοπατιού με δωρεάν  διαμονή σε ξενώνα στο χωριό Καίσαρι \, ευγενική προσφορά του ιδιοκτήτη. \nΠρωινή τετράωρη εργασία για καθαρισμό από τη βλάστηση του μονοπατιού που συνδέει τα τρία χωριά. Εύκολη εργασία για όλους. Διάθεση εργαλείων και εξοπλισμού από τον Σύλλογο. Στη δράση θα συμμετέχουν και εθελοντές από τα δύο χωριά Καίσαρι και Κλημέντι. Κατά τη διάρκεια του εθελοντικού θα προσφερθεί κέρασμα στους εθελοντές από τον Πολιτιστικό Σύλλογο Καισαρίου «Σοφαίνετος» και τα πρωινά των εθελοντών θα ειναι ευγενική προσφορά του κ.Παπαγιαννόπουλου απο το καφενείο  « Το ΚΛΗΜΕΝΤΙ » .   \nΤον ελεύθερο χρόνο\, θα πραγματοποιηθούν δράσεις για τους εθελοντές μεταξύ των οποίων (ανάλογα τις επιλογές των εθελοντών) : επισκέψεις στην Βυζαντινή Μονή Λέχοβας 12ου αι. χτισμένη στα 1050μ.\, περίπατος αναψυχής στο πυκνό δάσος Βελίνας\, επίσκεψη στις πηγές Σιέ (Μεγάλος Βάλτος Κορινθίας)\, επίσκεψη στην θέση θέα στο Θροφαρί Κορινθίας (με θέα στον Κορινθιακό)\, πεζοπορία στο Δρυοδάσος Μογγοστού\, επίσκεψη στην μεταβυζαντινή Μονή Κοιμήσεως Θεοτόκου Λεχοβίτσας\, δίπλα σε τρεχούμενα νερά και έλατα\, λίμνη Στυμφαλία και Περιβαλλοντικό Μουσείο και άλλα. \nΑπαραίτητες οι κρατήσεις στο τηλέφωνο του Συλλόγου \nΣυντονιστές: …………….. \nΤο Καίσαρι βρίσκεται στα 900μ.υψόμετρο χτισμένο το 1400 με τον αιωνόβιο πλάτανο στην πλατεία του\, μέσα σε ένα φυσικό τοπίο ασύγκριτης φυσικής ομορφιάς και φημίζεται για το ορεινό του κλίμα. Σε λόφο κοντά στο χωριό διακρίνεται ένας μεσαιωνικός κυκλικός πύργος με το τουρκικό όνομα Γουλάς που από την κύρια θέση του ελεγχόταν άμεσα οι διελεύσεις. Η θέα του βλέπει την κοιλάδας του Καισαρίου\, κατά την αρχαιότητα λίμνη Πελλήνης και έχει οπτική επαφή με μερικά γειτονικά φρούρια (φρυκτωρίες) της περιοχής\, απέχει δε από τη θάλασσα στον Κορινθιακό κόλπο 22χλμ.  \nΤο Κλημέντι βρίσκεται σε υψόμετρο 960μ.\, χτισμένο το 1400. Τα παλαιότερα χρόνια η περιοχή μας υπαγόταν στο βασίλειο της Στυμφαλίας και αργότερα στο κράτος της Σικυώνας. Το χωριό πήρε την ονομασία Κλημέντι κατά τη Βυζαντινή εποχή. Το 1460 είναι η χρονιά που υποδουλωθήκαμε στους Τούρκους. Στην Επανάσταση του 1821 διαδραμάτισε σημαντικό ρόλο\, καθώς υπήρξε στρατιωτικό και διοικητικό κέντρο του Θεόδωρου και του Γενναίου Κολοκοτρώνη. Η κεντρική εκκλησία του χωριού\, ο Άγιος Γεώργιος\, χτίστηκε το 1904 και διαθέτει αξιόλογο ξυλόγλυπτο τέμπλο.
URL:https://eposfilis.gr/event/%ce%ba%ce%b1%ce%af%cf%83%ce%b1%cf%81%ce%b9-%ce%ba%ce%bb%ce%b7%ce%bc%ce%ad%ce%bd%cf%84%ce%b9-%ce%ba%ce%b5%cf%86%ce%b1%ce%bb%ce%ac%cf%81%ce%b9-%ce%ba%ce%bf%cf%81%ce%b9%ce%bd%ce%b8-2/
CATEGORIES:Ημερολόγιο
END:VEVENT
END:VCALENDAR