BEGIN:VCALENDAR
VERSION:2.0
PRODID:-//Ε.Π.Ο.Σ. ΦΥΛΗΣ - ECPv6.15.18//NONSGML v1.0//EN
CALSCALE:GREGORIAN
METHOD:PUBLISH
X-ORIGINAL-URL:https://eposfilis.gr
X-WR-CALDESC:Events for Ε.Π.Ο.Σ. ΦΥΛΗΣ
REFRESH-INTERVAL;VALUE=DURATION:PT1H
X-Robots-Tag:noindex
X-PUBLISHED-TTL:PT1H
BEGIN:VTIMEZONE
TZID:Europe/Athens
BEGIN:DAYLIGHT
TZOFFSETFROM:+0200
TZOFFSETTO:+0300
TZNAME:EEST
DTSTART:20240331T010000
END:DAYLIGHT
BEGIN:STANDARD
TZOFFSETFROM:+0300
TZOFFSETTO:+0200
TZNAME:EET
DTSTART:20241027T010000
END:STANDARD
BEGIN:DAYLIGHT
TZOFFSETFROM:+0200
TZOFFSETTO:+0300
TZNAME:EEST
DTSTART:20250330T010000
END:DAYLIGHT
BEGIN:STANDARD
TZOFFSETFROM:+0300
TZOFFSETTO:+0200
TZNAME:EET
DTSTART:20251026T010000
END:STANDARD
BEGIN:DAYLIGHT
TZOFFSETFROM:+0200
TZOFFSETTO:+0300
TZNAME:EEST
DTSTART:20260329T010000
END:DAYLIGHT
BEGIN:STANDARD
TZOFFSETFROM:+0300
TZOFFSETTO:+0200
TZNAME:EET
DTSTART:20261025T010000
END:STANDARD
END:VTIMEZONE
BEGIN:VEVENT
DTSTART;TZID=Europe/Athens:20250501T130000
DTEND;TZID=Europe/Athens:20250505T000000
DTSTAMP:20260423T042412
CREATED:20241203T211056Z
LAST-MODIFIED:20241203T211056Z
UID:2956-1746104400-1746403200@eposfilis.gr
SUMMARY:Ανατολικό Ζαγόρι: Βάλια Κάντα – Αυγό (2.117μ.)\, Φλέγκα (2.157μ.) Μέτσοβο
DESCRIPTION:1-4/5 \nΑνατολικό Ζαγόρι: Βάλια Κάντα – Αυγό (2.117μ.)\, Φλέγκα (2.157μ.) Μέτσοβο  \nΠέμπτη 1/5. Αναχώρηση 10:00π.μ. για το χωριό Βωβούσα (980μ.) όπου όλες οι διανυκτερεύσεις στο καταφύγιο της Βωβούσας\, στις όχθες του Αώου ποταμό (Μπαϊεάσα στα βλάχικα) βρίσκεται μέσα στον Εθνικό Δρυμό Βάλια Κάλντα\, με αξιόλογη φυσική ομορφιά και γεωφυσικό ενδιαφέρον\, καθώς βρίσκεται ανάμεσα σε μεγάλους ορεινούς όγκους \nΠαρασκευή 2/5: Δύσκολη πορεία : Έναρξη της πορείας από το γεφύρι της Βωβούσας 1000μ. ανηφορίζοντας αρχικά σε δασικό δρόμο και μετά σε μονοπάτι μέσα στο δάσος. Αφού διασχίσουμε το δάσος\, συνεχίζουμε σε αλπικό πεδίο μέχρι την κορυφή Αυγό (2117μ.) Ω.Π.: 8:30 – 9\, Υ.Δ.: 1.350\,  Β.Δ.: 2 (ή 5 με χιόνι). Εύκολη πορεία: Στάνη Τίζα – Βωβούσα (διάσχιση): Μετακινούμαστε οδικώς προς το Περιβόλι Γρεβενών και από τη θέση  Στάνη Τίζα  (1570μ.) και αρχίσουμε την πεζοπορία μας η οποία θα κινηθεί περιμετρικά στο βουνό Αυγό. Στην αρχή μέσω δασικού δρόμου και ανηφορίζοντας θα ακολουθήσουμε ανηφορικό μονοπάτι μέχρι τη διασταύρωση (στα  1970μ. υψόμετρο) για την κορυφή Αυγό την οποία θα παρακάμψουμε. Στην επιστροφή θα κατηφορήσουμε το μονοπάτι της κλασσικής διαδρομής του Αυγού και θα φτάσουμε στη Βωβούσα (1012μ.). Η διαδρομή μας στην αρχή κινείται μέσα σε δάσος οξιάς\, συνεχίζει με ρόμπολα και κατεβαίνοντας προς τη Βωβούσας γίνεται ελατοσκεπής (διάσχιση)   Ω.Π.: 5-6\, Υ.Δ.: +450 -960\,  Β.Δ.: 1+ (12χλμ) . Προαιρετικός απογευματινός περίπατος από τη Βωβούσα πεζοπορούμε  μέσα σε πυκνό δάσος παρθένο δάσος απείραχτο από τους ανθρώπους μέχρι το ξωκλήσι της Αγίας Παρασκευής  και το μνημείο. Η διαδρομή  κινείται σε μονοπάτι και δασικό δρόμο Ω.Π.: 2-3 Υ.Δ.: 150\, Β.Δ.: 1         \nΣάββατο 3/5:  \nΜαυροβούνι: Λίμνη Πηγών Αώου – καταφύγιο Μαυροβουνίου (1850μ.) κορυφή Φλέγγα (2.157μ.)  \nΕύκολη πορεία: Από τη λίμνη των πηγών του Αώου ποταμού (1.350μ.)\, αρχίζει η ανάβαση μέσα από δάσος μέχρι το καταφύγιο του Μαυροβουνίου 1850 μ. με ανεμπόδιστη θέα στη λίμνη που σχηματίζουν οι πηγές του Αώου ποταμού. Όσοι θέλουν μπορεί να επιστρέψουν Ω.Π.: 4-5\, Υ.Δ.: 500\, Β.Δ.: 1 Σύντομος περίπατος στο Μέτσοβο Δύσκολη πορεία: Συνέχιση της πορείας από αλπικά λιβάδια μέχρι την κορυφή Φλέγγα (2.157μ.) με θέα στη Βάλια Κάλντα και στις ομώνυμες αλπικές λίμνες κι επιστροφή Ω.Π.: 9\, Υ.Δ.: 810\, Β.Δ.: 2 (ή 5 με χιόνι). \nΚυριακή 4/5: Επίσκεψη στην εμβληματική κωμόπολη του Μετσόβου\, χτισμένου αμφιθεατρικά στις κατάφυτες πλαγιές της Πίνδου σε υψόμετρο 1.200 μ.\, βλαχοχώρι\, πατρίδα εθνικών ευεργετών\, όπως του Γ.Αβέρωφ\, Μ.Τοσίτσα\, Ν. Στουρνάρα\, Ευάγ.Αβέρωφ Τοσίτσα. Επίσκεψη στα λαογραφικά μουσεία\, την πινακοθήκη\, τις εκκλησιές και αναχώρηση το μεσημέρι για την επιστροφή μας. \nΣυντονιστές: Κώστας Κατσούλης & Δημήτρης Ρουσσης 
URL:https://eposfilis.gr/event/%ce%b1%ce%bd%ce%b1%cf%84%ce%bf%ce%bb%ce%b9%ce%ba%cf%8c-%ce%b6%ce%b1%ce%b3%cf%8c%cf%81%ce%b9-%ce%b2%ce%ac%ce%bb%ce%b9%ce%b1-%ce%ba%ce%ac%ce%bd%cf%84%ce%b1-%ce%b1%cf%85%ce%b3%cf%8c-2-117-2/
CATEGORIES:Ημερολόγιο
ATTACH;FMTTYPE=image/jpeg:https://eposfilis.gr/wp-content/uploads/2024/12/unnamed-1-scaled-1.jpg
END:VEVENT
BEGIN:VEVENT
DTSTART;TZID=Europe/Athens:20250510T200000
DTEND;TZID=Europe/Athens:20250511T230000
DTSTAMP:20260423T042412
CREATED:20241217T215935Z
LAST-MODIFIED:20241217T215935Z
UID:2971-1746907200-1747004400@eposfilis.gr
SUMMARY:Μπίλιοβος: ένα καλντερίμι εμβληματικής παραδοσιακής αρχιτεκτονικής πρέπει να διασωθεί!! Εσύ θα μείνεις θεατής?
DESCRIPTION:10-11/5/25  \nΜπίλιοβος: ένα καλντερίμι εμβληματικής παραδοσιακής αρχιτεκτονικής πρέπει να διασωθεί!! Εσύ θα μείνεις θεατής?  \nΟ Ορειβατικός Σύλλογος Καλαμάτας σε συνεργασία με τον πολιτιστικό σύλλογο Σωτηριάνικων και τον Ε.Π.Ο.Σ.Φυλής\, θα πραγματοποιήσουν εργασίες καθαρισμού από τη βλάστηση για την διάσωση και ανάδειξη του περίφημου καλντεριμιού που συνδέει τα χωριά Σωτηριάνικα – Αλτομιρά\, ένα από τα ωραιότερα της Ελλάδας. Ο Μπίλιοβος αναρριχάται στις απότομες και δασωμένες πλαγιές της νότιας πλευράς του Καλαθιού και η κατασκευή του αποτελεί μοναδικό δείγμα λαϊκής αρχιτεκτονικής και χτισίματος. \nΣάββατο αναχώρηση το απόγευμα για την Καλαμάτα ή για το χωριό Σωτηριάνικα όπου η διανυκτέρευση με υπνόσακο και κάριματ\, φιλοξενούμενοι ΕΟΣ Καλαμάτας ή του πολιτιστικού συλλόγου Σωτηριάνικων \nΚυριακή: εθελοντική εργασία των μελών των τριών συλλόγων στον Μπίλιοβο. Θα ακολουθήσει κέρασμα από  τον κ.Σπύρο Κλείδωνα\, παλιο δήμαρχο των Ατομυρών  \nΟ ΕΠΟΣ ΦΥΛΗΣ θα ενισχύσει οικονομικά την δραστηριότητα συμβάλοντας στο κόστος καυσίμων των εθελοντών ανά Ι.Χ. με 4 άτομα με το ποσό των 30€ \nΑπαραίτητη η κράτηση στο γραφέιο του συλλόγου. \nΣυντονιστές: Μέλη του Δ.Σ. \nΔΕΛΤΙΟ ΤΥΠΟΥ \nΚοινή δράση ΕΠΟΣ ΦΥΛΗΣ – Ε.Ο.Σ. ΚΑΛΑΜΑΤΑΣ – ΠΟΛΙΤΙΣΤΙΚΟΥ ΣΥΛΛΟΓΟΥ ΣΩΤΗΡΙΑΝΙΚΩΝ ¨Ο ΜΠΙΛΙΟΒΟΣ¨ : με την υποστήριξη της ΕΟΟΑ. \n  \nΈνα από τα ωραιότερα καλντερίμια στον Ελληνικό χώρο και ένα απότα σημαντικότερα μνημεία αυτού του είδους είναι το Μπίλιοβο. Βρίσκεται στοόρος Καλάθι δίπλα στην Καλαμάτα\, συνδέει τα χωριά Σωτηριάνικα μεΑλτομυρά και σε μεγάλο του τμήμα περνάει μέσα από δάσος\, ενώταυτόχρονα σκαρφαλώνει στη βραχώδη πλαγιά του βουνού. Επίσης είναιχαρακτηρισμένο ως μνημείο από το Υπουργείο Πολιτισμού.Σε μια προσπάθεια ανάδειξης αλλά και διάσωσης της σημαντικήςαυτής διαδρομής και μνημείου\, οι ορειβατικοί σύλλογοι ΕΠΟΣ Φυλής\, Ε.Ο.Σ.Καλαμάτας καθώς και ο πολιτιστικός σύλλογος Σωτηριανίκων ¨Ο Μπίλιοβος¨σε συνεργασία με την Ε.Ο.Ο.Α. απευθύνουν κάλεσμα για εθελοντικόκαθαρισμό του μονοπατιού – καλντεριμιού. Οι συμμετέχοντες\, πέρα από τηνεπαφή με την όμορφη αυτή περιοχή\, θα έχουν την ευκαιρία της προσφοράςστην φύση\, τον πολιτισμό και την ιστορία καθώς και της βίωσης μιαςμοναδικής εμπειρίας ομαδικότητας και φιλοξενίας.Με την υποστήριξη της Ελληνικής Ομοσπονδίας Ορειβασίας καιΑναρρίχησης δίνεται η δυνατότητα στους συλλόγους που την αποτελούν νααναλάβουν δράση\, από κοινού\, σε αυτό το τόσο σοβαρό θέμα που είναι ηδιάνοιξη\, καθαρισμός και ανάδειξη των μονοπατιών μας. Θα είναι μια ευκαιρίαγια συνεργασία\, ανταλλαγή πρακτικών και εμπειριών.Σε αυτή τη δράση θα υπάρχει η πολύτιμη αρωγή του πολιτιστικούσυλλόγου Σωτηριανίκων όπου θα φιλοξενήσει και θα υποστηρίξει τηνεκδήλωση και γενικότερα θεωρούμε απαραίτητη και σημαντική τη συμμετοχήτων τοπικών κοινοτήτων στο θέμα συντήρησης των μονοπατιών.Για όσους το επιθυμούν θα υπάρχει δυνατότητα κατασκήνωσης –διανυκτέρευσης το βράδυ του Σαββάτου (ή και της Κυριακής) στο δημοτικόσχολείο Σωτηριανίκων και στο χώρο των εντευκτηρίων του Ε.Ο.Σ. Καλαμάτας.Μετά το πέρας των εργασιών θα ακολουθήσει γεύμα και ορειβατικόγλέντι στο δημοτικό σχολείο Σωτηριανίκων ευγενική προσφορά τουπολιτιστικού συλλόγου Σωτηριανίκων και του Ε.Ο.Σ. Καλαμάτας.Όσοι ενδιαφέρονται και θέλουν να βοηθήσουν από την Αθήνα\,μπορούν δηλώσουν συμμετοχή στον Ε.Π.Ο.Σ. Φυλής τηλ.210-2411148(καθημερινά 16:30-21:00) για να συνταξιδέψουν με Ι.Χ. δίνοντας με την πράξητους αυτή ιδιαίτερη βαρύτητα στη διάσωση αυτού του μνημείου τηςπαραδοσιακής μας κληρονομιάς. Ο ΕΠΟΣ ΦΥΛΗΣ επιδοτεί κάθε Ι.Χ. με 4άτομα/μέλη του με 30€ συμβάλλοντας στα έξοδα μετακίνησης των εθελοντών.Θα διαθέσει ανάλογο αριθμό εργαλείων η χρήση των οποίων μπορεί να γίνεικαι από αρχάριους εθελοντές. Προτείνεται αναχώρηση Σάββατο μεσημέρι \nώστε το πρωί της Κυριακής να αφιερωθεί εξ ολοκλήρου στη εθελοντικήεργασία.Όσοι ενδιαφέρονται να συμμετέχουν από την περιοχήδραστηριοποίησης του Ε.Ο.Σ. ΚΑΛΑΜΑΤΑΣ πρέπει να δηλώσουν συμμετοχήστο συντονιστή Κώστα Κωνσταντόπουλο (τηλ. 6942233010).Αναχώρηση: από τα  εντευκτήρια του Ε.Ο.Σ. ΚΑΛΑΜΑΤΑΣ την Κυριακή11/05/2025 και ώρα 7:00 π.μ. \nΠληροφορίες για το Μπίλιοβο:Μια από τις ομορφότερες γωνιές της Μεσσηνίας είναι το περίφημο«Μπίλιοβο»\, το λιθόστρωτο καλντερίμι που συνδέει τα χωριά Σωτηριάνικα καιΑλτομιρά. Χωρίς καμία διάθεση τοπικισμού και έχοντας περπατήσει σταπερισσότερα βουνά της Ελλάδας θα το κατατάσσαμε ανάμεσα στα καλύτερακαλντερίμια στον Ελλαδικό χώρο.Το σωζόμενο σήμερα τμήμα του έχει μήκος 3000μ και με 83 στροφές (από τις οποίεςοι 78 είναι 180) ανεβαίνει από τα Σωτηριάνικα (υψ. 300μ) στα Αλτομιρά (υψ. 800μ)καλύπτοντας μια υψομετρική διαφορά 500μ. Τα στοιχεία αυτά έχουν προκύψει μετάαπό επιμέτρηση που έκανε ο ΕΟΣ ΚΑΛΑΜΑΤΑΣ. Το καλντερίμι σε ορισμένατμήματα αναρριχάται πάνω στο βράχο και κατά το μεγαλύτερό του τμήμα κινείταιπαράλληλα και μέσα σε ρέμα μεγάλης κλίσης. Μετά τα πρώτα 500μ κινείται μέσα σεδάσος και όσο το υψόμετρο αυξάνεται η θέα που απολαμβάνει ο πεζοπόρος προς ταχωριά της Μάνης και τον Μεσσηνιακό κόλπο γίνεται ακόμη ποιο εντυπωσιακή.Αποτελεί τμήμα ενός μεγάλου δικτύου καλντεριμιών και μονοπατιών πουχρησιμοποιούνταν μέχρι και τα μέσα του 20ου αιώνα για την επικοινωνία των χωριώντης Μάνης και του Ταϋγέτου.Η κατασκευή του ξεκίνησε το 1904 και όποιος γνωρίζει από πέτρα θα το χαρακτήριζεως σημαντικό επίτευγμα της λαϊκής τεχνικής και αρχιτεκτονικής. Τριάντα 30 από τιςστροφές του είναι κατασκευασμένες σε κλίση εδάφους πάνω από 80%. Από τις λίγεςπληροφορίες που συγκεντρώσαμε βρίσκουμε ότι την χάραξη των 40 στροφών έκανε οΜηχανικός της εποχής εκείνης Παναγιώτης Αφεντάκης ενώ την κατασκευή είχαναναλάβει τα αδέλφια Νικόλαος και Στασινός Σταυριανέας από τα Σωτηριάνικα.Εργάσθηκαν πολλοί άνθρωποι από τα γύρω χωριά και κυρίως από τα Αλτομιρά πουείχαν μαστόρους γνωστούς στο λάξευμα της πέτρας. Η πέτρα ήταν το βασικό δομικόυλικό και χρησιμοποιήθηκε τόσο για το χτίσιμο των τοίχων αντιστήριξης (που σεορισμένα σημεία ξεπερνά τα 6 μέτρα) όσο και για το στρώσιμο του δρόμου. Ταεργαλεία που χρησιμοποιήθηκαν για το λάξευμά της ήταν το σφυρί και το καλέμι. Τουπόλοιπο τμήμα της δεν δόθηκε σε εργολάβο. Κατασκευάστηκε με προσωπικήεργασία των κατοίκων των Αλτομιρών. Από μια ημερομηνία που βρίσκουμεσκαλισμένη σε μια πέτρα συμπεραίνουμε πως το έργο τελείωσε το 1928. Ορειβατικοίσύλλογοι πεζοπορούν συχνά στο Μπίλιοβο στα πλαίσια των εξορμήσεών τους. ΟΕΟΣ Καλαμάτας επισκέπτεται συχνά το Μπίλιοβο προσπαθώντας να καταγράψει τιςφθορές που έχει αφήσει ο χρόνος και ο άνθρωπος. Θα καταβάλει προσπάθειες νακινητοποιήσει φορείς της Πολιτείας για την αναδόμηση δύο τμημάτων του που \nυποχώρησαν πρόσφατα. Για συνεχείς χρονιές στο παρελθόν έχει οργανώσειπεζοπορίες με τη συμμετοχή ορειβατικών\, φυσιολατρικών και πεζοπορικώνσυλλόγων από όλη την Ελλάδα Ο θαυμασμός όλων ήταν μεγάλος και από πολλούςεκφράστηκε η απορία πως γίνεται ένα τέτοιο μνημείο να είναι άγνωστο στο ευρύκοινό. \n\n\n\n\n\n\n\n\n 
URL:https://eposfilis.gr/event/%ce%bc%cf%80%ce%af%ce%bb%ce%b9%ce%bf%ce%b2%ce%bf%cf%82-%ce%ad%ce%bd%ce%b1-%ce%ba%ce%b1%ce%bb%ce%bd%cf%84%ce%b5%cf%81%ce%af%ce%bc%ce%b9-%ce%b5%ce%bc%ce%b2%ce%bb%ce%b7%ce%bc%ce%b1%cf%84%ce%b9%ce%ba-2/
CATEGORIES:Ημερολόγιο
ATTACH;FMTTYPE=image/jpeg:https://eposfilis.gr/wp-content/uploads/2024/12/BILIOVOS.jpg
END:VEVENT
BEGIN:VEVENT
DTSTART;TZID=Europe/Athens:20250517T100000
DTEND;TZID=Europe/Athens:20250518T233000
DTSTAMP:20260423T042412
CREATED:20241214T124317Z
LAST-MODIFIED:20241214T124317Z
UID:2964-1747476000-1747611000@eposfilis.gr
SUMMARY:Ερύμανθος: Μίχας – Ωλενός (2.223μ.) – Αλεποχώρι (διάσχιση). Καταρράκτες Γκρεμιστού και Ερυμάνθου.
DESCRIPTION:17-18/5 \nΕρύμανθος: Μίχας – Ωλενός (2.223μ.) – Αλεποχώρι (διάσχιση). Καταρράκτες Γκρεμιστού και Ερυμάνθου. \nΟι εύκολες πορείες προτείνονται για αρχάριους. \nΣάββατο: Αναχώρηση στις 7.00 για το χωριό Μίχα Αχαίας. Δύσκολη πορεία: Ανάβαση από Μίχα (900μ.) προς Λάπατα. Συνεχίζοντας νοτιοδυτικά προς την Μουγγίλα το μονοπάτι φτάνει στο οροπέδιο (1.850μ.) κάτω από την κορυφή Ωλενός. Εδώ είναι το πιο κατάλληλο μέρος για κατασκήνωση απολαμβάνοντας ένα πανέμορφο τοπίο. Απαραίτητος χειμερινός εξοπλισμός κατασκήνωσης (πολύ χαμηλές θερμοκρασίες). Πέντε – έξι άτομα μπορούν να διανυκτερεύσουν μέσα στο μαντρί με χειμερινό υπνόσακο και υπόστρωμα. Υπάρχουν πηγές στα 1.600μ. Ω.Π.: 6\, Υ.Δ.: +900\, Β.Δ.: 2+. Εύκολη πορεία: Πεζοπορία από το Μίχα (900μ.) ακολουθώντας ανηφορικό μονοπάτι μέχρι το πρώτο διάσελο (1.460μ.) με ωραία θέα προς την κορυφή Ωλενός\, και ανάβαση σε κοντινό ύψωμα  (1.500μ.) με θέα στο Καλιφώνι. Επιστρέφουμε στο μονοπάτι\, προσπερνούμε μια βρύση και κατηφορίζουμε προς στάνη στην θέση Λάπατα. Από εκεί στη βάση του Καταρράκτη Γκρεμιστός και μετά επιστρέφουμε από χωματόδρομο στο Μίχα (κυκλική πορεία) Ω.Π.: 5.30\, Υ.Δ.: 600\, Β.Δ.: 1+ (7χλμ.). Διανυκτέρευση στον Μίχα σε ξενώνα ή σκηνές. \nΚυριακή: Δύσκολη πορεία: Ανάβαση (προαιρετική) στην κορυφή Ωλενός (2.223μ.) και επιστροφή στο διάσελο (της κατασκήνωσης) από την ίδια διαδρομή. Από το διάσελο\, κατάβαση προς Αλεποχώρι (700μ.) μέσω της θέσης Ξαρχίτικα μέσα από ένα πολύ όμορφο μονοπάτι με εναλλαγές πεδίου και θέα στην κόψη του Προφήτη Ηλία και τον κάμπο του Ερυμάνθου (διάσχιση). Ω.Π.: 7-8\, Υ.Δ.: +375\, -1.423\, Β.Δ.: 3+.  Εύκολη Πορεία: Πεζοπορία από το χωριό Σπαρτιά (Γρεβενό) (750μ.) στους καταρράκτες του Ερύμανθου μέχρι τα ερείπια της Μονής Ταξιαρχών (1.000μ.). Το Μοναστήρι χτίστηκε το 1.700 κατά την διάρκεια της Τουρκοκρατίας και σήμερα έχει μεταφερθεί στην περιοχή του Αγίου Αντωνίου Ω.Π.: 5-5.30\, Υ.Δ.: 250\, Β.Δ.: 1 \nΣυντονιστές για τη δύσκολη διαδρομή: Στέφανος Ραζακιάς & Άρης Ζαφειρόπουλος   \nΣυντονιστής για την εύκολη διαδρομή: Άλκης Φέτσης 
URL:https://eposfilis.gr/event/%ce%b5%cf%81%cf%8d%ce%bc%ce%b1%ce%bd%ce%b8%ce%bf%cf%82-%ce%bc%ce%af%cf%87%ce%b1%cf%82-%cf%89%ce%bb%ce%b5%ce%bd%cf%8c%cf%82-2-223%ce%bc-%ce%b1%ce%bb%ce%b5%cf%80%ce%bf%cf%87-4/
CATEGORIES:Ημερολόγιο
END:VEVENT
BEGIN:VEVENT
DTSTART;TZID=Europe/Athens:20250525T100000
DTEND;TZID=Europe/Athens:20250526T000000
DTSTAMP:20260423T042412
CREATED:20241214T124500Z
LAST-MODIFIED:20241214T124500Z
UID:2965-1748167200-1748217600@eposfilis.gr
SUMMARY:Ηλεία: Κουφόπουλο
DESCRIPTION:25/5 \nΗλεία: Κουφόπουλο  \nΑναχώρηση 07:00 για Ανδρίτσαινα και στη συνέχεια για το χωριό Κουφόπουλο Ηλείας απ΄όπου αρχίζει η πεζοπορία μας. Κινούμαστε  κατηφορικά στο παλιό  καλντερίμι\, μέσα  από  το   πετρόχτιστο  χωριό. Φτάνουμε στο μονοπάτι που είναι σκεπασμένο από καστανιές\, δρυς και πλατάνια. Διασχίζουμε μονοπάτι δίπλα από  το Φαναριώτικο ρέμα όπου το χειμώνα δημιουργεί μικρούς καταρράκτες και κολυμπήθρες. Μετά από  1+ ώρα  φτάνουμε  στην θέση Σταμνιά.  Ακολουθούμε  πορεία δεξιά  για 500 μέτρα μέχρι το εκκλησάκι της Παναγίας. Το εκκλησάκι της Παναγίας κατακλύζεται από πλατάνια και άφθονα νερά που τροφοδοτούνται από το ρέμα. Στην συνέχεια\, μπαίνουμε σε δάσος με καστανιές. Προς τέλος της διαδρομής περνάμε μέσα από γιδόστρατες και καταλήγουμε στην αρχή του  μονοπατιού μας (κυκλική διαδρομή) Ω.Π.: 4\, Υ.Δ.: 200\, Β.Δ.: 1 (10χλμ.)   \nΣυντονιστής: Θοδωρής Ριζόπουλος
URL:https://eposfilis.gr/event/%ce%b7%ce%bb%ce%b5%ce%af%ce%b1-%ce%ba%ce%bf%cf%85%cf%86%cf%8c%cf%80%ce%bf%cf%85%ce%bb%ce%bf-2/
CATEGORIES:Ημερολόγιο
END:VEVENT
END:VCALENDAR