BEGIN:VCALENDAR
VERSION:2.0
PRODID:-//Ε.Π.Ο.Σ. ΦΥΛΗΣ - ECPv6.15.18//NONSGML v1.0//EN
CALSCALE:GREGORIAN
METHOD:PUBLISH
X-WR-CALNAME:Ε.Π.Ο.Σ. ΦΥΛΗΣ
X-ORIGINAL-URL:https://eposfilis.gr
X-WR-CALDESC:Events for Ε.Π.Ο.Σ. ΦΥΛΗΣ
REFRESH-INTERVAL;VALUE=DURATION:PT1H
X-Robots-Tag:noindex
X-PUBLISHED-TTL:PT1H
BEGIN:VTIMEZONE
TZID:Europe/Athens
BEGIN:DAYLIGHT
TZOFFSETFROM:+0200
TZOFFSETTO:+0300
TZNAME:EEST
DTSTART:20240331T010000
END:DAYLIGHT
BEGIN:STANDARD
TZOFFSETFROM:+0300
TZOFFSETTO:+0200
TZNAME:EET
DTSTART:20241027T010000
END:STANDARD
BEGIN:DAYLIGHT
TZOFFSETFROM:+0200
TZOFFSETTO:+0300
TZNAME:EEST
DTSTART:20250330T010000
END:DAYLIGHT
BEGIN:STANDARD
TZOFFSETFROM:+0300
TZOFFSETTO:+0200
TZNAME:EET
DTSTART:20251026T010000
END:STANDARD
BEGIN:DAYLIGHT
TZOFFSETFROM:+0200
TZOFFSETTO:+0300
TZNAME:EEST
DTSTART:20260329T010000
END:DAYLIGHT
BEGIN:STANDARD
TZOFFSETFROM:+0300
TZOFFSETTO:+0200
TZNAME:EET
DTSTART:20261025T010000
END:STANDARD
END:VTIMEZONE
BEGIN:VEVENT
DTSTART;TZID=Europe/Athens:20250601T113000
DTEND;TZID=Europe/Athens:20250602T000000
DTSTAMP:20260423T022427
CREATED:20241214T124914Z
LAST-MODIFIED:20241214T124914Z
UID:2966-1748777400-1748822400@eposfilis.gr
SUMMARY:Αττική: Αυλάκι Μεσογαίας στο Πόρτο Ράφτη.  Λόφος Κορώνης  -  Ύψωμα Μαυρονέρι (Τσουργέλι)
DESCRIPTION:1/6 \nΑττική: Αυλάκι Μεσογαίας στο Πόρτο Ράφτη.  Λόφος Κορώνης  –  Ύψωμα Μαυρονέρι (Τσουργέλι)                                \n Μια καλοκαιρινή δροσερή εύκολη πεζοπορία και κολύμπι σε πανέμορφες παραλίες \nΣυνάντηση στις 08:30 στην πλαζ Αυλάκι στο Πόρτο Ράφτη (δημοτικό πάρκινγκ). Η μετακίνηση μπορεί να γίνει μεμονωμένα με το ΚΤΕΛ από το Πεδίο του Άρεως ή με Ι.Χ.   Η πεζοπορία μας ανηφορίζει στο λόφο Κορώνης απ΄όπου υπέροχη θέα στη θάλασσα και σε στη γη της Μεσογαίας όπου και αραιά διάσπαρτα  τμήματα τειχών από αρχαίες  οχυρώσεις  πιθανότατα από τον Χρεμωνίδειο πόλεμο (268-261π.Χ.). Θα θαυμάσουμε τη θέα προς την παραλία «Ερωτοσπηλια»\, τις νησίδες Ράφτη\,  Ραφτοπουλα και Πράσο. Κατηφορίζουμε πεζοπορώντας δίπλα στη θάλασσα\, στη  συνέχεια ανηφορίζουμε  στο ύψωμα Μαυρονέρι\, με  όμορφη θέα.  Η άκρη προς το Αιγαίο της λοφοσειράς της Μαυρηνόρας (Μαυροβούνι) λέγεται Τσουργέλι. Πέφτει σχεδόν κάθετα στη θάλασσα\, και έχει μία ορθοπλαγιά  (120μ.) όπου πρωτο έγιναν αναρριχήσεις από την Ομάδα Αναρριχητών το 1948-49\, ενώ αργότερα\, από το 1962 και μετά\, αναρριχητές διαφόρων συλλόγων το χρησιμοποίησαν για την εξάσκησή τους στο βράχο (πηγές: Ν. Νέζης\, «Τα βουνά της Αττικής»). Η σύντομη πεζοπορία μας θα επιστρέψει στην παραλία Αυλάκι όπου κολύμπι κατά …βούληση. Ω.Π.:4.30 – 5\,  Υ.Δ.: 220\, Β.Δ.: 1+ (10χλμ.) \nΑπαραίτητη η κράτηση θέσεων στο τηλέφωνο του συλλόγου.  \nΣυντονίστρια: Φωτεινή Χριστοπούλου   \n 
URL:https://eposfilis.gr/event/%ce%b1%cf%84%cf%84%ce%b9%ce%ba%ce%ae-%ce%b1%cf%85%ce%bb%ce%ac%ce%ba%ce%b9-%ce%ba%ce%b1%ce%ba%ce%b9%ce%ac-%ce%b8%ce%ac%ce%bb%ce%b1%cf%83%cf%83%ce%b1-%ce%ba%ce%bf%ce%bb%cf%8d%ce%bc%cf%80%ce%b9-2/
CATEGORIES:Ημερολόγιο
ATTACH;FMTTYPE=image/jpeg:https://eposfilis.gr/wp-content/uploads/2024/12/paralia-Avlaki.jpg
END:VEVENT
BEGIN:VEVENT
DTSTART;TZID=Europe/Athens:20250606T180000
DTEND;TZID=Europe/Athens:20250610T010000
DTSTAMP:20260423T022427
CREATED:20241214T125044Z
LAST-MODIFIED:20241214T125044Z
UID:2967-1749232800-1749517200@eposfilis.gr
SUMMARY:Σμολικας
DESCRIPTION:6-9/6  Αγίου Πνεύματος\nΉπειρος: Σμόλικας: Γέρος (2.631μ.) Δρακόλιμνη (διάσχιση)\, Κλέφτης (1.947μ.). Γράμμος: Κάμενικ (2.080μ.). Via Ferrata στον Αώο. Παραποτάμια πεζοπορία στον Βοϊδομάτη. «Πέτρινα» χωριά της Ηπείρου: Πυρσόγιαννη\, Πουρνιά\, Μοναστήρι.\n  \nΈνα τετραήμερο στους θρυλικούς ορεινούς όγκους του Σμόλικα και του Γράμμου\, με via ferrata στον Αώο και παραποτάμια πεζοπορία στο Βοϊδομάτη\, από την Αρίστη μέχρι την Κλειδωνιά. Αρχές καλοκαιριού στα καταπράσινα ηπειρώτικα τοπία… \n  \nΠαρασκευή: Αναχώρηση στις 16:00 για Πυρσόγιαννη (860μ.) όπου η διανυκτέρευση σε ξενώνα. \nΣάββατο: Επιλογή ανάμεσα σε πεζοπορία ή via ferrata: \nΚοινή πορεία: Μετακίνηση με το πούλμαν στο χωριο Αμάραντος Ιωαννίνων (850 μ.). Λίγο έξω από το χωριό\, στα Λουτρά Αμαράντου\, θα ξεκινήσει η ανηφορική μας πορεία για τη κορυφή Κάμενικ του Γράμμου\, στα σύνορα με Αλβανία. Ξεκινάμε τη διαδρομή από το χωματόδρομο και μετά από 1\,5 χλμ βρίσκουμε το ανηφορικό μονοπάτι\, το οποίο περνάει μέσα από δάσος κωνοφόρων και οξιάς. Περνάμε τη λάκκα και συνεχίζουμε μέχρι τα Ελληνοαλβανικά σύνορα όπου και κατευθυνόμαστε δυτικά για τη κορυφή Κάμενικ (2.080μ.). Επιστρέφουμε\, ακολουθώντας τα σύνορα προς τη κορυφή Γκόλιο (1.933μ.). Την προσπερνάμε και με ανατολική κατεύθυνση κατηφορίζουμε προς το χωριό Πυρσόγιαννη μέσα από πανέμορφο δάσος. Όποιος επιθυμεί μπορεί να παρακάμψει τις κορυφές για να μειώσει τα υψομετρικά της ανάβασης.  Ω.Π.: 6-7 ώρες\, Υ.Δ.: +1020 – 1450\, Β.Δ.: 2+ (19.8 χλμ.) \nΟμάδα Via Ferrata: Μετακίνηση με το πούλμαν στην Κόνιτσα και πεζοπορία 30’-40’ από το πέτρινο τοξωτό γεφύρι της Κόνιτσας προς την Μονή Στομίου όπου λίγο πριν την ανηφόρα\, αρχίζει η Via Ferrata. Η συναρπαστική διαδρομή διασχίζει τον Αώο με δύο διαδοχικές θιβετιανές γέφυρες μήκους 6-7μ. και 17μ. ισορροπώντας ο πεζοπόρος ασφαλισμένος πάνω σε σύρμα. Από εκεί η via ferrata συνεχίζει κατά μήκος του Αώου ανεβοκατεβαίνοντας σε σύρματα και σταθερά σχοινιά\, τραβερσάρει σε βράχο πάνω σε μεταλλικά σκαλιά σε σήμα Π και τελειώνει με τα απότομα και πιο εκτεθειμένα σημεία ασφαλισμένα σε σταθερό σχοινί. Στην τιμή συμπεριλαμβάνεται ο εξοπλισμός για τη via ferrata. Διάρκεια: 5-6 ώρες (ανάλογα τον αριθμό των συμμετεχόντων) Β.Δ.: 2+ \nΚυριακή: \nΟρειβατική ομάδα: Μετακίνηση με το πούλμαν στο χωριό Σαμαρίνα (1220μ.)\, όπου και θα ξεκινήσει η πεζοπορία  με κατεύθυνση δυτικά προς την πρώτη κορυφή Μπογδάνι (2.216μ.). Στη συνέχεια\, περνάμε λίγο πιο κάτω τις Μόσια-1  (2.530μ.).και Μόσια-2  (2.578μ.). και συνεχίζοντας μέσω του Λαιμού για την κορυφή Γέρος (2.631μ.). Μετά τη κορυφή θα συνεχίσουμε δυτικά προς την μοναδική  Δρακόλιμνη. Από εκεί και με κατεύθυνση βόρεια κατευθυνόμαστε προς τον τελικό μας προορισμό το χωριό της  Αγ.Παρασκευής ή Κεράσοβο  (960μ.) Ω.Π.: 10-11\, Υ.Δ.: +1350 – 1770\, Β.Δ.: 3+ (21 χλμ.) \nΠεζοπορική ομάδα: Μετακίνηση με το πούλμαν στο χωριό Πουρνιά (890μ.) Πεζοπορία από μονοπάτι και χωματόδρομο μέσα σε πυκνό δάσος με κωνοφόρα & οξιές στις πλαγιές του όρους Κλέφτης ανάμεσα σε ξωκλήσια και θέα στις καταπράσινες γύρω πλαγιές. Ανάβαση μέχρι τη θέση Φλιαρόστανη (1.400μ.) ή όποιοι επιθυμούν\, μέχρι την κορυφή Κλέφτης (1.847μ.) (πεζοπορίες ανάλογα με τις δυνατότητες της ομάδας) Ω.Π.: 4 ή 6\, Υ.Δ.: 510 ή 890\, Β.Δ.: 1 ή 2  (13.5 χλμ.) \nΔευτέρα Αγίου Πνεύματος: Κοινή πορεία: Μετακίνηση με το πούλμαν στον ΄Αγιο Μηνά καθ΄οδόν προς την Αρίστη\, απ’ όπου και θα ξεκινήσει κατηφορικό μονοπάτι για τη γέφυρα της Αρίστης και στη συνέχεια πεζοπορία σε παραποτάμιο μονοπάτι δίπλα στις όχθες του Βοϊδομάτη ποταμού. Εντυπωσιακή πανέμορφη διαδρομή με ενδιάμεση στάση στο μοναστήρι των Αγίων Αναργύρων και κατάληξη στην γέφυρα της Κλειδωνιάς Ω.Π.: 3-4\, Υ.Δ.: +50 – 250\, Β.Δ.: 1 (8\,8χλμ.) \nΣυντονιστές: Σωτήρης Τοπάλογλου και ενα μελος του Δ.Σ. \n  \n 
URL:https://eposfilis.gr/event/%ce%b3%cf%81%ce%ac%ce%bc%ce%bc%ce%bf%cf%82-2/
CATEGORIES:Ημερολόγιο
ATTACH;FMTTYPE=image/jpeg:https://eposfilis.gr/wp-content/uploads/2024/12/IMG_20210529_142140-scaled-1.jpg
END:VEVENT
BEGIN:VEVENT
DTSTART;TZID=Europe/Athens:20250615T094500
DTEND;TZID=Europe/Athens:20250616T000000
DTSTAMP:20260423T022427
CREATED:20241228T194828Z
LAST-MODIFIED:20241228T194828Z
UID:2975-1749980700-1750032000@eposfilis.gr
SUMMARY:Αίγινα: Μονοπάτια πολιτισμού (1-3): Ανιτσαίο. Αρχαίος Ελαιώνας. Δρακόσπιτο. Σουβάλα. παραλία Μαραθώνα.
DESCRIPTION:15/6 \nΑίγινα: Μονοπάτια πολιτισμού (1-3): Ανιτσαίο. Αρχαίος Ελαιώνας. Δρακόσπιτο. Σουβάλα. παραλία Μαραθώνα.  \nΣυνάντηση στην Πύλη Ε8 στις 07:00 και αναχώρηση από το λιμάνι του Πειραιά στις 08:00 με το Apollon Hellas. Άφιξη στο λιμάνι της Αίγινας και μεταφορά με πούλμαν στο χωριό Ανίτσαιο. Εκεί λίγο πριν το χωριό θα ξεκινήσει και η πεζοπορία μας στο μονοπάτι 1. Ξεκινώντας από τον Ναό των Ταξιαρχών που είναι χτισμένος επάνω στα ερείπια του Αρχαίου Ναού του Ελλάνιου Διός. Ανηφορίζουμε σε μονοπάτι με χαμηλή βλάστηση προς την κορυφή του Ελλάνιου όρους (531μ.) όπου βρίσκεται το εκκλησάκι της ανάληψης και ο αρχαίος βωμός του Ελλάνιου Δία. Κατηφορίζοντας  από την κορυφή συνεχίζουμε το μονοπάτι Νο 1 με ωραία θέα ως το χωριό Πέρδικα  και τον Αργοσαρωνικό. Η διαδρομή συνεχίζεται έως το Δρακόσπιτο με την μεγάλη σουβάλα που συναντάμε το μονοπάτι 2 από το Σφεντούρι. Ακολουθούμε το μονοπάτι και συναντάμε τον αρχαίο ελαιώνα του νησιού με τις υπεραιωνόβιες ελιές ηλικίας 1500 ετών\, ενώ στην συνέχεια το μονοπάτι κατηφορίζει προς την παραλία του Μαραθώνα Ω. Π.: 4.30-5\, Υ.Δ.: +310\, -500\, Β.Δ.:1 (8χλμ.). Επίσης\, εκεί θα υπάρξει χρόνος για κολύμπι και φαγητό. Κατόπιν\, πούλμαν θα μας μεταφέρει στο λιμάνι της Αίγινας. Αναχώρηση προς Πειραιά στις 21:15. \n Θα χρειαστούμε αρκετό νερό (δεν υπάρχει η δυνατότητα ανεφοδιασμού στην διαδρομή)\, καπέλο και snack για την πεζοπορία \nΣυντονιστές: Θοδωρής Ριζόπουλος
URL:https://eposfilis.gr/event/%ce%b1%ce%af%ce%b3%ce%b9%ce%bd%ce%b1-%ce%bc%ce%bf%ce%bd%ce%bf%cf%80%ce%ac%cf%84%ce%b9%ce%b1-%cf%80%ce%bf%ce%bb%ce%b9%cf%84%ce%b9%cf%83%ce%bc%ce%bf%cf%8d-1-3-%ce%b1%ce%bd%ce%b9%cf%84%cf%83%ce%b1-2/
CATEGORIES:Ημερολόγιο
ATTACH;FMTTYPE=image/jpeg:https://eposfilis.gr/wp-content/uploads/2024/12/20170917_145732-scaled-1.jpg
END:VEVENT
BEGIN:VEVENT
DTSTART;TZID=Europe/Athens:20250620T210000
DTEND;TZID=Europe/Athens:20250623T000000
DTSTAMP:20260423T022427
CREATED:20241214T130454Z
LAST-MODIFIED:20241214T130454Z
UID:2968-1750453200-1750636800@eposfilis.gr
SUMMARY:Αιτωλία: Μελιός (1.550μ.)\, παραλίμνια πεζοπορία & κολύμπι στη Λίμνη Τριχωνίδα.  Γεφύρι Αρτοτίβας\, "καρέλι". Εύηνος ποταμός\,
DESCRIPTION:20-22/6 \nΑιτωλία: Μελιός (1.550μ.)\, παραλίμνια πεζοπορία & κολύμπι στη Λίμνη Τριχωνίδα.  Γεφύρι Αρτοτίβας\, “καρέλι”. Εύηνος ποταμός\,  \nΤο γεφύρι της Αρτοτίβας είναι κατασκευασμένο κατά την Α΄ Ενετοκρατία (1407-1499) κι είναι από τα παλιότερα στην Ελλάδα\, χαρακτηρισμένο ιστορικό διατηρητέο μνημείο. Το γεφύρι είναι μονότοξο\, λιθόκτιστο με ασβεστοκονίαμα. με άνοιγμα τόξου 23\,65 μ.\, συνολικό μήκος 42 μ. από την κοίτη έως το εσωράχιο ύψος ανέρχεται σε 10\,40 μ.. Από αυτό το γεφύρι πέρασαν οι ελεύθεροι πολιορκημένοι του Μεσολογγίου στις 10 Απριλίου 1826  \n  \nΠαρασκευή: Αναχώρηση 18:00 για Θέρμο όπου όλες οι διανυκτερεύσεις σε ξενώνα ή σε δημοτικό καταφύγιο με κουκέτες. \nΣάββατο: Ομάδα δύσκολης πορείας: Από το χωριό Δρυμώνας (882μ.) αρχίζει η πεζοπορία μας σε μονοπάτι μέσα σε πυκνό ελατόδασος μέχρι το πλάτωμα Σάπιο Νερό όπου και χώρος αστροπαρατήρησης κάθε 3 χρόνια. Η διαδρομή συνεχίζει για το Κόκκινα διάσελο\, μετά για τη Βρύση Αλεξανδρή\, το Χαλαμπρέζι – κατάβαση στο Κάρμα – ανάβαση στα Κλέφτικα Γιατάκια κι από εκεί κινούμαστε σε αλπικό πεδίο πλέον μέχρι την κορυφή Μελιός (1.550μ.). Η θέα είναι πανοραμική προς τον Κατελάνο\, Βαρδούσια\, Ερύμανθος\, Χελμός\, Ζήρεια οι λίμνες Τριχωνίδα \, Λυσιμαχία και ο Εύηνος ποταμός. Η πεζοπορία μας ολοκληρώνεται στο Δρυμώνα (κυκλική) Ω.Π:.7:30 – 8\, Υ.Δ:+ 920 – 814\, Β.Δ:.2 (18 χλμ. ) \nΟμάδα εύκολης πορείας: Λίμνη Τριχωνίδα: Είναι η μεγαλύτερη\, καθαρότερη και ομορφότερη λίμνη της Ελλάδας\,  “το Πέλαγος της Αιτωλίας”\, βρίσκεται νότια του Παναιτωλικού όρους  και προστατεύεται από το δίκτυο Natura 2000. Περιμετρικά της λίμνης\, σε μικρή απόσταση από την όχθη της\, είναι χτισμένα πάνω από 20 χωριά. Πεζοπορική διαδρομή σε παραλίμνιο χωματόδρομο στο μεγαλύτερο μέρος. Η πορεία μας αρχίζει από τα παλιά θερμά λουτρά Μυρτιάς και συνεχίζει μέχρι την εντυπωσιακή Ι.Μονή Φατμού\, παλιό ερειπωμένο μοναστήρι του 16ου αι.. Συνεχίζει μέχρι την εξαιρετική παραλία της λίμνης με τη βοτσαλωτή ακτή. Συνέχιση της πορείας μέχρι την επόμενη παραλία Λευκή Άμμος. Ω.Π:.3-4 \, Υ.Δ.:.25\, Β.Δ:.1 (9χλμ) Κολύμπι στην πανέμορφη παραλία της λίμνης\, « Άμμος»\, με την κατάλευκη αμμουδιά της! Επιβίβαση στο πούλμαν από τη θέση Σιταράλωνα και φαγητό σε  ταβερνάκι με μαγευτική θέα τη λίμνη. \nΚυριακή: Καρέλι Ευήνου – Μονότοξο γεφύρι Αρτοτίβας: \nΗ πεζοπορία μας αρχίζει από την Κάτω Χρυσοβίτσα (420μ.) από ωραίο σκιερό μονοπάτι μέχρι το πέτρινο τοξωτό γεφύρι της Αρτοτίβας στον Εύηνο το παλαιότερο του Ευήνου\, κατασκευασμένο τον 15ο αι. Μετά το γεφύρι\, ακολουθούμε παρόχθιο μονοπάτι από την αριστερή πλευρά του ποταμού. Περνάμε πάνω από πεζογέφυρα του παραπόταμου του Ευήνου\, τον Κότσαλο. Συνεχίζουμε στο ίδιο μονοπάτι μέχρι το πέρασμα «καρέλι» όπου περνάμε χρησιμοποιώντας το συρμάτινο «καρέλι»  στην απέναντι πλευρά του ποταμού. Η διαδρομή αυτή αποτελεί μέρος της διαδρομής που ακολούθησαν οι Μεσολογγίτες μετά την έξοδο του Μεσολογγίου κινούμενοι από την Ανάληψη προς τον Πλάτανο Ναυπακτίας. Γεύμα σε ταβερνάκι με θέα τον Εύηνο και στη συνέχεια πεζοπορία από χωματόδρομο (4χλμ.) μέχρι το ξωκλήσι Άγιος Αθανάσιος\,  Ω.Π:. 4\,30 – 5\, Υ.Δ.: +100 -250\, Β.Δ:.1+ (συνολικά 12\,2χλμ.) \nΣυντονιστές: Φωτεινή Χριστοπούλου & Ανδρέας Μπέσσας    \n\n\n\n\n\n\n\n\n 
URL:https://eposfilis.gr/event/%ce%b1%ce%b9%cf%84%cf%89%ce%bb%ce%af%ce%b1-%ce%bc%ce%b5%ce%bb%ce%b9%cf%8c%cf%82-1-550%ce%bc-%cf%80%ce%b1%cf%81%ce%b1%ce%bb%ce%af%ce%bc%ce%bd%ce%b9%ce%b1-%cf%80%ce%b5%ce%b6%ce%bf%cf%80%ce%bf%cf%81-2/
CATEGORIES:Ημερολόγιο
ATTACH;FMTTYPE=image/jpeg:https://eposfilis.gr/wp-content/uploads/2024/12/DSC0160.jpg
END:VEVENT
END:VCALENDAR