BEGIN:VCALENDAR
VERSION:2.0
PRODID:-//Ε.Π.Ο.Σ. ΦΥΛΗΣ - ECPv6.15.18//NONSGML v1.0//EN
CALSCALE:GREGORIAN
METHOD:PUBLISH
X-WR-CALNAME:Ε.Π.Ο.Σ. ΦΥΛΗΣ
X-ORIGINAL-URL:https://eposfilis.gr
X-WR-CALDESC:Events for Ε.Π.Ο.Σ. ΦΥΛΗΣ
REFRESH-INTERVAL;VALUE=DURATION:PT1H
X-Robots-Tag:noindex
X-PUBLISHED-TTL:PT1H
BEGIN:VTIMEZONE
TZID:Europe/Athens
BEGIN:DAYLIGHT
TZOFFSETFROM:+0200
TZOFFSETTO:+0300
TZNAME:EEST
DTSTART:20240331T010000
END:DAYLIGHT
BEGIN:STANDARD
TZOFFSETFROM:+0300
TZOFFSETTO:+0200
TZNAME:EET
DTSTART:20241027T010000
END:STANDARD
BEGIN:DAYLIGHT
TZOFFSETFROM:+0200
TZOFFSETTO:+0300
TZNAME:EEST
DTSTART:20250330T010000
END:DAYLIGHT
BEGIN:STANDARD
TZOFFSETFROM:+0300
TZOFFSETTO:+0200
TZNAME:EET
DTSTART:20251026T010000
END:STANDARD
BEGIN:DAYLIGHT
TZOFFSETFROM:+0200
TZOFFSETTO:+0300
TZNAME:EEST
DTSTART:20260329T010000
END:DAYLIGHT
BEGIN:STANDARD
TZOFFSETFROM:+0300
TZOFFSETTO:+0200
TZNAME:EET
DTSTART:20261025T010000
END:STANDARD
END:VTIMEZONE
BEGIN:VEVENT
DTSTART;TZID=Europe/Athens:20250827T160000
DTEND;TZID=Europe/Athens:20250902T230000
DTSTAMP:20260422T195735
CREATED:20250526T182124Z
LAST-MODIFIED:20250823T142200Z
UID:5436-1756310400-1756854000@eposfilis.gr
SUMMARY:Κάρπαθος η Ακριτική! Πεζοπορίες και μικρές διακοπές στο άσπιλο νησί.
DESCRIPTION:27/8 – 2/9/25 \nΚάρπαθος η Ακριτική! Πεζοπορίες και μικρές διακοπές στο άσπιλο νησί. \nΤετάρτη 27/8 \nΣυνάντηση στις 16:00 στην Πύλη ΧΧ  στο πλοίο ΧΧΧΧΧΧ (θα ανακοινωθούν σύντομα) και αναχώρηση στις 17:00  για Κάρπαθο. \nΠέμπτη 28/8 \nΆφιξη στις 10:30  στην Κάρπαθο. Τακτοποίηση στο ξενοδοχείο και μεταφορά με λεωφορείο στους Μενετές το μεγαλύτερο χωριό του νησιού με παραδοσιακή νησιώτικη αρχιτεκτονική  σε  νεοκλασικό ρυθμό\,  στενά δρομάκια και όμορφη θέα προς τα Πηγάδια. Πεζοπορία σε μονοπάτι προς τα Πηγάδια   Ω.Π.:3-4   Υ.Δ: -400μ. χλμ: 7\,5 Β.Δ:1. \nΠαρασκευή 29/8 \nΜεταφορά με σκάφος από τα Πηγάδια στην νήσο Σαρία. Το νησί είναι διάσπαρτο από αρχαία μνημεία\, ερείπια και υπολείμματα αρχαίων οικισμών. \nΠεζοπορία σε μονοπάτι ξεκινώντας από την παραλία στο νότιο τμήμα του νησιού έως την παραλία Παλάτια. Κολύμπι και επιστροφή.   Ω.Π.:3  Σ.Υ.Δ:510μ.  χλμ: 7\,2 Β.Δ:1+. \nΣτη θέση Παλάτια υπάρχουν παλαιοχριστιανικά και μεσαιωνικά κτίσματα\, ενώ ο ιδιόμορφος μεσαιωνικός οικισμός του 10ου αι. με τα παράξενα θολωτά κτίσματα\, που βρίσκεται στο λόφο πάνω από τα Παλάτια\, πιθανολογείται ότι ήταν αραβικός οικισμός ή ορμητήριο Σαρακηνών πειρατών. \nΣάββατο 30/8 \nΜεταφορά με πούλμαν στην Αυλώνα\, ένα μικρό παραδοσιακό αγροτικό οικισμό της βόρειας Καρπάθου\, από εκεί ξεκινάει λιθόστρωτο μονοπάτι για τον αρχαιολογικό χώρο της αρχαίας πόλης Βρουκούντας στον οποίο σώζονται δεκάδες λαξευτοί τάφοι\, ερείπια τειχών και οχυρώσεων καθώς και τμήματα των ελληνιστικών τειχών της και με το πανέμορφο υπόγειο εκκλησάκι του Αϊ Γιάννη. Επιστροφή στην Αυλώνα. Ω.Π.:3   Σ.Υ.Δ: 323μ. χλμ: 7\,4 Β.Δ:1. Συνέχιση της πεζοπορίας ή μεταφορά με λεωφορείο στην πανέμορφη  Όλυμπο   με τα ανεπανάληπτα δημιουργήματα νησιώτικης αρχιτεκτονικής\,  ένα ζωντανό  λαογραφικό μουσείο\, λόγω και της γεωγραφικής θέσης του χωριού\, οι κάτοικοι διατήρησαν τις παραδόσεις τους.  Ω.Π.: 1-.30  Υ.Δ: 149μ. Χλμ: 4\,5 Β.Δ:1 . \nΗ Όλυμπος ή Έλυμπος όπως αποκαλούν το χωριό της Καρπάθου οι ντόπιοι είναι ίσως η τελευταία μητριαρχική   κοινωνία σε όλη την Ευρώπη. Αυτή η διαφορετική μορφή της τοπικής κοινωνίας οφείλεται και στην μετανάστευση των ανδρών στο εξωτερικό. Είναι χαρακτηριστικό  πως η περιουσία\, που ανήκει στη γυναίκα του σπιτιού\, μεταβιβάζεται κάθε φορά στην μεγαλύτερη σε ηλικία κόρη και όχι στον γιο. \nΚυριακή 31/8 \nΜεταφορά με λεωφορείο στη Λάστο   όπου ξεκινάει η πεζοπορία για την ψηλότερη κορφή της Καρπάθου την Καλή Λίμνη(1215μ.)  με εκπληκτική  θέα όλης της Καρπάθου και τα νησιά του Αιγαίου  Κάσο\, Ρόδο\, Κρήτη  κλπ. Ω.Π.:3   Υ.Δ: 210μ. χλμ: 4\,4 Β.Δ:1. Επιστροφή  στην Λάστο και συνέχιση της πεζοπορίας ή μεταφορά με λεωφορείο στην  Βωλάδα\,  ένα χωριό  βυθισμένο στο πράσινο και γεμάτο από φυσικές πηγές\,  διατηρεί μερικά όμορφα δείγματα του Καρπαθιώτικου παραδοσιακού σπιτιού. Ω.Π.:2-2.5  Υ.Δ: 240μ. χλμ: 6\,7 Β.Δ:1. \nΔευτέρα 1/9 \nΜεταφορά με λεωφορείο στην Όλυμπο. Από εκεί πεζοπορία σε μονοπάτι προς τον Προφήτη Ηλία\,  με υπέροχη θέα προς την Όλυμπο και όλη την Κάρπαθο\, στη συνέχεια πεζοπορία προς στο γραφικό  παραθαλάσσιο οικισμό Διαφάνι για κολύμπι.  Όλυμπος-Προφ. Ηλίας-Δρόμος για Διαφάνι  Ω.Π.:2   Σ.Υ.Δ: 467μ. χλμ: 4\,5 Β.Δ:1.. Δρόμος για Διαφάνι-Διαφάνι  Ω.Π.: 2\,5-3  Υ.Δ: 350μ. χλμ: 6\,4 Β.Δ:1+. \n  \nΤρίτη 2/9  \nΕλεύθερη ημέρα για κολύμπι στις υπέροχες παραλίες της Καρπάθου με καραβάκι ή το ΚΤΕΛ. Αναχώρηση στις 20:00  για Πειραιά. \n  \nΤετάρτη 3/9 \nΆφιξη στις 09:30  στον Πειραιά. \n   \n 
URL:https://eposfilis.gr/event/%ce%ba%ce%ac%cf%81%cf%80%ce%b1%ce%b8%ce%bf%cf%82-%ce%b7-%ce%b1%ce%ba%cf%81%ce%b9%cf%84%ce%b9%ce%ba%ce%ae-%cf%80%ce%b5%ce%b6%ce%bf%cf%80%ce%bf%cf%81%ce%af%ce%b5%cf%82-%ce%ba%ce%b1%ce%b9-%ce%bc%ce%b9/
CATEGORIES:Ημερολόγιο
ATTACH;FMTTYPE=image/jpeg:https://eposfilis.gr/wp-content/uploads/2025/05/karpathos-kyra-panagia-02-opt.jpg
END:VEVENT
BEGIN:VEVENT
DTSTART;VALUE=DATE:20250906
DTEND;VALUE=DATE:20250907
DTSTAMP:20260422T195735
CREATED:20250819T123644Z
LAST-MODIFIED:20250819T135037Z
UID:6166-1757116800-1757203199@eposfilis.gr
SUMMARY:Εθελοντικός καθαρισμός μονοπατιών του 17ου ορεινού αγώνα «Αρμα Πάρνηθας»  & ορεινού ημαμαραθωνίου
DESCRIPTION:Εθελοντικός καθαρισμός μονοπατιών του 17ου ορεινού αγώνα «Αρμα Πάρνηθας»  & ορεινού ημαμαραθωνίου \n  \nΣυνάντηση στην πλατεία Δημαρχείου Χασιάς στις 08:30 και μετακίνηση με οχήματα μέχρι τις Πηγές Κρύας Φυλής για τον εθελοντικό καθαρισμό  τμηματικά μονοπατιών απ όπου θα περάσει η διαδρομής του  αγώνα δρόμου (Καστρίζα – πηγή Γκούρας – Ντράσιζα – Μαυρόρεμα – Μπόρσι – Ράχη Καραμανλή). Η συντήρηση των τμημάτων των μονοπατιών θα γίνει σταδιακά και σε ημερομηνίες που θα ανακοινώνονται κατά καιρούς. Ο καθαρισμός θα πραγματοποιηθεί  με ήπια μέσα (θαμνοκοπτικές ψαλίδες\, χειροπρίονα\, τσάπες\, τσουγκράνες κλπ.). Τυχόν ύπαρξη  οχήματος 4Χ4 θα διευκολύνει οργανωτικά την ομάδα. \nΕκτιμώμενος χρόνος εργασίας 4 ώρες. Ο Σύλλογος παρέχει τα εργαλεία κι οι εθελοντές πρέπει να έχουν γάντια εργασίας \nΗ συμμετοχή εθελοντών ανά τρεις εθελοντικούς καθαρισμούς\, δώρο μία μονοήμερη εξόρμηση  \nΑπαραίτητη η κράτηση στο σύλλογο
URL:https://eposfilis.gr/event/%ce%b5%ce%b8%ce%b5%ce%bb%ce%bf%ce%bd%cf%84%ce%b9%ce%ba%cf%8c%cf%82-%ce%ba%ce%b1%ce%b8%ce%b1%cf%81%ce%b9%cf%83%ce%bc%cf%8c%cf%82-%ce%bc%ce%bf%ce%bd%ce%bf%cf%80%ce%b1%cf%84%ce%b9%cf%8e%ce%bd-%cf%84/
CATEGORIES:Ημερολόγιο
ATTACH;FMTTYPE=image/jpeg:https://eposfilis.gr/wp-content/uploads/2018/02/Parnitha_8ba7b-392.jpg
END:VEVENT
BEGIN:VEVENT
DTSTART;TZID=Europe/Athens:20250912T160000
DTEND;TZID=Europe/Athens:20250914T210000
DTSTAMP:20260422T195735
CREATED:20250819T123453Z
LAST-MODIFIED:20250903T175226Z
UID:6164-1757692800-1757883600@eposfilis.gr
SUMMARY:Θεσπρωτία:  ποταμός Αχέροντας (διάσχιση). Νεκρομαντείο. εύκολο ράφτινγκ
DESCRIPTION:12-14/9  \nΘεσπρωτία:  ποταμός Αχέροντας (διάσχιση). Νεκρομαντείο. εύκολο ράφτινγκ  \nΣτην αρχαιότητα πίστευαν ότι τον Αχέροντα ποταμό διέπλεε ο «ψυχοπομπός» Ερμής παραδίδοντας τις ψυχές των νεκρών στον Χάροντα για να καταλήξουν στο βασίλειο του Άδη. Η κάθε ψυχή\, περνώντας από το πορθμείο του Χάροντα\, έπρεπε να πληρώσει τον οβολό της για τη μεταφορά. \n*H εύκολη πορεία προτείνεται για αρχάριους \nΠαρασκευή: Αναχώρηση  16:00 για το χωριό Γλυκή διανυκτέρευση  σε ξενώνα ή σε σκηνές. \nΣάββατο: Δύσκολη  πορεία: αναχώρηση οδικώς νωρίς το πρωί για το χωριό Τρίκαστρο. Έναρξη πορείας περνώντας από τα στενά του ποταμού γνωστά και ως «πύλες του Άδη» και πεζοπορία εναλλασσόμενη με κολύμπι. Διάσχιση μέσα και έξω από το ποτάμι σε μια διαδρομή γεμάτη παραποτάμια βλάστηση που πολλές φορές σκεπάζει το ποτάμι\, καθιστά τη διάσχιση των στενών του Αχέροντα μια εμπειρία μοναδική με κατάληξη στο χωριό Γλυκή  περνώντας και από τις πηγές του Αχέροντα (11χλμ.). Απαιτείται  γνώση κολύμβησης και αδιάβροχο σακίδιο. Ω.Π.: 8-9\, Β.Δ.: 2 \nΕύκολη πορεία: Πεζοπορία από τη Γλυκή σε μια εύκολη κυκλική διαδρομή με μεγάλες εναλλαγές με θέα τον Αχέροντα που κυλά ανάμεσα στους εντυπωσιακούς καθέτους βράχινους όγκους και την οργιαστική βλάστηση. Το μονοπάτι συνεχίζει στην  «Σκάλα Τζαβέλαινας» (Λέγεται ότι για να φτιαχτεί αυτό το τμήμα του μονοπατιού οι Σουλιώτισσες κρεμιόντουσαν με καλάθια από πάνω και λαξεύανε το βράχο)\, ανηφορίζει προς το δεύτερο ξύλινο παρατηρητήριο του Αχέροντα και από εκεί κατηφορίζει προς την κοίτη του ποταμού. Συνεχίζει σε εναλλασσόμενη διαδρομή ανάμεσα σε ποτάμι και  μονοπάτι\, με διάλλειμα για κολύμπι. Επιστροφή από τη γέφυρα του Ντάλα\,   και ανάμεσα από  πανύψηλα πλατάνια\, και δυνατότητα για κολύμπι ενδιάμεσα και περνώντας από τις πηγές του Αχέροντα\, καταλήγει  στη Γλυκή (κυκλική πορεία) Ω.Π.: 4-5\, Β.Δ.: 1 \nΕπίσκεψη στο Σούλι\, συνυφασμένο με τους αγώνες εναντίον των Τούρκων. Το 1750 αποτελούσε “Κράτος” με 80 χωριά και 25.000 κατοίκους. Σήμερα σώζονται στο χώρο αυτό τα ερείπια των σπιτιών των καπεταναίων\, το βουλευτήριο\, η θέση όπου υπήρχε το θρυλικό Κούγκι\, καθώς και μερικά πηγάδια. Από τα 4 κάστρα που είχε\, σώζεται μόνο το κάστρο της Κοινότητας Φροσύνης. \nΚυριακή: Επίσκεψη στον αρχαιολογικό χώρο του Νεκρομαντείου. Είναι το πιο φημισμένο  νεκρομαντείο του αρχαίου ελληνικού κόσμου. Βρισκόταν κοντά στις βορειοδυτικές όχθες της Αχερουσίας λίμνης\, στο σημείο όπου ενώνονταν τα ποτάμια του Άδη\, ο Αχέροντας με τον Κωκυτό.  Στην αρχαιότητα η «Αχερουσία λίμνη» εθεωρείτο ως το σημείο κατάβασης των νεκρών στον Άδη. Στη συνέχεια\, δυνατότητα εύκολου rafting στον Αχέροντα ποταμό\, από τη Γλυκή μέχρι τις εκβολές του στη θάλασσα\, στο χωριό «Αμμουδιά» ή κατάληξη οδικώς στο παραθαλάσσιο χωριό «Αμμουδιά» για κολύμπι ή ξεκούραση. \nΕξοπλισμός: Μαγιό για τη διάσχιση\, δεύτερα παπούτσια για μέσα στο ποτάμι θα χρειαστούν και για τις  δύο  πορείες \n  \nΣυντονιστες : Δύσκολη πορεία Κωστας Κατσούλης\,εύκολη πορεία ένα μέλος του Δ.Σ.
URL:https://eposfilis.gr/event/%ce%b8%ce%b5%cf%83%cf%80%cf%81%cf%89%cf%84%ce%af%ce%b1-%cf%80%ce%bf%cf%84%ce%b1%ce%bc%cf%8c%cf%82-%ce%b1%cf%87%ce%ad%cf%81%ce%bf%ce%bd%cf%84%ce%b1%cf%82-%ce%b4%ce%b9%ce%ac%cf%83%cf%87%ce%b9/
CATEGORIES:Ημερολόγιο
ATTACH;FMTTYPE=image/jpeg:https://eposfilis.gr/wp-content/uploads/2025/08/Νεκρομαντείο-Αχεροντα.jpg
END:VEVENT
BEGIN:VEVENT
DTSTART;VALUE=DATE:20250913
DTEND;VALUE=DATE:20250914
DTSTAMP:20260422T195735
CREATED:20250819T123743Z
LAST-MODIFIED:20250909T145946Z
UID:6168-1757721600-1757807999@eposfilis.gr
SUMMARY:Εθελοντικός καθαρισμός μονοπατιών του 17ου ορεινού αγώνα «Αρμα Πάρνηθας»  & ορεινού ημαμαραθωνίου
DESCRIPTION:Εθελοντικός καθαρισμός μονοπατιών του 17ου ορεινού αγώνα «Αρμα Πάρνηθας»  & ορεινού ημαμαραθωνίου \n Σάββατο 13/09 \nΣυνάντηση στην πλατεία Δημαρχείου Χασιάς στις 08:30 και μετακίνηση με οχήματα μέχρι τις Πηγές Κρύας Φυλής για τον εθελοντικό καθαρισμό  τμηματικά μονοπατιών απ όπου θα περάσει η διαδρομής του  αγώνα δρόμου (Καστρίζα – πηγή Γκούρας – Ντράσιζα – Μαυρόρεμα – Μπόρσι – Ράχη Καραμανλή). Η συντήρηση των τμημάτων των μονοπατιών θα γίνει σταδιακά και σε ημερομηνίες που θα ανακοινώνονται κατά καιρούς. Ο καθαρισμός θα πραγματοποιηθεί  με ήπια μέσα (θαμνοκοπτικές ψαλίδες\, χειροπρίονα\, τσάπες\, τσουγκράνες κλπ.). Τυχόν ύπαρξη  οχήματος 4Χ4 θα διευκολύνει οργανωτικά την ομάδα. \nΕκτιμώμενος χρόνος εργασίας 4 ώρες. Ο Σύλλογος παρέχει τα εργαλεία κι οι εθελοντές πρέπει να έχουν γάντια εργασίας \nΗ συμμετοχή εθελοντών ανά τρεις εθελοντικούς καθαρισμούς\, δώρο μία μονοήμερη εξόρμηση  \nΑπαραίτητη η κράτηση στο σύλλογο
URL:https://eposfilis.gr/event/%ce%b5%ce%b8%ce%b5%ce%bb%ce%bf%ce%bd%cf%84%ce%b9%ce%ba%cf%8c%cf%82-%ce%ba%ce%b1%ce%b8%ce%b1%cf%81%ce%b9%cf%83%ce%bc%cf%8c%cf%82-%ce%bc%ce%bf%ce%bd%ce%bf%cf%80%ce%b1%cf%84%ce%b9%cf%8e%ce%bd-%cf%84-2/
CATEGORIES:Ημερολόγιο
ATTACH;FMTTYPE=image/jpeg:https://eposfilis.gr/wp-content/uploads/2018/04/parnitha_pana_be4b9-9a6.jpg
END:VEVENT
BEGIN:VEVENT
DTSTART;TZID=Europe/Athens:20250919T080000
DTEND;TZID=Europe/Athens:20250921T170000
DTSTAMP:20260422T195735
CREATED:20250826T175140Z
LAST-MODIFIED:20250826T175140Z
UID:6300-1758268800-1758474000@eposfilis.gr
SUMMARY:36η Πανελλήνια Αναρριχητική Συνάντηση 19-21/9/2025
DESCRIPTION:36η Πανελλήνια Αναρριχητική Συνάντηση 19-21/9/2025 \nΠρόγραμμα \nΠαρασκευή 19/09\n09:00 – 17:00 Αναρρίχηση για παιδιά σχολείων Καλαμπάκας – Κεντρική πλατεία\nΡήγα Φεραίου\n12:00 – 20:00 Προσέλευση αναρριχητών στο Camping Vrahos στο Καστράκι\nΣάββατο 20/09\n09:00 – 17:00 –Open Multi pitch challenge – Βράχοι Μετεώρων (συμμετοχή ξένων\nαθλητών)\n09:00 – 17:00 – Σαρακίνα (Sport climbing area)\n 3ο Κύπελλο Αναρρίχησης Βράχου – Β’ Αγώνας\n10:00 – 16:00\n «Sarakina climbing contest» Sport αναρρίχησης με ελεύθερη συμμετοχή\n09:00 – 17:00 Αναρρίχηση για παιδιά – Κεντρική πλατεία Ρήγα Φεραίου\n20:30 – Κεντρική εκδήλωση – Κεντρική πλατεία Ρήγα Φεραίου\n Ομιλίες επισήμων\n Βραβεύσεις\n Παρουσίαση δράσης Αλπινιστικού camp 2025\n Μουσική Συναυλία\nΚυριακή 21/09\n8:00 Πεζοπορία στα μονοπάτια των Μετεώρων. (Ελεύθερη συμμετοχή)\n09:00 – 14:00 Αναρρίχηση για παιδιά – Κεντρική πλατεία Ρήγα Φεραίου\n09:00 – 14:00 Buildering open challenge – αναρρίχηση σε εξωτερικές πλευρές\nκτηρίων της πόλης (συμμετοχή ξένων αθλητών).\n14:30 – Βράβευση νικητών Buildering – Κεντρική πλατεία Ρήγα Φεραίου
URL:https://eposfilis.gr/event/36%ce%b7-%cf%80%ce%b1%ce%bd%ce%b5%ce%bb%ce%bb%ce%ae%ce%bd%ce%b9%ce%b1-%ce%b1%ce%bd%ce%b1%cf%81%cf%81%ce%b9%cf%87%ce%b7%cf%84%ce%b9%ce%ba%ce%ae-%cf%83%cf%85%ce%bd%ce%ac%ce%bd%cf%84%ce%b7%cf%83%ce%b7-19/
CATEGORIES:Ημερολόγιο
ATTACH;FMTTYPE=image/jpeg:https://eposfilis.gr/wp-content/uploads/2025/08/εικόνα_Viber_2024-09-20_17-31-44-410.jpg
END:VEVENT
BEGIN:VEVENT
DTSTART;VALUE=DATE:20250920
DTEND;VALUE=DATE:20250921
DTSTAMP:20260422T195735
CREATED:20250819T123835Z
LAST-MODIFIED:20250829T142257Z
UID:6170-1758326400-1758412799@eposfilis.gr
SUMMARY:Εθελοντικός καθαρισμός μονοπατιών του 17ου ορεινού αγώνα «Αρμα Πάρνηθας»  & ορεινού ημαμαραθωνίου
DESCRIPTION:Εθελοντικός καθαρισμός μονοπατιών του 17ου ορεινού αγώνα «Αρμα Πάρνηθας»  & ορεινού ημαμαραθωνίου \n Σάββατο 20/09 \nΣυνάντηση στην πλατεία Δημαρχείου Χασιάς στις 08:30 και μετακίνηση με οχήματα μέχρι τις Πηγές Κρύας Φυλής για τον εθελοντικό καθαρισμό  τμηματικά μονοπατιών απ όπου θα περάσει η διαδρομής του  αγώνα δρόμου (Καστρίζα – πηγή Γκούρας – Ντράσιζα – Μαυρόρεμα – Μπόρσι – Ράχη Καραμανλή). Η συντήρηση των τμημάτων των μονοπατιών θα γίνει σταδιακά και σε ημερομηνίες που θα ανακοινώνονται κατά καιρούς. Ο καθαρισμός θα πραγματοποιηθεί  με ήπια μέσα (θαμνοκοπτικές ψαλίδες\, χειροπρίονα\, τσάπες\, τσουγκράνες κλπ.). Τυχόν ύπαρξη  οχήματος 4Χ4 θα διευκολύνει οργανωτικά την ομάδα. \nΕκτιμώμενος χρόνος εργασίας 4 ώρες. Ο Σύλλογος παρέχει τα εργαλεία κι οι εθελοντές πρέπει να έχουν γάντια εργασίας \nΗ συμμετοχή εθελοντών ανά τρεις εθελοντικούς καθαρισμούς\, δώρο μία μονοήμερη εξόρμηση  \nΑπαραίτητη η κράτηση στο σύλλογο
URL:https://eposfilis.gr/event/%ce%b5%ce%b8%ce%b5%ce%bb%ce%bf%ce%bd%cf%84%ce%b9%ce%ba%cf%8c%cf%82-%ce%ba%ce%b1%ce%b8%ce%b1%cf%81%ce%b9%cf%83%ce%bc%cf%8c%cf%82-%ce%bc%ce%bf%ce%bd%ce%bf%cf%80%ce%b1%cf%84%ce%b9%cf%8e%ce%bd-%cf%84-3/
CATEGORIES:Ημερολόγιο
ATTACH;FMTTYPE=image/jpeg:https://eposfilis.gr/wp-content/uploads/2018/11/parnithaagiamarina1_62c50-13e.jpg
END:VEVENT
BEGIN:VEVENT
DTSTART;VALUE=DATE:20250921
DTEND;VALUE=DATE:20250922
DTSTAMP:20260422T195735
CREATED:20250819T101309Z
LAST-MODIFIED:20250819T134726Z
UID:6132-1758412800-1758499199@eposfilis.gr
SUMMARY:Αργοσαρωνικός: Πόρος: Βρυσούλα – Άγιος Στάθης – Ιερό Ποσειδώνα – Βίγλα – Ζωοδόχος Πηγή – Μοναστήρι – Παραλία Μοναστήρι
DESCRIPTION:21/9 \nΑργοσαρωνικός: Πόρος: Βρυσούλα – Άγιος Στάθης – Ιερό Ποσειδώνα – Βίγλα – Ζωοδόχος Πηγή – Μοναστήρι – Παραλία Μοναστήρι\nΑναχώρηση 07:00 το πρωί από την αφετηρία για το Γαλατά Τροιζηνίας και μετάβαση με φεριμπότ στον Πόρο (νήσος Σφαιρία). Από εκεί συνεχίζουμε οδικώς προς τη νήσο Καλαυρία\, στο σημείο “Βρυσούλα”\, όπου ξεκινά η πεζοπορία μας. \nΗ διαδρομή μας ξεκινά από την τοποθεσία “Βρυσούλα”\, στην καταπράσινη ενδοχώρα της Καλαυρίας. Ανηφορίζουμε ελαφρώς σε πευκόφυτο μονοπάτι για να φτάσουμε στο μικρό ξωκλήσι του Αγίου Στάθη\, απ’ όπου απολαμβάνουμε πανοραμική θέα στον κόλπο του Πόρου. Στη συνέχεια\, κατευθυνόμαστε προς έναν από τους πιο ιστορικούς τόπους του νησιού: τα ερείπια του Ιερού του Ποσειδώνα\, όπου κάποτε βρισκόταν το σημαντικότερο ιερό της αρχαιότητας στο νησί. Εκεί\, θα γίνει σύντομη στάση και ενημέρωση για την ιστορική σημασία του χώρου. Από το σημείο αυτό\, συνεχίζουμε προς την κορυφή Βίγλα (υψόμετρο περίπου 360 μ.)\, τη ψηλότερη του νησιού. \nΗ κατάβαση μάς οδηγεί στο παραδοσιακό μονοπάτι προς τη Μονή Ζωοδόχου Πηγής\, ένα σημαντικό μοναστηριακό συγκρότημα χτισμένο το 18ο αιώνα\, με πλούσια ιστορία και ήρεμη ατμόσφαιρα. Τέλος\, καταλήγουμε στην παραλία Μοναστήρι\, μία από τις πιο γραφικές και ήσυχες του νησιού\, ιδανική για ένα δροσιστικό μπάνιο ή ξεκούραση πριν την επιστροφή. Φαγητό στα ταβερνάκια του Πόρου Ω\,Π\,: 4\,5-5\, Υ.Δ.: 370\, Β.Δ :1 \nΣυντονίστρια: Χρυσάνθη Γεωργούλη
URL:https://eposfilis.gr/event/%ce%b1%cf%81%ce%b3%ce%bf%cf%83%ce%b1%cf%81%cf%89%ce%bd%ce%b9%ce%ba%cf%8c%cf%82-%cf%80%cf%8c%cf%81%ce%bf%cf%82-%ce%b2%cf%81%cf%85%cf%83%ce%bf%cf%8d%ce%bb%ce%b1-%ce%ac%ce%b3%ce%b9%ce%bf/
CATEGORIES:Ημερολόγιο
ATTACH;FMTTYPE=image/jpeg:https://eposfilis.gr/wp-content/uploads/2025/08/poros.jpg
END:VEVENT
BEGIN:VEVENT
DTSTART;TZID=Europe/Athens:20250925T193000
DTEND;TZID=Europe/Athens:20250925T193000
DTSTAMP:20260422T195735
CREATED:20250817T174430Z
LAST-MODIFIED:20250829T141330Z
UID:5834-1758828600-1758828600@eposfilis.gr
SUMMARY:Γιορτή Αποφοίτων Σχολών Ε.Π.Ο.Σ. Φυλής και ώρα  19:30 – 00:00 στο Σύλλογό μας!!
DESCRIPTION:Γιορτή Αποφοίτων Σχολών Ε.Π.Ο.Σ. Φυλής  25/9 και ώρα 19:30 – 00:00 στο Σύλλογό μας!!\nΙκτίνου 3 & Προμηθέως\, Φυλή \nΜετά από μία ακόμα γεμάτη χρονιά σχολών\, πεζοποριών\, αναβάσεων και εμπειριών\, ήρθε η ώρα να ξανασυναντηθούμε.\nΦέτος όμως έχουμε διπλό λόγο για γιορτή:\nΣας περιμένουμε για μία βραδιά αφιερωμένη σε όλους τους αποφοίτους των σχολών του Συλλόγου\nΘα απονεμηθούν τα διπλώματα των φετινών αποφοίτων\, ενώ θα τιμήσουμε και πάλι τους εκπαιδευτές μας:\nΓιώργος Βουτυρόπουλος\, Δημήτρης Δασκαλάκης\, Γιώργος Μάλαμας\, Τάσος Μουτάφης\, Μανώλης Φουντουλάκης\, Βαγγέλης Κανάρης και πολλοί άλλοι. \nΠαράλληλα\, θα βραβεύσουμε τους αποφοίτους εθελοντές που βοήθησαν σε καθαρισμούς μονοπατιών και θα ανακηρύξουμε “χρυσές τσάπες” και “χρυσές τσουγκράνες” ως ελάχιστη αναγνώριση για τη συμμετοχή τους σε μια από τις πιο σημαντικές δραστηριότητες-προσφορές του συλλόγου μας!!! \nΠαραμείνετε συντονισμένοι: μέχρι τότε θα ανακοινώσουμε κι άλλες δράσεις για τη βραδιά!!!\nΤο κλείσιμο;;; BBQ party στον χώρο του Συλλόγου\, με ποτό\, μουσική\, μεζεδάκια και  εκπλήξεις.\nΤο ραντεβού μας είναι σταθερό:\nΙκτίνου 3 & Προμηθέως 13344 στις 19:30\nΕλάτε να γιορτάσουμε μαζί.
URL:https://eposfilis.gr/event/%ce%b3%ce%b9%ce%bf%cf%81%cf%84%ce%ae-%ce%b1%cf%80%ce%bf%cf%86%ce%bf%ce%af%cf%84%cf%89%ce%bd-%cf%83%cf%87%ce%bf%ce%bb%cf%8e%ce%bd-%ce%b5-%cf%80-%ce%bf-%cf%83-%cf%86%cf%85%ce%bb%ce%ae%cf%82-%ce%ba/
CATEGORIES:Ημερολόγιο
ATTACH;FMTTYPE=image/jpeg:https://eposfilis.gr/wp-content/uploads/2025/08/εικόνα_Viber_2024-09-27_11-58-31-432.jpg
END:VEVENT
BEGIN:VEVENT
DTSTART;TZID=Europe/Athens:20250927T080000
DTEND;TZID=Europe/Athens:20250928T170000
DTSTAMP:20260422T195735
CREATED:20250826T135329Z
LAST-MODIFIED:20250908T160449Z
UID:6296-1758960000-1759078800@eposfilis.gr
SUMMARY:Ταΰγετος\, Προφήτης Ηλίας (2.407μ.)\, διάσχιση\, διανυκτέρευση στην κορυφή. Πεζοπορίες από το Μυστρά ως την Αναβρυτή κι από το Παρόρι στη Μονή Λαγκαδιώτισσας\, Φανερωμένης\, Ζαγούνας
DESCRIPTION:Ταΰγετος\, Προφήτης Ηλίας (2.407μ.)\, διάσχιση\, διανυκτέρευση στην κορυφή. Πεζοπορίες\nαπό το Μυστρά ως την Αναβρυτή κι από το Παρόρι στη Μονή Λαγκαδιώτισσας\,\nΦανερωμένης\, Ζαγούνας \n27-28 Σεπτεμβρίου \nΤο κοινό όνομα του βουνού είναι Πενταδάκτυλος από τις πέντε κορυφές του βουνού όπως\nφαίνονται από τα ανατολικά. Η αρχαία ονομασία του ήταν «Ταλετός» ενώ το Ταϋγετος προήλθε\nτην Ταϋγέτη\, μία από τις επτά\, κόρες του Άτλαντα και της Πλειόνης. Η σκιά της «πυραμίδας» του\nπέφτει στον Μεσσηνιακό κόλπο τα διαυγή πρωινά.\nΈυκολες πορείες:\nΠεζοπορίες στα μονοπάτια από τον Μυστρά στην Αναβρυτή κι από το Παρόρι στα γύρω\nΜοναστήρια (Λαγκαδιώτισσας\, Φανερωμένης\, Ζαγούνας) *Προτείνεται για αρχάριους*\nΣάββατο: Αναχώρηση στις 07:00 από Αθήνα για τον Μυστρά (295 μ.) όπου και αποβίβαση.\nΞενάγηση στην μεσαιωνική Καστροπολιτεία και στη συνέχεια μέσω του παλιού καλντεριμιού και\nτου ρέματος της Νεροκαρυάς ανάβαση από χωριό Ταϋγέτη – Περγανταίϊκα – Μονή\nΦανερωμένης με πολύ ωραία θέα στον λόφο της καστροπολιτείας του Μυστρά και καταληξη\nστην Αναβρυτή Υ.Δ.: +790 μ. – 380μ.\, Ω.Π.: 4-5\, Β.Δ.: 1\nΚυριακή: Πεζοπορία από το Παρόρι μέσα από εντυπωσιακό μονοπάτι σε φαράγγι\, όπου\nσυναντιέται μέσα σε σπηλιά με την Μονή Παναγιάς Λαγκαδιώτισσας και συνεχίζεται στις\nπλαγιές του φαραγγιού. Από την Μονή Φανερωμένης το μονοπάτι ελίσσεται πάνω στις\nπλαγιές του Αγίου Ελισσαίου συναντά την Παναγία την Ζαγούνα φωλιασμένη στην\nκοιλότητα μιας μεγάλης σπηλιάς και καταλήγει το Παρόρι.\nΥ.Δ.: +470 μ. -510 μ.\, Ω.Π.: 3.30-4\, Β.Δ.: 1\nΔύσκολες πορείες:\nΣάββατο: αναχώρηση στις 07:00 για το χωριό Καστάνια\, προώθηση με αγροτικά προς το\nδάσος της Βασιλικής (1.400 μ.) και ανάβαση προς Άγιο Δημήτριο – Άη Γιώργη (2.020 μ.) –\nΠροφήτη Ηλία (2.405 μ.) όπου και θα γίνει η διανυκτέρευση Ω.Π.: 6-7\, Υ.Δ.: 1.005 μ.\, Β.Δ.: 2\nΚυριακή: Με την ανατολή του ήλιου παρατήρηση της πυραμίδας\, σκιάς του Ταϋγέτου\, στο\nΜεσσηνιακό κόλπο (καιρού επιτρέποντος)\, κατάβαση προς Πόρτες – Βαρβάρα (καταφύγιο) –\nμέσω του Ε4 στα Λακώματα – Αναβρυτή Ω.Π.: 6.30-7\, Β.Δ.: 1 Απαραίτητος χειμερινός\nυπνόσακος ή bivy/ελαφρά μικρή σκηνή\, φακός κεφαλής και ξηρή τροφή \nΣυντονιστές : Δύσκολη πορεια Σταύρος Ανάγνου –εύκολη πορεία Δρόσος Τραπεζάρης
URL:https://eposfilis.gr/event/%cf%84%ce%b1%cf%8d%ce%b3%ce%b5%cf%84%ce%bf%cf%82-%ce%b1-%ce%b2%ce%b1%cf%83%ce%b9%ce%bb%ce%b9%ce%ba%ce%ae-%cf%80%cf%81-%ce%b7%ce%bb%ce%af%ce%b1%cf%82-%cf%8d%cf%80%ce%bd%ce%bf%cf%82-%cf%83%cf%84-2/
CATEGORIES:Ημερολόγιο
ATTACH;FMTTYPE=image/jpeg:https://eposfilis.gr/wp-content/uploads/2025/08/ΤΑΥΓΕΤΟΣ-taigetos-8.jpg
END:VEVENT
END:VCALENDAR