BEGIN:VCALENDAR
VERSION:2.0
PRODID:-//Ε.Π.Ο.Σ. ΦΥΛΗΣ - ECPv6.15.18//NONSGML v1.0//EN
CALSCALE:GREGORIAN
METHOD:PUBLISH
X-ORIGINAL-URL:https://eposfilis.gr
X-WR-CALDESC:Events for Ε.Π.Ο.Σ. ΦΥΛΗΣ
REFRESH-INTERVAL;VALUE=DURATION:PT1H
X-Robots-Tag:noindex
X-PUBLISHED-TTL:PT1H
BEGIN:VTIMEZONE
TZID:Europe/Athens
BEGIN:DAYLIGHT
TZOFFSETFROM:+0200
TZOFFSETTO:+0300
TZNAME:EEST
DTSTART:20250330T010000
END:DAYLIGHT
BEGIN:STANDARD
TZOFFSETFROM:+0300
TZOFFSETTO:+0200
TZNAME:EET
DTSTART:20251026T010000
END:STANDARD
BEGIN:DAYLIGHT
TZOFFSETFROM:+0200
TZOFFSETTO:+0300
TZNAME:EEST
DTSTART:20260329T010000
END:DAYLIGHT
BEGIN:STANDARD
TZOFFSETFROM:+0300
TZOFFSETTO:+0200
TZNAME:EET
DTSTART:20261025T010000
END:STANDARD
BEGIN:DAYLIGHT
TZOFFSETFROM:+0200
TZOFFSETTO:+0300
TZNAME:EEST
DTSTART:20270328T010000
END:DAYLIGHT
BEGIN:STANDARD
TZOFFSETFROM:+0300
TZOFFSETTO:+0200
TZNAME:EET
DTSTART:20271031T010000
END:STANDARD
END:VTIMEZONE
BEGIN:VEVENT
DTSTART;TZID=Europe/Athens:20260201T070000
DTEND;TZID=Europe/Athens:20260201T190000
DTSTAMP:20260422T073610
CREATED:20260114T154805Z
LAST-MODIFIED:20260114T154805Z
UID:6602-1769929200-1769972400@eposfilis.gr
SUMMARY:Παναχαϊκό Όρος: Άνω Καστρίτσι –λίμνη Πασχαλιάνων
DESCRIPTION:01/2 \nΠαναχαϊκό Όρος: Άνω Καστρίτσι –λίμνη Πασχαλιάνων \nΑναχώρηση 07:00 για το ‘Ανω Καστρίτσι  με το φυσικό του κάστρο. \nΗ διαδρομή ξεκινά από την πλατεία του χωριού\, σε υψόμετρο 470 μ.\, και αρχικά κατευθύνεται προς τη θέση Νερομάνα. Από εκεί\, μέσω ενός σύντομου χωματόδρομου\, φτάνουμε στην αρχή του μονοπατιού. \nΤο μονοπάτι διασχίζει το δάσος των χειμάρρων Σελεμνού και Χάραδρου\, οι οποίοι σχηματίζουν μικρούς καταρράκτες που συνοδεύουν ένα μικρό τμήμα της διαδρομής. Στην αρχή η κλίση είναι έντονα ανηφορική\, όμως σταδιακά γίνεται πιο ήπια όσο προχωρά η πορεία. \nΗ λιμνούλα των Πασχαλιάνων (1170μ)\, παρά το μικρό της μέγεθος\, προσφέρει ένα εντυπωσιακό θέαμα. Αποτελεί τη νοτιότερη αλπική λίμνη της Ελλάδας και φιλοξενεί αλπικούς τρίτωνες\, προσδίδοντας ιδιαίτερη οικολογική αξία στην περιοχή. \nΗ επιστροφή θα γίνει στο μεγαλύτερο μέρος της από το ίδιο μονοπάτι κάνοντας μια μικρή παράκαμψη για να επισκεφτούμε το εκκλησάκι του Αγ. Ανδρέα που προσφέρει πανοραμική θέα στον Κορινθιακό και τα βουνά της Στερεάς Ελλάδας. Τέλος θα ακολουθήσει φαγητό σε ταβέρνα του Άνω Καστριτσίου.  Ω.Π. ~5\, ΥΔ: 750μ\, ΒΔ:1+  \n Συντονιστές: Παναγιώτης Kόρμπος & Δημήτρης Κόρμπος
URL:https://eposfilis.gr/event/%cf%80%ce%b1%ce%bd%ce%b1%cf%87%ce%b1%cf%8a%ce%ba%cf%8c-%cf%8c%cf%81%ce%bf%cf%82-%ce%ac%ce%bd%cf%89-%ce%ba%ce%b1%cf%83%cf%84%cf%81%ce%af%cf%84%cf%83%ce%b9-%ce%bb%ce%af%ce%bc%ce%bd%ce%b7/
CATEGORIES:Ημερολόγιο
ATTACH;FMTTYPE=image/jpeg:https://eposfilis.gr/wp-content/uploads/2026/01/λιμνη-Παναχαϊκού.jpeg
END:VEVENT
BEGIN:VEVENT
DTSTART;TZID=Europe/Athens:20260205T193000
DTEND;TZID=Europe/Athens:20260205T220000
DTSTAMP:20260422T073610
CREATED:20260123T161014Z
LAST-MODIFIED:20260127T183642Z
UID:6657-1770319800-1770328800@eposfilis.gr
SUMMARY:Ευαισθητοποίηση για τον κίνδυνο χιονοστιβάδας
DESCRIPTION:Avalanche Awareness. (Ευαισθητοποίηση για τον κίνδυνο χιονοστιβάδας)\nΝίκος Λαζανάς\nΟδηγός Βουνού\, Εκπαιδευτής  ασφαλείας χιονιού και χιονοστιβάδων της ΑΝΕΝΑ και\nμέλος της Mountain Safety info. \nΠρολογίζει ο Γ.Βουτυρόπουλος\, Οδηγός βουνού\, Εκπαιδευτής Ε.Ο.Ο.Α. \nΧώρος: Ε.Π.Ο.Σ.ΦΥΛΗΣ\, Ικτίνου 3 &  Προμηθέως ΦΥΛΗ 13344  (με τα πόδια\,\n300μ.από την έξοδο 6 της Αττικής οδού)\nΧρόνος: Πέμπτη 5 Φεβρουαρίου 2026 ώρα 19:30\nAfter: Αναμένεται ενημέρωση \n 
URL:https://eposfilis.gr/event/%ce%b5%cf%85%ce%b1%ce%b9%cf%83%ce%b8%ce%b7%cf%84%ce%bf%cf%80%ce%bf%ce%af%ce%b7%cf%83%ce%b7-%ce%b3%ce%b9%ce%b1-%cf%84%ce%bf%ce%bd-%ce%ba%ce%af%ce%bd%ce%b4%cf%85%ce%bd%ce%bf-%cf%87%ce%b9%ce%bf%ce%bd/
CATEGORIES:Ημερολόγιο
ATTACH;FMTTYPE=image/jpeg:https://eposfilis.gr/wp-content/uploads/2026/01/ΧΙΟΝΟΣΤΙΒΑΔΕΣ.jpg
END:VEVENT
BEGIN:VEVENT
DTSTART;TZID=Europe/Athens:20260207T103000
DTEND;TZID=Europe/Athens:20260207T170000
DTSTAMP:20260422T073610
CREATED:20260114T155426Z
LAST-MODIFIED:20260114T155426Z
UID:6608-1770460200-1770483600@eposfilis.gr
SUMMARY:Ψυρρή: η γειτονιά των ηρώων.  ΠΟΛΙΤΙΣΤΙΚΕΣ ΔΙΑΔΡΟΜΕΣ
DESCRIPTION:7/2 ΄Σάββατο \nΨυρρή: η γειτονιά των ηρώων.  ΠΟΛΙΤΙΣΤΙΚΕΣ ΔΙΑΔΡΟΜΕΣ \nΗ Άρτεμις Σκουμπουρδή συγγραφέας\, του ομώνυμου βιβλίου\, ξεναγεί με τον γλαφυρό της λόγο τα μέλη και τους φίλους του Ε.Π.Ο.Σ. Φυλής. \n  \nΠλατεία Ηρώων\, στέκι κάποτε των μόρτηδων και κουτσαβάκηδων\, το παλαιό Κακουργιοδικείο\, το σπίτι της «κόρης των Αθηνών» της ποιητικής μούσας του Λόρδου Βύρωνα\, οι εκκλησίες του Ψυρρή όπως ο Αη Γιάννης της Κολώνας και πολλά άλλα θα μας μεταφέρουν σε μια άλλη εποχή. \n  \nΣυνάντηση: ώρα 10:30 στην είσοδο του σταθμού «Μοναστηράκι» στην οδό Αθηνάς \nΣυντονιστής: Μέλος του Δ.Σ. \n  \nΒιογραφικό: \nΗ Άρτεμις Σκουμπουρδή γεννήθηκε στην Κάλυμνο το 1953 και μεγάλωσε στην Αθήνα. Σπούδασε στην Αθήνα (ξεναγός) και στη Μαδρίτη (ιστορικός της τέχνης). Από το 1982 συνεργάζεται με το Πνευματικό Κέντρο του Δήμου Αθηναίων σε ξεναγήσεις\, διαλέξεις και συγγραφή ιστορικών βιβλίων-λευκωμάτων για την Αθήνα. Παράλληλα ασχολείται με την ιστορική και λαογραφική μελέτη της παλαιάς Αθήνας.Διδάσκει τα αθηναϊκά θέματα στη Σχολή Ξεναγών και δίνει σχετικές διαλέξεις σε πολιτιστικούς Συλλόγους. \nΑπό το 1987 επιμελείται και παρουσιάζει ραδιοφωνικές και τηλεοπτικές εκπομπές αρχαιολογικού περιεχομένου\, καθώς επίσης\, εκπομπές ιστορικού και λαογραφικού περιεχομένου. Εργάζεται ως επιστημονικός Σύμβουλος σε τηλεοπτικές εκπομπές (ΕΡΤ) ιστορικών και λαογραφικών θεμάτων για τηνπαλαιά Αθήνα. “Αθηναιογραφεί” σε εφημερίδες και περιοδικά. Ξεναγεί\, μελετά\, ερευνά\, γράφει καιλατρεύει διά βίου τη μαγική πόλη\, την Αθήνα. \n 
URL:https://eposfilis.gr/event/%cf%88%cf%85%cf%81%cf%81%ce%ae-%ce%b7-%ce%b3%ce%b5%ce%b9%cf%84%ce%bf%ce%bd%ce%b9%ce%ac-%cf%84%cf%89%ce%bd-%ce%b7%cf%81%cf%8e%cf%89%ce%bd-%cf%80%ce%bf%ce%bb%ce%b9%cf%84%ce%b9%cf%83%cf%84/
CATEGORIES:Ημερολόγιο
END:VEVENT
BEGIN:VEVENT
DTSTART;VALUE=DATE:20260208
DTEND;VALUE=DATE:20260209
DTSTAMP:20260422T073610
CREATED:20250819T101539Z
LAST-MODIFIED:20260114T154533Z
UID:6138-1770508800-1770595199@eposfilis.gr
SUMMARY:Αρκαδία: Ελάτη-Βυτίνα-Νυμφάσια (διάσχιση)
DESCRIPTION:08 Φεβρουαρίου \nΑρκαδία: Ελάτη-Βυτίνα-Νυμφάσια (διάσχιση)  \nΑναχώρηση στις 07:00 για την Ελάτη (υψ. 1.200 μ.)\, από όπου ξεκινά η πεζοπορία μας\, αρχικά με κατηφορική πορεία\, ακολουθώντας άλλοτε καλντερίμι και άλλοτε μονοπάτι. Πρώτος μας σταθμός είναι οι Πηγές Πυργακίου\, από τις οποίες υδρεύεται η Βυτίνα. Συνεχίζοντας\, φτάνουμε στην πετρόχτιστη Βρύση Μακρινού. Διασχίζουμε για λίγο τον ασφαλτοστρωμένο δρόμο Βυτίνας–Δημητσάνας και στη συνέχεια περνάμε ένα ρυάκι\, για να συνεχίσουμε σε παλιό μουλαρόδρομο. Αυτό το τμήμα της διαδρομής θεωρείται από τα ομορφότερα\, καθώς κινείται μέσα σε πλούσια βλάστηση με πλατάνια\, ενώ συναντάμε και ερείπια τριών παλιών νερόμυλων. Μετά το ξύλινο γεφυράκι\, αρχίζουμε ανάβαση προς τη βρύση Αρτότση και κατόπιν ακολουθούμε δρομάκια που μας οδηγούν στη Βυτίνα – ένα γραφικό\, πετρόχτιστο χωριό. Συνεχίζοντας την πορεία μας με ήπια ανάβαση\, διασχίζουμε την παλιά Βυτίνα και περνάμε από την τοποθεσία Μαύρα Λιθάρια. Η διαδρομή συνεχίζει μέσα από ένα μικρό\, εντυπωσιακό φαράγγι και από εκεί κατηφορίζουμε προς το γεφύρι της Τζαβάραινας. Η πεζοπορία ολοκληρώνεται στο χωριό Νυμφασία (υψ. 840 μ.). (διάσχιση). Ω.Π.: 4\,5-5\, Υ.Δ.: -560+260\, Β.Δ.: 1 (14\,1χλμ.) \nΣυντονιστής : Δ. Ρούσσης
URL:https://eposfilis.gr/event/%ce%b1%cf%81%ce%ba%ce%b1%ce%b4%ce%af%ce%b1-%ce%b5%ce%bb%ce%ac%cf%84%ce%b7-%ce%b2%cf%85%cf%84%ce%af%ce%bd%ce%b1-%ce%bd%cf%85%ce%bc%cf%86%ce%ac%cf%83%ce%b9%ce%b1-%ce%b4%ce%b9%ce%ac%cf%83%cf%87%ce%b9/
CATEGORIES:Ημερολόγιο
ATTACH;FMTTYPE=image/jpeg:https://eposfilis.gr/wp-content/uploads/2025/08/elativitina.jpg
END:VEVENT
BEGIN:VEVENT
DTSTART;TZID=Europe/Athens:20260214T080000
DTEND;TZID=Europe/Athens:20260215T170000
DTSTAMP:20260422T073610
CREATED:20260121T173011Z
LAST-MODIFIED:20260123T143040Z
UID:6629-1771056000-1771174800@eposfilis.gr
SUMMARY:ΠΑΝΕΛΛΗΝΙΑ ΧΕΙΜΕΡΙΝΗ ΑΝΑΡΡΙΧΗΤΙΚΗ ΣΥΝΑΝΤΗΣΗ 2026
DESCRIPTION:14-15 ΦΕΒΡΟΥΑΡΙΟΥ 26 \nΠΑΝΕΛΛΗΝΙΑ ΧΕΙΜΕΡΙΝΗ ΑΝΑΡΡΙΧΗΤΙΚΗ ΣΥΝΑΝΤΗΣΗ ΒΑΡΔΟΥΣΙΑ
URL:https://eposfilis.gr/event/%cf%80%ce%b1%ce%bd%ce%b5%ce%bb%ce%bb%ce%b7%ce%bd%ce%b9%ce%b1-%cf%87%ce%b5%ce%b9%ce%bc%ce%b5%cf%81%ce%b9%ce%bd%ce%b7-%ce%b1%ce%bd%ce%b1%cf%81%cf%81%ce%b9%cf%87%ce%b7%cf%84%ce%b9%ce%ba%ce%b7-%cf%83/
CATEGORIES:Ημερολόγιο
ATTACH;FMTTYPE=image/jpeg:https://eposfilis.gr/wp-content/uploads/2026/01/1769178240644844.jpg
END:VEVENT
BEGIN:VEVENT
DTSTART;TZID=Europe/Athens:20260215T093000
DTEND;TZID=Europe/Athens:20260215T170000
DTSTAMP:20260422T073610
CREATED:20260120T191557Z
LAST-MODIFIED:20260120T191557Z
UID:6617-1771147800-1771174800@eposfilis.gr
SUMMARY:15/2/2026  Λιγνιτωρυχεία Ραφήνας - Πολυβολείο Ραφήνας.
DESCRIPTION:15/2/2026 \nΛιγνιτωρυχεία Ραφήνας – Πολυβολείο Ραφήνας. \nΜια δράση για τις άγνωστες ιστορικές γωνιές της νεότερη ιστορίας της Ραφήνας Αττικής \nΗ εκδήλωση πραγματοποιείται σε συνεργασία με τον Σύλλογο «Φίλοι του Αρχαιολογικού Μουσείου του Μαραθώνα» \nθα επισκεφτούμε γνωρίζοντας ενδιαφέρουσες πτυχές της τοπικής ιστορίας : Τα παλιά λιγνιτωρυχεία Ραφήνας  (Διασταύρωση Ραφήνας)\, ένα τμήμα  της διαδρομής του πρώτου σύγχρονου μαραθωνίου με τη γέφυρα την οποία είχε περάσει ο Γρηγόρης Λαμπράκης αλλά και το γερμανικό πολυβολείο της Ραφήνας\, ιστορικά τοπόσημα της περιοχής. \nΣε αυτή την περιήγηση θα μας συνοδεύσει ο  κ. Δημήτρης Μακρής\, ηλεκτρονικός\, εποχικός εργαζόμενος στα λιγνιτωρυχεία και ερευνητής της τοπικής Ιστορίας. Στη συνέχεια μαζί με τον κ.Μακρή θα κατεβούμε  στις υπόγειες σήραγγες του πολυβολείου\, 15μ. κάτω από την επιφάνεια του εδάφους όπου υπάρχουν κοιτώνες\, γραφεία\, ιατρείο και άλλα\, της περιόδου του Β’ παγκοσμίου πολέμου. \n\nΣημείο συνάντησης με Ι.Χ.:  Στις 09:30 το πρωί στο πάρκινγκ στην αρχή της οδού Οδυσσέα Ελύτη\, δεξιά μετά το ΕΠΑΛ Ραφήνας\, απέναντι από τον Ιερό Ναό Αναλήψεως. \nΕξοπλισμός: Σακίδιο ημέρας\, πεζοπορικά μποτάκια\, μπατόν. Δεν συνιστάται η συμμετοχή ατόμων με κλειστοφοβία. \nΑπαραίτητη η δήλωση συμμετοχής στο τηλέφωνο του Συλλόγου. \n   \n   12 Δεκεμβρίου 1949
URL:https://eposfilis.gr/event/15-2-2026-%ce%bb%ce%b9%ce%b3%ce%bd%ce%b9%cf%84%cf%89%cf%81%cf%85%cf%87%ce%b5%ce%af%ce%b1-%cf%81%ce%b1%cf%86%ce%ae%ce%bd%ce%b1%cf%82-%cf%80%ce%bf%ce%bb%cf%85%ce%b2%ce%bf%ce%bb%ce%b5%ce%af%ce%bf/
CATEGORIES:Ημερολόγιο
ATTACH;FMTTYPE=image/jpeg:https://eposfilis.gr/wp-content/uploads/2026/01/1000000807-scaled.jpg
END:VEVENT
BEGIN:VEVENT
DTSTART;TZID=Europe/Athens:20260220T080000
DTEND;TZID=Europe/Athens:20260223T170000
DTSTAMP:20260422T073610
CREATED:20251230T190629Z
LAST-MODIFIED:20260216T171917Z
UID:6549-1771574400-1771866000@eposfilis.gr
SUMMARY:Κίσσαβος\, κορυφή «Κώστας Παλαμώτης» (1.978μ.)\, Φαράγγι Καλυψούς\, διασχίσεις\, Αμπελάκια. Τύρναβος με «Μπουρανί» και αποκριάτικα δρώμενα
DESCRIPTION:20-23/2/26\nΚίσσαβος\, κορυφή «Κώστας Παλαμώτης» (1.978μ.)\, Φαράγγι Καλυψούς\,\nδιασχίσεις\, Αμπελάκια. Τύρναβος με «Μπουρανί» και αποκριάτικα δρώμενα \nΠαρασκευή: Αναχώρηση 16:30 για το καταφύγιο του Κισσάβου (1.604μ.) στη θέση\nΚάναλος όπου όλες οι διανυκτερεύσεις\nΣάββατο :\nΔύσκολη διαδρομή: Μεταφορά με το πούλμαν στο χωριό Σπηλιά (800μ.) όπου και\nαρχίζει η πεζοπορία μας από το κέντρο του χωριού ακολουθώντας μονοπάτι κι\nανηφορίζοντας τη ράχη ανατολικά του χωριού προς την Συναχόβρυση. Δεν υπάρχει\nσήμανση αλλά το μονοπάτι σε γενικές γραμμές είναι ευδιάκριτο. Στη συνέχεια\,\nφθάνουμε στη βάση του κώνου του Κισσάβου στη θέση Τράπεζος. Από εκεί\nανεβαίνουμε τον κώνο της κορυφής ακολουθώντας τα σημάδια του μονοπατιού Ο2\,\nτο οποίο έρχεται από το χωριό Ανατολή. Φθάνοντας στην κορυφή «Κώστας\nΠαλαμώτης» του Κισσάβου\, όπου και το εκκλησάκι του Προφήτη Ηλία\,\nαπολαμβάνουμε τη θέα προς τον Όλυμπο\, το Θερμαϊκό κόλπο\, το Πήλιο και τις\nΒόρειες Σποράδες. Στη συνέχεια\, κατηφορίζουμε προς το καταφύγιο του Κισσάβου\nστη θέση Κάναλος\, όπου και το τέλος της πορείας. Ω.Π.: 6\, Υ.Δ.: +1180 – 375\, Β.Δ.: 2\nή 5 με χιόνι οπότε και είναι απαραίτητος ο χειμερινός εξοπλισμός.\nΕύκολη διαδρομή : Μεταφορά οδικώς στον παραθαλάσσιο οικισμό Κόκκινο Νερό\nΜελιβοίας Λάρισας στους ανατολικούς πρόποδες του Κισσάβου. Από εκεί\nπεζοπορία στο φαράγγι της Καλυψούς με την πυκνή βλάστηση\, τρεχούμενα νερά\nπου σχηματίζουν βάθρες και κλιμακωτούς καταρράκτες να συνθέτουν ένα υπέροχο\nτοπίο. Ο κύριος καταρράκτης\, ξεπερνάει τα 70 μέτρα (είναι ένας από τους\nψηλότερους της Ελλάδας) και σχηματίζει μια καταγάλανη όμορφη λίμνη. Ω.Π.:\n3.30-4 Υ.Δ.: 495\, Β.Δ.: 1+ (9\,5χλμ.) Στην περιοχή θα δούμε το “μυστικό πέτρινο”\nγεφύρι της Παπαρίζαινας\, το οποίο χρονολογείται πιθανότατα από τους\nΒυζαντινούς χρόνους και τις ιαματικές πηγές του Κόκκινου νερού με τις\nαλλεπάλληλες γούρνες.\nΚυριακή :\nΚοινή πορεία: Σπηλιά – Ανατολή- Μεταξοχώρι\nΑπό το χωριό Σπηλιά (800μ.) ακολουθούμε ανηφορικό μονοπάτι μέχρι τα 1535μ.\nστην κορυφή με το κολωνάκι. Συνεχίζουμε κατηφορικά πλέον προς το χωριό\nΑνατολή (940μ.) και η διαδρομή μας ολοκληρώνεται μέχρι το χωριό Μεταξοχώρι\n(220μ.) με την παραδοσιακή αρχιτεκτονική\, που αναπτύχθηκε κι ευημέρησε από την\nκαλλιέργεια του μεταξιού στο παρελθόν Ω.Π.: 6.30-7\, Υ.Δ.: +735 -1315\, Β.Δ.: 2\n(19χλμ.)\nΠροαιρετική επίσκεψη στην Ιερά Μονή Τιμίου Προδρόμου\, Ανατολής\, μοναστήρι με\nτράπεζα σπόρων και άλλες πρωτοποριακές ενασχολήσεις που οι μοναχές\nεπιδίδονται παράγοντας κτηνοτροφικά και βιολογικά προϊόντα. \nΚαθαρή Δευτέρα: Καταφύγιο (1.604μ.) – Σπηλιά (800μ.) Προαιρετική κατάβαση\nαπό μονοπάτι σε αλπικό πεδίο μέχρι το χωριό Σπηλιά. Ω.Π.: 2\, Υ.Δ.: -804\, Β.Δ.: 1\n(5\,5χλμ) ή σύντομη επίσκεψη στο παραδοσιακό χωριό Αμπελάκια χτισμένο στις ΒΔ\nπλαγιές του Κισσάβου\, όπου ήκμασε ο Συνεταιρισμός εμπόρων\, τεχνιτών και\nεργατών παρασκευής κόκκινων νημάτων στα  τέλη του 18ου και στις αρχές του\n19ου αιώνα. Αποτέλεσε την πρώτη και καλύτερη συνεταιριστική οργάνωση στην\nΕλλάδα επί Τουρκοκρατίας και λόγος που το γραφικό χωριό γνώρισε μεγάλη\nακμή.\nΣτη συνέχεια θα επισκεφτούμε τον Τύρναβο όπου γιορτάζεται το σατυρικό έθιμο\nτου «Μπουρανί»\, μια γιορτή με αθυροστομία\, φαλικά σύμβολα και παραδοσιακούς\nχορούς που κορυφώνεται με το ψήσιμο του «Μπουρανί» δίπλα στον ποταμό\nΤιταρήσιο. Τολμηρά αποκριάτικα έθιμα με σάτιρα αναβιώνοντας αρχαίες γονιμικές\nτελετές\nΣυντονιστές: Φιλιώ Μαλτέζου και  Δημήτρης Ρούσσης
URL:https://eposfilis.gr/event/%ce%ba%ce%af%cf%83%cf%83%ce%b1%ce%b2%ce%bf%cf%82-%ce%ba%ce%bf%cf%81%cf%85%cf%86%ce%ae-%ce%ba%cf%8e%cf%83%cf%84%ce%b1%cf%82-%cf%80%ce%b1%ce%bb%ce%b1%ce%bc%cf%8e%cf%84%ce%b7%cf%82-1-978/
CATEGORIES:Ημερολόγιο
END:VEVENT
END:VCALENDAR