BEGIN:VCALENDAR
VERSION:2.0
PRODID:-//Ε.Π.Ο.Σ. ΦΥΛΗΣ - ECPv6.15.18//NONSGML v1.0//EN
CALSCALE:GREGORIAN
METHOD:PUBLISH
X-WR-CALNAME:Ε.Π.Ο.Σ. ΦΥΛΗΣ
X-ORIGINAL-URL:https://eposfilis.gr
X-WR-CALDESC:Events for Ε.Π.Ο.Σ. ΦΥΛΗΣ
REFRESH-INTERVAL;VALUE=DURATION:PT1H
X-Robots-Tag:noindex
X-PUBLISHED-TTL:PT1H
BEGIN:VTIMEZONE
TZID:Europe/Athens
BEGIN:DAYLIGHT
TZOFFSETFROM:+0200
TZOFFSETTO:+0300
TZNAME:EEST
DTSTART:20240331T010000
END:DAYLIGHT
BEGIN:STANDARD
TZOFFSETFROM:+0300
TZOFFSETTO:+0200
TZNAME:EET
DTSTART:20241027T010000
END:STANDARD
BEGIN:DAYLIGHT
TZOFFSETFROM:+0200
TZOFFSETTO:+0300
TZNAME:EEST
DTSTART:20250330T010000
END:DAYLIGHT
BEGIN:STANDARD
TZOFFSETFROM:+0300
TZOFFSETTO:+0200
TZNAME:EET
DTSTART:20251026T010000
END:STANDARD
BEGIN:DAYLIGHT
TZOFFSETFROM:+0200
TZOFFSETTO:+0300
TZNAME:EEST
DTSTART:20260329T010000
END:DAYLIGHT
BEGIN:STANDARD
TZOFFSETFROM:+0300
TZOFFSETTO:+0200
TZNAME:EET
DTSTART:20261025T010000
END:STANDARD
END:VTIMEZONE
BEGIN:VEVENT
DTSTART;TZID=Europe/Athens:20250404T173000
DTEND;TZID=Europe/Athens:20250407T003000
DTSTAMP:20260423T081804
CREATED:20241228T192211Z
LAST-MODIFIED:20241228T192211Z
UID:2973-1743787800-1743985800@eposfilis.gr
SUMMARY:Ν.Πίνδος: Λάκμος\, Βερλίγκα. Κορυφή Τσουκαρέλα (2\,295μ.) Κοπρ - Κριάκουρας\, Ψάρρος- Καρατζούνι (1.714μ)
DESCRIPTION:4-6/4: \nΝ.Πίνδος: Λάκμος\, Βερλίγκα. Κορυφή Τσουκαρέλα (2\,295μ.) Κοπρ – Κριάκουρας\, Ψάρρος- Καρατζούνι (1.714μ) \nΠαρασκευή: Αναχώρηση 16:00 για την Ελάτη Τρικάλων όπου οι διανυκτερεύσεις σε ξενώνα ή σε περιορισμένο αριθμό σκηνών κοντά στον ξενώνα \nΣάββατο: Ορειβατική διαδρομή: Μετακίνηση οδικώς\, νωρίς το πρωί για το Χαλίκι (1.130μ.). από όπου ξεκινά και η διαδρομή. Περνώντας το ρέμα Καπραριά και ακολουθώντας στην αρχή το δασικό δρόμο καθώς και στη συνέχεια το μονοπάτι φτάνουμε στις πηγες Αχελώου\, στη Βερλίγκα\, στο περίφημο αλπικό οροπέδιο του Λάκμου. Στη συνέχεια ακολουθούμε τη νότια κορυφογραμμή και φτάνουμε στη κορυφή Τσουκαρέλα 2.295μ. Επιστροφή από την ίδια διαδρομή μέχρι το Χαλίκι Ω.Π.: 10-11\, Υ.Δ.: 1130\, Β.Δ.: 2+ (21χλμ.) \nΠεζοπορική διαδρομή: Η πεζοπορία μας αρχίζει από την Ελάτη (920μ.) με κατεύθυνση τα Κανάβια. Ακολουθούμε το Κακόρεμα και τη Βλάχα φτάνουμε στο Κοπρ (1250μ.) Στη συνέχεια επιστρέφουμε μέχρι ένα σημείο από τα ίδια και συνεχίζουμε προς τα Οικονομέικα και τον Κριάκουρα Ω.Π.: 5-6\, Υ.Δ.: 400\, Β.Δ.: 1+ \nΚυριακή: Κοινή πορεία: Η διαδρομή αρχίζει από την Ελάτη ( 920μ) με κατεύθυνση τον οικισμό Ψάρρο (Στουρναραίικα) (1000μ.) Στη συνέχεια ακολουθούμε το δασικό δρόμο\, όπου μετά από λίγο η βλάστηση γίνεται πιο έντονη με οξιές και έλατα. Συνεχίζουμε την πορεία μας και θα συναντήσουμε τη ράχη την οποία θα αρχίσουμε να ανεβαίνουμε. Στη συνέχεια θα περάσουμε στην αλπική ζώνη και θα καταλήξουμε στη κορυφη Καρατζούνι (1714μ.). Αναλόγως αν υπάρχει πολύ χιόνι όσοι πεζοπόροι διαθέτουν κατάλληλο εξοπλισμό θα συνεχίσουν μέχρι τη κορυφή. Επιστροφή από την ίδια διαδρομή. Ω.Π.: 6\, Υ.Δ.: 720μ\, Β.Δ.: 2 (11χλμ.) \nΣυντονιστές δύσκολης πορείας: Νίκος Κρούπης & Σωτήρης Τοπάλογλου \nΣυντονιστής εύκολης πορείας: ….. \n 
URL:https://eposfilis.gr/event/%ce%bd-%cf%80%ce%af%ce%bd%ce%b4%ce%bf%cf%82-%ce%bb%ce%ac%ce%ba%ce%bc%ce%bf%cf%82-%ce%b2%ce%b5%cf%81%ce%bb%ce%af%ce%b3%ce%ba%ce%b1-%ce%ba%ce%bf%cf%81%cf%85%cf%86%ce%ae-%cf%84%cf%83%ce%bf%cf%85%ce%ba-2/
CATEGORIES:Ημερολόγιο
ATTACH;FMTTYPE=image/jpeg:https://eposfilis.gr/wp-content/uploads/2024/12/unnamed.jpg
END:VEVENT
END:VCALENDAR