BEGIN:VCALENDAR
VERSION:2.0
PRODID:-//Ε.Π.Ο.Σ. ΦΥΛΗΣ - ECPv6.15.18//NONSGML v1.0//EN
CALSCALE:GREGORIAN
METHOD:PUBLISH
X-ORIGINAL-URL:https://eposfilis.gr
X-WR-CALDESC:Events for Ε.Π.Ο.Σ. ΦΥΛΗΣ
REFRESH-INTERVAL;VALUE=DURATION:PT1H
X-Robots-Tag:noindex
X-PUBLISHED-TTL:PT1H
BEGIN:VTIMEZONE
TZID:Europe/Athens
BEGIN:DAYLIGHT
TZOFFSETFROM:+0200
TZOFFSETTO:+0300
TZNAME:EEST
DTSTART:20240331T010000
END:DAYLIGHT
BEGIN:STANDARD
TZOFFSETFROM:+0300
TZOFFSETTO:+0200
TZNAME:EET
DTSTART:20241027T010000
END:STANDARD
BEGIN:DAYLIGHT
TZOFFSETFROM:+0200
TZOFFSETTO:+0300
TZNAME:EEST
DTSTART:20250330T010000
END:DAYLIGHT
BEGIN:STANDARD
TZOFFSETFROM:+0300
TZOFFSETTO:+0200
TZNAME:EET
DTSTART:20251026T010000
END:STANDARD
BEGIN:DAYLIGHT
TZOFFSETFROM:+0200
TZOFFSETTO:+0300
TZNAME:EEST
DTSTART:20260329T010000
END:DAYLIGHT
BEGIN:STANDARD
TZOFFSETFROM:+0300
TZOFFSETTO:+0200
TZNAME:EET
DTSTART:20261025T010000
END:STANDARD
END:VTIMEZONE
BEGIN:VEVENT
DTSTART;VALUE=DATE:20250412
DTEND;VALUE=DATE:20250413
DTSTAMP:20260423T082312
CREATED:20250408T201550Z
LAST-MODIFIED:20250408T201550Z
UID:5362-1744416000-1744502399@eposfilis.gr
SUMMARY:Πάρνηθα: εθελοντικός καθαρισμός μονοπατιού από καμμένα κλαδιά
DESCRIPTION:12/4 \n  Πάρνηθα: Άγιος Κυπριανός – Άγιος Γεώργιος Κεραμιδίου. Εθελοντικός καθαρισμός από καμμένα κλαδιά    \nΏρα συνάντησης: 09:00 π.μ. στο πάρκινγκ της Ι.Μονής Κυπριανού  \nΕλάτε να φροντίσουμε όλοι μαζί το αγαπημένο μας βουνό για να μην χαθουν τα ίχνη των μονοπατιών μετά την τελευταία καταστροφική πυρκαγιά.  \nΧρειαζόμαστε τη βοήθειά σας! Μαζί μπορούμε να κάνουμε τη διαφορά!   \n✅ Φόρεσε άνετα ρούχα και παπούτσια πεζοπορίας\n✅ Φέρε μαζί σου νερό\, καπέλο και πολλή καλή διάθεση\n✅ Γάντια και εργαλεία θα παρέχονται από το σύλλογο  \nΑπαραίτητη η δήλωση συμμετοχής στο τηλέφωνο του συλλόγου 
URL:https://eposfilis.gr/event/12-4-%cf%80%ce%ac%cf%81%ce%bd%ce%b7%ce%b8%ce%b1-%ce%b5%ce%b8%ce%b5%ce%bb%ce%bf%ce%bd%cf%84%ce%b9%ce%ba%cf%8c%cf%82-%ce%ba%ce%b1%ce%b8%ce%b1%cf%81%ce%b9%cf%83%ce%bc%cf%8c%cf%82-%ce%bc%ce%bf%ce%bd/
CATEGORIES:DEFAULT,Ημερολόγιο
END:VEVENT
END:VCALENDAR