BEGIN:VCALENDAR
VERSION:2.0
PRODID:-//Ε.Π.Ο.Σ. ΦΥΛΗΣ - ECPv6.15.18//NONSGML v1.0//EN
CALSCALE:GREGORIAN
METHOD:PUBLISH
X-WR-CALNAME:Ε.Π.Ο.Σ. ΦΥΛΗΣ
X-ORIGINAL-URL:https://eposfilis.gr
X-WR-CALDESC:Events for Ε.Π.Ο.Σ. ΦΥΛΗΣ
REFRESH-INTERVAL;VALUE=DURATION:PT1H
X-Robots-Tag:noindex
X-PUBLISHED-TTL:PT1H
BEGIN:VTIMEZONE
TZID:Europe/Athens
BEGIN:DAYLIGHT
TZOFFSETFROM:+0200
TZOFFSETTO:+0300
TZNAME:EEST
DTSTART:20240331T010000
END:DAYLIGHT
BEGIN:STANDARD
TZOFFSETFROM:+0300
TZOFFSETTO:+0200
TZNAME:EET
DTSTART:20241027T010000
END:STANDARD
BEGIN:DAYLIGHT
TZOFFSETFROM:+0200
TZOFFSETTO:+0300
TZNAME:EEST
DTSTART:20250330T010000
END:DAYLIGHT
BEGIN:STANDARD
TZOFFSETFROM:+0300
TZOFFSETTO:+0200
TZNAME:EET
DTSTART:20251026T010000
END:STANDARD
BEGIN:DAYLIGHT
TZOFFSETFROM:+0200
TZOFFSETTO:+0300
TZNAME:EEST
DTSTART:20260329T010000
END:DAYLIGHT
BEGIN:STANDARD
TZOFFSETFROM:+0300
TZOFFSETTO:+0200
TZNAME:EET
DTSTART:20261025T010000
END:STANDARD
END:VTIMEZONE
BEGIN:VEVENT
DTSTART;TZID=Europe/Athens:20250525T100000
DTEND;TZID=Europe/Athens:20250526T000000
DTSTAMP:20260423T062546
CREATED:20241214T124500Z
LAST-MODIFIED:20241214T124500Z
UID:2965-1748167200-1748217600@eposfilis.gr
SUMMARY:Ηλεία: Κουφόπουλο
DESCRIPTION:25/5 \nΗλεία: Κουφόπουλο  \nΑναχώρηση 07:00 για Ανδρίτσαινα και στη συνέχεια για το χωριό Κουφόπουλο Ηλείας απ΄όπου αρχίζει η πεζοπορία μας. Κινούμαστε  κατηφορικά στο παλιό  καλντερίμι\, μέσα  από  το   πετρόχτιστο  χωριό. Φτάνουμε στο μονοπάτι που είναι σκεπασμένο από καστανιές\, δρυς και πλατάνια. Διασχίζουμε μονοπάτι δίπλα από  το Φαναριώτικο ρέμα όπου το χειμώνα δημιουργεί μικρούς καταρράκτες και κολυμπήθρες. Μετά από  1+ ώρα  φτάνουμε  στην θέση Σταμνιά.  Ακολουθούμε  πορεία δεξιά  για 500 μέτρα μέχρι το εκκλησάκι της Παναγίας. Το εκκλησάκι της Παναγίας κατακλύζεται από πλατάνια και άφθονα νερά που τροφοδοτούνται από το ρέμα. Στην συνέχεια\, μπαίνουμε σε δάσος με καστανιές. Προς τέλος της διαδρομής περνάμε μέσα από γιδόστρατες και καταλήγουμε στην αρχή του  μονοπατιού μας (κυκλική διαδρομή) Ω.Π.: 4\, Υ.Δ.: 200\, Β.Δ.: 1 (10χλμ.)   \nΣυντονιστής: Θοδωρής Ριζόπουλος
URL:https://eposfilis.gr/event/%ce%b7%ce%bb%ce%b5%ce%af%ce%b1-%ce%ba%ce%bf%cf%85%cf%86%cf%8c%cf%80%ce%bf%cf%85%ce%bb%ce%bf-2/
CATEGORIES:Ημερολόγιο
END:VEVENT
END:VCALENDAR