BEGIN:VCALENDAR
VERSION:2.0
PRODID:-//Ε.Π.Ο.Σ. ΦΥΛΗΣ - ECPv6.15.18//NONSGML v1.0//EN
CALSCALE:GREGORIAN
METHOD:PUBLISH
X-WR-CALNAME:Ε.Π.Ο.Σ. ΦΥΛΗΣ
X-ORIGINAL-URL:https://eposfilis.gr
X-WR-CALDESC:Events for Ε.Π.Ο.Σ. ΦΥΛΗΣ
REFRESH-INTERVAL;VALUE=DURATION:PT1H
X-Robots-Tag:noindex
X-PUBLISHED-TTL:PT1H
BEGIN:VTIMEZONE
TZID:Europe/Athens
BEGIN:DAYLIGHT
TZOFFSETFROM:+0200
TZOFFSETTO:+0300
TZNAME:EEST
DTSTART:20240331T010000
END:DAYLIGHT
BEGIN:STANDARD
TZOFFSETFROM:+0300
TZOFFSETTO:+0200
TZNAME:EET
DTSTART:20241027T010000
END:STANDARD
BEGIN:DAYLIGHT
TZOFFSETFROM:+0200
TZOFFSETTO:+0300
TZNAME:EEST
DTSTART:20250330T010000
END:DAYLIGHT
BEGIN:STANDARD
TZOFFSETFROM:+0300
TZOFFSETTO:+0200
TZNAME:EET
DTSTART:20251026T010000
END:STANDARD
BEGIN:DAYLIGHT
TZOFFSETFROM:+0200
TZOFFSETTO:+0300
TZNAME:EEST
DTSTART:20260329T010000
END:DAYLIGHT
BEGIN:STANDARD
TZOFFSETFROM:+0300
TZOFFSETTO:+0200
TZNAME:EET
DTSTART:20261025T010000
END:STANDARD
END:VTIMEZONE
BEGIN:VEVENT
DTSTART;TZID=Europe/Athens:20250620T210000
DTEND;TZID=Europe/Athens:20250623T000000
DTSTAMP:20260423T042459
CREATED:20241214T130454Z
LAST-MODIFIED:20241214T130454Z
UID:2968-1750453200-1750636800@eposfilis.gr
SUMMARY:Αιτωλία: Μελιός (1.550μ.)\, παραλίμνια πεζοπορία & κολύμπι στη Λίμνη Τριχωνίδα.  Γεφύρι Αρτοτίβας\, "καρέλι". Εύηνος ποταμός\,
DESCRIPTION:20-22/6 \nΑιτωλία: Μελιός (1.550μ.)\, παραλίμνια πεζοπορία & κολύμπι στη Λίμνη Τριχωνίδα.  Γεφύρι Αρτοτίβας\, “καρέλι”. Εύηνος ποταμός\,  \nΤο γεφύρι της Αρτοτίβας είναι κατασκευασμένο κατά την Α΄ Ενετοκρατία (1407-1499) κι είναι από τα παλιότερα στην Ελλάδα\, χαρακτηρισμένο ιστορικό διατηρητέο μνημείο. Το γεφύρι είναι μονότοξο\, λιθόκτιστο με ασβεστοκονίαμα. με άνοιγμα τόξου 23\,65 μ.\, συνολικό μήκος 42 μ. από την κοίτη έως το εσωράχιο ύψος ανέρχεται σε 10\,40 μ.. Από αυτό το γεφύρι πέρασαν οι ελεύθεροι πολιορκημένοι του Μεσολογγίου στις 10 Απριλίου 1826  \n  \nΠαρασκευή: Αναχώρηση 18:00 για Θέρμο όπου όλες οι διανυκτερεύσεις σε ξενώνα ή σε δημοτικό καταφύγιο με κουκέτες. \nΣάββατο: Ομάδα δύσκολης πορείας: Από το χωριό Δρυμώνας (882μ.) αρχίζει η πεζοπορία μας σε μονοπάτι μέσα σε πυκνό ελατόδασος μέχρι το πλάτωμα Σάπιο Νερό όπου και χώρος αστροπαρατήρησης κάθε 3 χρόνια. Η διαδρομή συνεχίζει για το Κόκκινα διάσελο\, μετά για τη Βρύση Αλεξανδρή\, το Χαλαμπρέζι – κατάβαση στο Κάρμα – ανάβαση στα Κλέφτικα Γιατάκια κι από εκεί κινούμαστε σε αλπικό πεδίο πλέον μέχρι την κορυφή Μελιός (1.550μ.). Η θέα είναι πανοραμική προς τον Κατελάνο\, Βαρδούσια\, Ερύμανθος\, Χελμός\, Ζήρεια οι λίμνες Τριχωνίδα \, Λυσιμαχία και ο Εύηνος ποταμός. Η πεζοπορία μας ολοκληρώνεται στο Δρυμώνα (κυκλική) Ω.Π:.7:30 – 8\, Υ.Δ:+ 920 – 814\, Β.Δ:.2 (18 χλμ. ) \nΟμάδα εύκολης πορείας: Λίμνη Τριχωνίδα: Είναι η μεγαλύτερη\, καθαρότερη και ομορφότερη λίμνη της Ελλάδας\,  “το Πέλαγος της Αιτωλίας”\, βρίσκεται νότια του Παναιτωλικού όρους  και προστατεύεται από το δίκτυο Natura 2000. Περιμετρικά της λίμνης\, σε μικρή απόσταση από την όχθη της\, είναι χτισμένα πάνω από 20 χωριά. Πεζοπορική διαδρομή σε παραλίμνιο χωματόδρομο στο μεγαλύτερο μέρος. Η πορεία μας αρχίζει από τα παλιά θερμά λουτρά Μυρτιάς και συνεχίζει μέχρι την εντυπωσιακή Ι.Μονή Φατμού\, παλιό ερειπωμένο μοναστήρι του 16ου αι.. Συνεχίζει μέχρι την εξαιρετική παραλία της λίμνης με τη βοτσαλωτή ακτή. Συνέχιση της πορείας μέχρι την επόμενη παραλία Λευκή Άμμος. Ω.Π:.3-4 \, Υ.Δ.:.25\, Β.Δ:.1 (9χλμ) Κολύμπι στην πανέμορφη παραλία της λίμνης\, « Άμμος»\, με την κατάλευκη αμμουδιά της! Επιβίβαση στο πούλμαν από τη θέση Σιταράλωνα και φαγητό σε  ταβερνάκι με μαγευτική θέα τη λίμνη. \nΚυριακή: Καρέλι Ευήνου – Μονότοξο γεφύρι Αρτοτίβας: \nΗ πεζοπορία μας αρχίζει από την Κάτω Χρυσοβίτσα (420μ.) από ωραίο σκιερό μονοπάτι μέχρι το πέτρινο τοξωτό γεφύρι της Αρτοτίβας στον Εύηνο το παλαιότερο του Ευήνου\, κατασκευασμένο τον 15ο αι. Μετά το γεφύρι\, ακολουθούμε παρόχθιο μονοπάτι από την αριστερή πλευρά του ποταμού. Περνάμε πάνω από πεζογέφυρα του παραπόταμου του Ευήνου\, τον Κότσαλο. Συνεχίζουμε στο ίδιο μονοπάτι μέχρι το πέρασμα «καρέλι» όπου περνάμε χρησιμοποιώντας το συρμάτινο «καρέλι»  στην απέναντι πλευρά του ποταμού. Η διαδρομή αυτή αποτελεί μέρος της διαδρομής που ακολούθησαν οι Μεσολογγίτες μετά την έξοδο του Μεσολογγίου κινούμενοι από την Ανάληψη προς τον Πλάτανο Ναυπακτίας. Γεύμα σε ταβερνάκι με θέα τον Εύηνο και στη συνέχεια πεζοπορία από χωματόδρομο (4χλμ.) μέχρι το ξωκλήσι Άγιος Αθανάσιος\,  Ω.Π:. 4\,30 – 5\, Υ.Δ.: +100 -250\, Β.Δ:.1+ (συνολικά 12\,2χλμ.) \nΣυντονιστές: Φωτεινή Χριστοπούλου & Ανδρέας Μπέσσας    \n\n\n\n\n\n\n\n\n 
URL:https://eposfilis.gr/event/%ce%b1%ce%b9%cf%84%cf%89%ce%bb%ce%af%ce%b1-%ce%bc%ce%b5%ce%bb%ce%b9%cf%8c%cf%82-1-550%ce%bc-%cf%80%ce%b1%cf%81%ce%b1%ce%bb%ce%af%ce%bc%ce%bd%ce%b9%ce%b1-%cf%80%ce%b5%ce%b6%ce%bf%cf%80%ce%bf%cf%81-2/
CATEGORIES:Ημερολόγιο
ATTACH;FMTTYPE=image/jpeg:https://eposfilis.gr/wp-content/uploads/2024/12/DSC0160.jpg
END:VEVENT
END:VCALENDAR