BEGIN:VCALENDAR
VERSION:2.0
PRODID:-//Ε.Π.Ο.Σ. ΦΥΛΗΣ - ECPv6.15.18//NONSGML v1.0//EN
CALSCALE:GREGORIAN
METHOD:PUBLISH
X-ORIGINAL-URL:https://eposfilis.gr
X-WR-CALDESC:Events for Ε.Π.Ο.Σ. ΦΥΛΗΣ
REFRESH-INTERVAL;VALUE=DURATION:PT1H
X-Robots-Tag:noindex
X-PUBLISHED-TTL:PT1H
BEGIN:VTIMEZONE
TZID:Europe/Athens
BEGIN:DAYLIGHT
TZOFFSETFROM:+0200
TZOFFSETTO:+0300
TZNAME:EEST
DTSTART:20240331T010000
END:DAYLIGHT
BEGIN:STANDARD
TZOFFSETFROM:+0300
TZOFFSETTO:+0200
TZNAME:EET
DTSTART:20241027T010000
END:STANDARD
BEGIN:DAYLIGHT
TZOFFSETFROM:+0200
TZOFFSETTO:+0300
TZNAME:EEST
DTSTART:20250330T010000
END:DAYLIGHT
BEGIN:STANDARD
TZOFFSETFROM:+0300
TZOFFSETTO:+0200
TZNAME:EET
DTSTART:20251026T010000
END:STANDARD
BEGIN:DAYLIGHT
TZOFFSETFROM:+0200
TZOFFSETTO:+0300
TZNAME:EEST
DTSTART:20260329T010000
END:DAYLIGHT
BEGIN:STANDARD
TZOFFSETFROM:+0300
TZOFFSETTO:+0200
TZNAME:EET
DTSTART:20261025T010000
END:STANDARD
END:VTIMEZONE
BEGIN:VEVENT
DTSTART;TZID=Europe/Athens:20250827T160000
DTEND;TZID=Europe/Athens:20250902T230000
DTSTAMP:20260423T012011
CREATED:20250526T182124Z
LAST-MODIFIED:20250823T142200Z
UID:5436-1756310400-1756854000@eposfilis.gr
SUMMARY:Κάρπαθος η Ακριτική! Πεζοπορίες και μικρές διακοπές στο άσπιλο νησί.
DESCRIPTION:27/8 – 2/9/25 \nΚάρπαθος η Ακριτική! Πεζοπορίες και μικρές διακοπές στο άσπιλο νησί. \nΤετάρτη 27/8 \nΣυνάντηση στις 16:00 στην Πύλη ΧΧ  στο πλοίο ΧΧΧΧΧΧ (θα ανακοινωθούν σύντομα) και αναχώρηση στις 17:00  για Κάρπαθο. \nΠέμπτη 28/8 \nΆφιξη στις 10:30  στην Κάρπαθο. Τακτοποίηση στο ξενοδοχείο και μεταφορά με λεωφορείο στους Μενετές το μεγαλύτερο χωριό του νησιού με παραδοσιακή νησιώτικη αρχιτεκτονική  σε  νεοκλασικό ρυθμό\,  στενά δρομάκια και όμορφη θέα προς τα Πηγάδια. Πεζοπορία σε μονοπάτι προς τα Πηγάδια   Ω.Π.:3-4   Υ.Δ: -400μ. χλμ: 7\,5 Β.Δ:1. \nΠαρασκευή 29/8 \nΜεταφορά με σκάφος από τα Πηγάδια στην νήσο Σαρία. Το νησί είναι διάσπαρτο από αρχαία μνημεία\, ερείπια και υπολείμματα αρχαίων οικισμών. \nΠεζοπορία σε μονοπάτι ξεκινώντας από την παραλία στο νότιο τμήμα του νησιού έως την παραλία Παλάτια. Κολύμπι και επιστροφή.   Ω.Π.:3  Σ.Υ.Δ:510μ.  χλμ: 7\,2 Β.Δ:1+. \nΣτη θέση Παλάτια υπάρχουν παλαιοχριστιανικά και μεσαιωνικά κτίσματα\, ενώ ο ιδιόμορφος μεσαιωνικός οικισμός του 10ου αι. με τα παράξενα θολωτά κτίσματα\, που βρίσκεται στο λόφο πάνω από τα Παλάτια\, πιθανολογείται ότι ήταν αραβικός οικισμός ή ορμητήριο Σαρακηνών πειρατών. \nΣάββατο 30/8 \nΜεταφορά με πούλμαν στην Αυλώνα\, ένα μικρό παραδοσιακό αγροτικό οικισμό της βόρειας Καρπάθου\, από εκεί ξεκινάει λιθόστρωτο μονοπάτι για τον αρχαιολογικό χώρο της αρχαίας πόλης Βρουκούντας στον οποίο σώζονται δεκάδες λαξευτοί τάφοι\, ερείπια τειχών και οχυρώσεων καθώς και τμήματα των ελληνιστικών τειχών της και με το πανέμορφο υπόγειο εκκλησάκι του Αϊ Γιάννη. Επιστροφή στην Αυλώνα. Ω.Π.:3   Σ.Υ.Δ: 323μ. χλμ: 7\,4 Β.Δ:1. Συνέχιση της πεζοπορίας ή μεταφορά με λεωφορείο στην πανέμορφη  Όλυμπο   με τα ανεπανάληπτα δημιουργήματα νησιώτικης αρχιτεκτονικής\,  ένα ζωντανό  λαογραφικό μουσείο\, λόγω και της γεωγραφικής θέσης του χωριού\, οι κάτοικοι διατήρησαν τις παραδόσεις τους.  Ω.Π.: 1-.30  Υ.Δ: 149μ. Χλμ: 4\,5 Β.Δ:1 . \nΗ Όλυμπος ή Έλυμπος όπως αποκαλούν το χωριό της Καρπάθου οι ντόπιοι είναι ίσως η τελευταία μητριαρχική   κοινωνία σε όλη την Ευρώπη. Αυτή η διαφορετική μορφή της τοπικής κοινωνίας οφείλεται και στην μετανάστευση των ανδρών στο εξωτερικό. Είναι χαρακτηριστικό  πως η περιουσία\, που ανήκει στη γυναίκα του σπιτιού\, μεταβιβάζεται κάθε φορά στην μεγαλύτερη σε ηλικία κόρη και όχι στον γιο. \nΚυριακή 31/8 \nΜεταφορά με λεωφορείο στη Λάστο   όπου ξεκινάει η πεζοπορία για την ψηλότερη κορφή της Καρπάθου την Καλή Λίμνη(1215μ.)  με εκπληκτική  θέα όλης της Καρπάθου και τα νησιά του Αιγαίου  Κάσο\, Ρόδο\, Κρήτη  κλπ. Ω.Π.:3   Υ.Δ: 210μ. χλμ: 4\,4 Β.Δ:1. Επιστροφή  στην Λάστο και συνέχιση της πεζοπορίας ή μεταφορά με λεωφορείο στην  Βωλάδα\,  ένα χωριό  βυθισμένο στο πράσινο και γεμάτο από φυσικές πηγές\,  διατηρεί μερικά όμορφα δείγματα του Καρπαθιώτικου παραδοσιακού σπιτιού. Ω.Π.:2-2.5  Υ.Δ: 240μ. χλμ: 6\,7 Β.Δ:1. \nΔευτέρα 1/9 \nΜεταφορά με λεωφορείο στην Όλυμπο. Από εκεί πεζοπορία σε μονοπάτι προς τον Προφήτη Ηλία\,  με υπέροχη θέα προς την Όλυμπο και όλη την Κάρπαθο\, στη συνέχεια πεζοπορία προς στο γραφικό  παραθαλάσσιο οικισμό Διαφάνι για κολύμπι.  Όλυμπος-Προφ. Ηλίας-Δρόμος για Διαφάνι  Ω.Π.:2   Σ.Υ.Δ: 467μ. χλμ: 4\,5 Β.Δ:1.. Δρόμος για Διαφάνι-Διαφάνι  Ω.Π.: 2\,5-3  Υ.Δ: 350μ. χλμ: 6\,4 Β.Δ:1+. \n  \nΤρίτη 2/9  \nΕλεύθερη ημέρα για κολύμπι στις υπέροχες παραλίες της Καρπάθου με καραβάκι ή το ΚΤΕΛ. Αναχώρηση στις 20:00  για Πειραιά. \n  \nΤετάρτη 3/9 \nΆφιξη στις 09:30  στον Πειραιά. \n   \n 
URL:https://eposfilis.gr/event/%ce%ba%ce%ac%cf%81%cf%80%ce%b1%ce%b8%ce%bf%cf%82-%ce%b7-%ce%b1%ce%ba%cf%81%ce%b9%cf%84%ce%b9%ce%ba%ce%ae-%cf%80%ce%b5%ce%b6%ce%bf%cf%80%ce%bf%cf%81%ce%af%ce%b5%cf%82-%ce%ba%ce%b1%ce%b9-%ce%bc%ce%b9/
CATEGORIES:Ημερολόγιο
ATTACH;FMTTYPE=image/jpeg:https://eposfilis.gr/wp-content/uploads/2025/05/karpathos-kyra-panagia-02-opt.jpg
END:VEVENT
END:VCALENDAR