BEGIN:VCALENDAR
VERSION:2.0
PRODID:-//Ε.Π.Ο.Σ. ΦΥΛΗΣ - ECPv6.15.18//NONSGML v1.0//EN
CALSCALE:GREGORIAN
METHOD:PUBLISH
X-WR-CALNAME:Ε.Π.Ο.Σ. ΦΥΛΗΣ
X-ORIGINAL-URL:https://eposfilis.gr
X-WR-CALDESC:Events for Ε.Π.Ο.Σ. ΦΥΛΗΣ
REFRESH-INTERVAL;VALUE=DURATION:PT1H
X-Robots-Tag:noindex
X-PUBLISHED-TTL:PT1H
BEGIN:VTIMEZONE
TZID:Europe/Athens
BEGIN:DAYLIGHT
TZOFFSETFROM:+0200
TZOFFSETTO:+0300
TZNAME:EEST
DTSTART:20240331T010000
END:DAYLIGHT
BEGIN:STANDARD
TZOFFSETFROM:+0300
TZOFFSETTO:+0200
TZNAME:EET
DTSTART:20241027T010000
END:STANDARD
BEGIN:DAYLIGHT
TZOFFSETFROM:+0200
TZOFFSETTO:+0300
TZNAME:EEST
DTSTART:20250330T010000
END:DAYLIGHT
BEGIN:STANDARD
TZOFFSETFROM:+0300
TZOFFSETTO:+0200
TZNAME:EET
DTSTART:20251026T010000
END:STANDARD
BEGIN:DAYLIGHT
TZOFFSETFROM:+0200
TZOFFSETTO:+0300
TZNAME:EEST
DTSTART:20260329T010000
END:DAYLIGHT
BEGIN:STANDARD
TZOFFSETFROM:+0300
TZOFFSETTO:+0200
TZNAME:EET
DTSTART:20261025T010000
END:STANDARD
END:VTIMEZONE
BEGIN:VEVENT
DTSTART;TZID=Europe/Athens:20250927T080000
DTEND;TZID=Europe/Athens:20250928T170000
DTSTAMP:20260422T214759
CREATED:20250826T135329Z
LAST-MODIFIED:20250908T160449Z
UID:6296-1758960000-1759078800@eposfilis.gr
SUMMARY:Ταΰγετος\, Προφήτης Ηλίας (2.407μ.)\, διάσχιση\, διανυκτέρευση στην κορυφή. Πεζοπορίες από το Μυστρά ως την Αναβρυτή κι από το Παρόρι στη Μονή Λαγκαδιώτισσας\, Φανερωμένης\, Ζαγούνας
DESCRIPTION:Ταΰγετος\, Προφήτης Ηλίας (2.407μ.)\, διάσχιση\, διανυκτέρευση στην κορυφή. Πεζοπορίες\nαπό το Μυστρά ως την Αναβρυτή κι από το Παρόρι στη Μονή Λαγκαδιώτισσας\,\nΦανερωμένης\, Ζαγούνας \n27-28 Σεπτεμβρίου \nΤο κοινό όνομα του βουνού είναι Πενταδάκτυλος από τις πέντε κορυφές του βουνού όπως\nφαίνονται από τα ανατολικά. Η αρχαία ονομασία του ήταν «Ταλετός» ενώ το Ταϋγετος προήλθε\nτην Ταϋγέτη\, μία από τις επτά\, κόρες του Άτλαντα και της Πλειόνης. Η σκιά της «πυραμίδας» του\nπέφτει στον Μεσσηνιακό κόλπο τα διαυγή πρωινά.\nΈυκολες πορείες:\nΠεζοπορίες στα μονοπάτια από τον Μυστρά στην Αναβρυτή κι από το Παρόρι στα γύρω\nΜοναστήρια (Λαγκαδιώτισσας\, Φανερωμένης\, Ζαγούνας) *Προτείνεται για αρχάριους*\nΣάββατο: Αναχώρηση στις 07:00 από Αθήνα για τον Μυστρά (295 μ.) όπου και αποβίβαση.\nΞενάγηση στην μεσαιωνική Καστροπολιτεία και στη συνέχεια μέσω του παλιού καλντεριμιού και\nτου ρέματος της Νεροκαρυάς ανάβαση από χωριό Ταϋγέτη – Περγανταίϊκα – Μονή\nΦανερωμένης με πολύ ωραία θέα στον λόφο της καστροπολιτείας του Μυστρά και καταληξη\nστην Αναβρυτή Υ.Δ.: +790 μ. – 380μ.\, Ω.Π.: 4-5\, Β.Δ.: 1\nΚυριακή: Πεζοπορία από το Παρόρι μέσα από εντυπωσιακό μονοπάτι σε φαράγγι\, όπου\nσυναντιέται μέσα σε σπηλιά με την Μονή Παναγιάς Λαγκαδιώτισσας και συνεχίζεται στις\nπλαγιές του φαραγγιού. Από την Μονή Φανερωμένης το μονοπάτι ελίσσεται πάνω στις\nπλαγιές του Αγίου Ελισσαίου συναντά την Παναγία την Ζαγούνα φωλιασμένη στην\nκοιλότητα μιας μεγάλης σπηλιάς και καταλήγει το Παρόρι.\nΥ.Δ.: +470 μ. -510 μ.\, Ω.Π.: 3.30-4\, Β.Δ.: 1\nΔύσκολες πορείες:\nΣάββατο: αναχώρηση στις 07:00 για το χωριό Καστάνια\, προώθηση με αγροτικά προς το\nδάσος της Βασιλικής (1.400 μ.) και ανάβαση προς Άγιο Δημήτριο – Άη Γιώργη (2.020 μ.) –\nΠροφήτη Ηλία (2.405 μ.) όπου και θα γίνει η διανυκτέρευση Ω.Π.: 6-7\, Υ.Δ.: 1.005 μ.\, Β.Δ.: 2\nΚυριακή: Με την ανατολή του ήλιου παρατήρηση της πυραμίδας\, σκιάς του Ταϋγέτου\, στο\nΜεσσηνιακό κόλπο (καιρού επιτρέποντος)\, κατάβαση προς Πόρτες – Βαρβάρα (καταφύγιο) –\nμέσω του Ε4 στα Λακώματα – Αναβρυτή Ω.Π.: 6.30-7\, Β.Δ.: 1 Απαραίτητος χειμερινός\nυπνόσακος ή bivy/ελαφρά μικρή σκηνή\, φακός κεφαλής και ξηρή τροφή \nΣυντονιστές : Δύσκολη πορεια Σταύρος Ανάγνου –εύκολη πορεία Δρόσος Τραπεζάρης
URL:https://eposfilis.gr/event/%cf%84%ce%b1%cf%8d%ce%b3%ce%b5%cf%84%ce%bf%cf%82-%ce%b1-%ce%b2%ce%b1%cf%83%ce%b9%ce%bb%ce%b9%ce%ba%ce%ae-%cf%80%cf%81-%ce%b7%ce%bb%ce%af%ce%b1%cf%82-%cf%8d%cf%80%ce%bd%ce%bf%cf%82-%cf%83%cf%84-2/
CATEGORIES:Ημερολόγιο
ATTACH;FMTTYPE=image/jpeg:https://eposfilis.gr/wp-content/uploads/2025/08/ΤΑΥΓΕΤΟΣ-taigetos-8.jpg
END:VEVENT
END:VCALENDAR