BEGIN:VCALENDAR
VERSION:2.0
PRODID:-//Ε.Π.Ο.Σ. ΦΥΛΗΣ - ECPv6.15.18//NONSGML v1.0//EN
CALSCALE:GREGORIAN
METHOD:PUBLISH
X-WR-CALNAME:Ε.Π.Ο.Σ. ΦΥΛΗΣ
X-ORIGINAL-URL:https://eposfilis.gr
X-WR-CALDESC:Events for Ε.Π.Ο.Σ. ΦΥΛΗΣ
REFRESH-INTERVAL;VALUE=DURATION:PT1H
X-Robots-Tag:noindex
X-PUBLISHED-TTL:PT1H
BEGIN:VTIMEZONE
TZID:Europe/Athens
BEGIN:DAYLIGHT
TZOFFSETFROM:+0200
TZOFFSETTO:+0300
TZNAME:EEST
DTSTART:20240331T010000
END:DAYLIGHT
BEGIN:STANDARD
TZOFFSETFROM:+0300
TZOFFSETTO:+0200
TZNAME:EET
DTSTART:20241027T010000
END:STANDARD
BEGIN:DAYLIGHT
TZOFFSETFROM:+0200
TZOFFSETTO:+0300
TZNAME:EEST
DTSTART:20250330T010000
END:DAYLIGHT
BEGIN:STANDARD
TZOFFSETFROM:+0300
TZOFFSETTO:+0200
TZNAME:EET
DTSTART:20251026T010000
END:STANDARD
BEGIN:DAYLIGHT
TZOFFSETFROM:+0200
TZOFFSETTO:+0300
TZNAME:EEST
DTSTART:20260329T010000
END:DAYLIGHT
BEGIN:STANDARD
TZOFFSETFROM:+0300
TZOFFSETTO:+0200
TZNAME:EET
DTSTART:20261025T010000
END:STANDARD
END:VTIMEZONE
BEGIN:VEVENT
DTSTART;VALUE=DATE:20251004
DTEND;VALUE=DATE:20251005
DTSTAMP:20260422T200156
CREATED:20250819T123904Z
LAST-MODIFIED:20250829T142356Z
UID:6172-1759536000-1759622399@eposfilis.gr
SUMMARY:Εθελοντικός καθαρισμός μονοπατιών του 17ου ορεινού αγώνα «Αρμα Πάρνηθας»  & ορεινού ημαμαραθωνίου
DESCRIPTION:Εθελοντικός καθαρισμός μονοπατιών του 17ου ορεινού αγώνα «Αρμα Πάρνηθας»  & ορεινού ημαμαραθωνίου \n Σάββατο 04/10 \nΣυνάντηση στην πλατεία Δημαρχείου Χασιάς στις 08:30 και μετακίνηση με οχήματα μέχρι τις Πηγές Κρύας Φυλής για τον εθελοντικό καθαρισμό  τμηματικά μονοπατιών απ όπου θα περάσει η διαδρομής του  αγώνα δρόμου (Καστρίζα – πηγή Γκούρας – Ντράσιζα – Μαυρόρεμα – Μπόρσι – Ράχη Καραμανλή). Η συντήρηση των τμημάτων των μονοπατιών θα γίνει σταδιακά και σε ημερομηνίες που θα ανακοινώνονται κατά καιρούς. Ο καθαρισμός θα πραγματοποιηθεί  με ήπια μέσα (θαμνοκοπτικές ψαλίδες\, χειροπρίονα\, τσάπες\, τσουγκράνες κλπ.). Τυχόν ύπαρξη  οχήματος 4Χ4 θα διευκολύνει οργανωτικά την ομάδα. \nΕκτιμώμενος χρόνος εργασίας 4 ώρες. Ο Σύλλογος παρέχει τα εργαλεία κι οι εθελοντές πρέπει να έχουν γάντια εργασίας \nΗ συμμετοχή εθελοντών ανά τρεις εθελοντικούς καθαρισμούς\, δώρο μία μονοήμερη εξόρμηση  \nΑπαραίτητη η κράτηση στο σύλλογο
URL:https://eposfilis.gr/event/6172/
CATEGORIES:Ημερολόγιο
ATTACH;FMTTYPE=image/jpeg:https://eposfilis.gr/wp-content/uploads/2018/04/parnitha_pana_160d9-280.jpg
END:VEVENT
END:VCALENDAR