BEGIN:VCALENDAR
VERSION:2.0
PRODID:-//Ε.Π.Ο.Σ. ΦΥΛΗΣ - ECPv6.15.18//NONSGML v1.0//EN
CALSCALE:GREGORIAN
METHOD:PUBLISH
X-WR-CALNAME:Ε.Π.Ο.Σ. ΦΥΛΗΣ
X-ORIGINAL-URL:https://eposfilis.gr
X-WR-CALDESC:Events for Ε.Π.Ο.Σ. ΦΥΛΗΣ
REFRESH-INTERVAL;VALUE=DURATION:PT1H
X-Robots-Tag:noindex
X-PUBLISHED-TTL:PT1H
BEGIN:VTIMEZONE
TZID:Europe/Athens
BEGIN:DAYLIGHT
TZOFFSETFROM:+0200
TZOFFSETTO:+0300
TZNAME:EEST
DTSTART:20240331T010000
END:DAYLIGHT
BEGIN:STANDARD
TZOFFSETFROM:+0300
TZOFFSETTO:+0200
TZNAME:EET
DTSTART:20241027T010000
END:STANDARD
BEGIN:DAYLIGHT
TZOFFSETFROM:+0200
TZOFFSETTO:+0300
TZNAME:EEST
DTSTART:20250330T010000
END:DAYLIGHT
BEGIN:STANDARD
TZOFFSETFROM:+0300
TZOFFSETTO:+0200
TZNAME:EET
DTSTART:20251026T010000
END:STANDARD
BEGIN:DAYLIGHT
TZOFFSETFROM:+0200
TZOFFSETTO:+0300
TZNAME:EEST
DTSTART:20260329T010000
END:DAYLIGHT
BEGIN:STANDARD
TZOFFSETFROM:+0300
TZOFFSETTO:+0200
TZNAME:EET
DTSTART:20261025T010000
END:STANDARD
END:VTIMEZONE
BEGIN:VEVENT
DTSTART;TZID=Europe/Athens:20251010T080000
DTEND;TZID=Europe/Athens:20251012T170000
DTSTAMP:20260422T200443
CREATED:20250819T135913Z
LAST-MODIFIED:20251007T173551Z
UID:6196-1760083200-1760288400@eposfilis.gr
SUMMARY:Ολυμπος: Κόψη Μπαρμπαλά\, κορυφές Μπαρμπαλά (1.842μ.) & Μύτικας (2.917μ.).
DESCRIPTION:10–12 Οκτωβρίου \n΄Ολυμπος: Κόψη Μπαρμπαλά\, κορυφές Μπαρμπαλά (1.842μ.) & Μύτικας  (2.917μ.).  \nΠαρασκευή: αναχώρηση στις 16:00 για το χωριό Βροντούς και από εκεί θα μεταφερθούν με αγροτικά στο καταφύγιο Κρεββάτια (1.000 μ.) όπου και θα γίνει η διανυκτέρευση. \nΣάββατο: ανάβαση από την κόψη Μπαρμπαλά προς το οροπέδιο των Μουσών\, την ωραιότερη ίσως διαδρομή του Ολύμπου\, με εξαιρετική θέα στις πλαγιές του και στη θάλασσα. Η διαδρομή κινείται μέχρι την κορυφή Μπαρμπαλά (1.842μ.) σε πυκνό δάσος κωνοφόρων και στη συνέχεια κινείται συνεχώς επάνω στην εντυπωσιακή κόψη με θέα την κόψη Ναούμ\, τα «καζάνια» του Ολύμπου αλλά και το κατάφυτο ανατολικό ανάγλυφο του θεϊκού βουνού. Η πορεία καταλήγει στο οροπέδιο των Μουσών όπου η διανυκτέρευση στο καταφύγιο «Γιόσος Αποστολίδης» (2.680 μ.). Ω.Π.: 7-8\, Υ.Δ.: 1.680μ.\, Β.Δ.: 3 Προαιρετική ανάβαση στον Προφήτη Ηλία (2.803μ.). Κυριακή: Πολύ νωρίς το πρωί (με φακούς κεφαλής) ανάβαση από το λούκι στην κορυφή του Ολύμπου\, Μύτικας (2.917μ.) (Απαραίτητη χρήση κράνους). Κατάβαση  περνώντας από το καταφύγιο Σπήλιος Αγαπητός στη θέση Πριόνια (1.050μ.) Ω.Π.: 5-6\, Υ.Δ.: -1.850\, Β.Δ.: 3 \nΣυντονιστής : Θοδωρής Ριζόπουλος
URL:https://eposfilis.gr/event/%ce%bf%ce%bb%cf%85%ce%bc%cf%80%ce%bf%cf%82-%ce%ba%cf%8c%cf%88%ce%b7-%ce%bc%cf%80%ce%b1%cf%81%ce%bc%cf%80%ce%b1%ce%bb%ce%ac-%ce%ba%ce%bf%cf%81%cf%85%cf%86%ce%ad%cf%82-%ce%bc%cf%80%ce%b1%cf%81%ce%bc/
CATEGORIES:Ημερολόγιο
ATTACH;FMTTYPE=image/jpeg:https://eposfilis.gr/wp-content/uploads/2025/08/εικόνα_Viber_2024-10-01_16-54-56-740.jpg
END:VEVENT
BEGIN:VEVENT
DTSTART;VALUE=DATE:20251011
DTEND;VALUE=DATE:20251012
DTSTAMP:20260422T200443
CREATED:20250819T123956Z
LAST-MODIFIED:20250829T142507Z
UID:6174-1760140800-1760227199@eposfilis.gr
SUMMARY:Εθελοντικός καθαρισμός μονοπατιών του 17ου ορεινού αγώνα «Αρμα Πάρνηθας»  & ορεινού ημαμαραθωνίου
DESCRIPTION:Εθελοντικός καθαρισμός μονοπατιών του 17ου ορεινού αγώνα «Αρμα Πάρνηθας»  & ορεινού ημαμαραθωνίου \n Σάββατο 11/10 \nΣυνάντηση στην πλατεία Δημαρχείου Χασιάς στις 08:30 και μετακίνηση με οχήματα μέχρι τις Πηγές Κρύας Φυλής για τον εθελοντικό καθαρισμό  τμηματικά μονοπατιών απ όπου θα περάσει η διαδρομής του  αγώνα δρόμου (Καστρίζα – πηγή Γκούρας – Ντράσιζα – Μαυρόρεμα – Μπόρσι – Ράχη Καραμανλή). Η συντήρηση των τμημάτων των μονοπατιών θα γίνει σταδιακά και σε ημερομηνίες που θα ανακοινώνονται κατά καιρούς. Ο καθαρισμός θα πραγματοποιηθεί  με ήπια μέσα (θαμνοκοπτικές ψαλίδες\, χειροπρίονα\, τσάπες\, τσουγκράνες κλπ.). Τυχόν ύπαρξη  οχήματος 4Χ4 θα διευκολύνει οργανωτικά την ομάδα. \nΕκτιμώμενος χρόνος εργασίας 4 ώρες. Ο Σύλλογος παρέχει τα εργαλεία κι οι εθελοντές πρέπει να έχουν γάντια εργασίας \nΗ συμμετοχή εθελοντών ανά τρεις εθελοντικούς καθαρισμούς\, δώρο μία μονοήμερη εξόρμηση  \nΑπαραίτητη η κράτηση στο σύλλογο
URL:https://eposfilis.gr/event/%ce%b5%ce%b8%ce%b5%ce%bb%ce%bf%ce%bd%cf%84%ce%b9%ce%ba%cf%8c%cf%82-%ce%ba%ce%b1%ce%b8%ce%b1%cf%81%ce%b9%cf%83%ce%bc%cf%8c%cf%82-%ce%bc%ce%bf%ce%bd%ce%bf%cf%80%ce%b1%cf%84%ce%b9%cf%8e%ce%bd-%cf%84-4/
CATEGORIES:Ημερολόγιο
ATTACH;FMTTYPE=image/jpeg:https://eposfilis.gr/wp-content/uploads/2018/02/Parnitha_8ba7b-392.jpg
END:VEVENT
END:VCALENDAR