BEGIN:VCALENDAR
VERSION:2.0
PRODID:-//Ε.Π.Ο.Σ. ΦΥΛΗΣ - ECPv6.15.18//NONSGML v1.0//EN
CALSCALE:GREGORIAN
METHOD:PUBLISH
X-WR-CALNAME:Ε.Π.Ο.Σ. ΦΥΛΗΣ
X-ORIGINAL-URL:https://eposfilis.gr
X-WR-CALDESC:Events for Ε.Π.Ο.Σ. ΦΥΛΗΣ
REFRESH-INTERVAL;VALUE=DURATION:PT1H
X-Robots-Tag:noindex
X-PUBLISHED-TTL:PT1H
BEGIN:VTIMEZONE
TZID:Europe/Athens
BEGIN:DAYLIGHT
TZOFFSETFROM:+0200
TZOFFSETTO:+0300
TZNAME:EEST
DTSTART:20240331T010000
END:DAYLIGHT
BEGIN:STANDARD
TZOFFSETFROM:+0300
TZOFFSETTO:+0200
TZNAME:EET
DTSTART:20241027T010000
END:STANDARD
BEGIN:DAYLIGHT
TZOFFSETFROM:+0200
TZOFFSETTO:+0300
TZNAME:EEST
DTSTART:20250330T010000
END:DAYLIGHT
BEGIN:STANDARD
TZOFFSETFROM:+0300
TZOFFSETTO:+0200
TZNAME:EET
DTSTART:20251026T010000
END:STANDARD
BEGIN:DAYLIGHT
TZOFFSETFROM:+0200
TZOFFSETTO:+0300
TZNAME:EEST
DTSTART:20260329T010000
END:DAYLIGHT
BEGIN:STANDARD
TZOFFSETFROM:+0300
TZOFFSETTO:+0200
TZNAME:EET
DTSTART:20261025T010000
END:STANDARD
END:VTIMEZONE
BEGIN:VEVENT
DTSTART;TZID=Europe/Athens:20251114T000000
DTEND;TZID=Europe/Athens:20251116T235900
DTSTAMP:20260422T162038
CREATED:20250819T135421Z
LAST-MODIFIED:20251110T143511Z
UID:6179-1763078400-1763337540@eposfilis.gr
SUMMARY:Δυτ.Μακεδονία: Όρλιακας (1.433μ.)\, Σταυρός (1.380μ.) διάσχιση. Πέτρινα γεφύρια Πορτίτσας\, Καγγέλια & Αζίζ Αγά.  Μικρή via ferrata - Σπηλιά Καλογριάς. Γεωλογικό φαινόμενο «βαενάκι».
DESCRIPTION:Δυτ.Μακεδονία: Όρλιακας (1.433μ.)\, Σταυρός (1.380μ.) διάσχιση. Πέτρινα γεφύρια Πορτίτσας\, Καγγέλια & Αζίζ Αγά.  Μικρή via ferrata – Σπηλιά Καλογριάς. Γεωλογικό φαινόμενο «βαενάκι».  \nΠαρασκευή: Αναχώρηση στις 16:30 για το χωριό Σπήλαιο Γρεβενών στους πρόποδες του Όρλιακα\, απόληξη της Βασιλίτσας\, όπου οι διανυκτερεύσεις σε ξενώνα ή σε κλειστο χωρο με υπνοσακο και καριματ και με σκηνές. Κατά τη διάρκεια της διαμονής μας στο Σπήλαιο θα περιηγηθούμε το γραφικό χωριό και την Μονή της Παναγίας Θεοτόκου. \nΣάββατο: Κοινή πορεία: Από τις κατασκηνώσεις του Ζιάκα (900μ.) ανηφορίζουμε με κατεύθυνση νότια σε μονοπάτι που κινείται σε μικτό δάσος ίταμου\, οξιάς\, μαύρης πεύκης\, ασφένδαμων και καστανιάς\, θα μας οδηγήσει σε διάσελο ανάμεσα στις δύο κορυφές Σταυρός  και Όρλιακας.   Ορειβατική ομάδα: Ανάβαση στην κορυφή Σταυρός (1.380μ.)\, στη συνέχεια στην  κορυφή Όρλιακας (1.433μ.) και κατάβαση από διαφορετικό μονοπάτι (κυκλική διαδρομή ως ένα σημείο) στο χωριό Σπήλαιο. Από το χωριό  η πεζοπορία μας συνεχίζεται με ανάβαση στην ανατολική κορυφή του Όρλιακα στη θέση σταυρός (1.300μ.) όπου υπάρχει μεγάλος μεταλλικός σταυρός και θα επιστρέψει στο Σπήλαιο. Ω.Π.: 6-7\, Συνολική Υ.Δ.: 750\, Β.Δ.: 2  Πεζοπορική ομάδα: από το διάσελο επιλέγουμε ανάβαση στην  θέση  Σταυρός (1380μ.) και στη συνέχεια κατηφορίζουμε μέχρι το χωριό Σπήλαιο. Ω.Π.: 4\, Υ.Δ.: 450\, Β.Δ.:1 (9χλμ.). \nΠροαιρετικές δραστηριότητες μετά το τέλος των πεζοποριών: \nΠεζοπορία με ΝΑ κατεύθυνση από το χωριό προς το φαράγγι Πορτίτσας από μονοπάτι και μετά από 40 λεπτά φτάνουμε σε ένα διάσελο και υπάρχουν δύο επιλογές: α) με ανατολική κατεύθυνση μέσω via ferrata θα φτάσουμε στη σπηλιά Καλογριάς\, μεγάλο σταλαγμιτικό σπήλαιο\, όπου ασκήτευε μια καλόγρια και σώζεται το κελί της . Η via ferrata αποτελείται από  3 σιδερένιες σκάλες με βοηθητικό συρματόσχοινο δίπλα. Απαραίτητος εξοπλισμός\, κράνος\, μπωντριέ και σύστημα ασφάλισης via ferrata (συνολική διάρκεια δραστηριότητας 2\,5 ώρες) \, ή β) με δυτική κατεύθυνση κατηφορίζουμε ελαφρά για να δούμε το γεωλογικό φαινόμενο «βαενάκι» με εξαιρετική θέα στο φαράγγι της Πορτίτσας (διάρκεια 2\,5 ώρες) \nΓεωπάρκο Γρεβενών Κοζάνης αναγνωρισμένο από την UNESCO : \nΤο Γεωπάρκο Γρεβενών – Κοζάνης: ένα από τα 6 αναγνωρισμένα Γεωπάρκα της\nΕλλάδας που έχουν ενταχθεί στον χάρτη Παγκόσμιων Γεωπάρκων της UNESCO θα\nγνωρίσουμε στις 20:00 στο κτήριο του παλιού Δημοτικού σχολείου το οποίο\nαποτελεί ένα από τα πιο σημαντικά αξιοθέατα του Σπηλαίου. Εκεί η γεωλόγος του\nΓεωπάρκου\, Κ. Άννα Μπάτση θα μας μιλήσει για τα μέρη που έχουμε\nσυμπεριλάβει στις πεζοπορίες μας το Σάββατο και την Κυριακή. Η διάρκεια της\nενημέρωσης θα κυμανθεί από 30-45 λεπτά ανάλογα τις ερωτήσεις των μελών\nμας. \nΚυριακή: Από το χωριό Σπήλαιο (860μ.) κατάβαση από λιθόστρωτο μονοπάτι στις όχθες του Βενέτικου ποταμού και στο εντυπωσιακό φαράγγι της Πορτίτσας όπου σε μήκος περίπου 500μ.  το ύψος των κάθετων βράχων ξεπερνά τα 200 μέτρα. Το φαράγγι σε πολλά σημεία είναι πολύ στενό και το άνοιγμα δεν ξεπερνά τα 8 μέτρα.   Στη συνέχεια η πεζοπορία μας θα συνεχιστεί ανηφορικά  σε δασωμένο μονοπάτι στη συνέχεια σε δασικό και άσφαλτο δρόμο και θα κατηφορίσει σε παραποτάμιο  μονοπάτι  περνώντας και από το γεφύρι Καγγέλια και πάλι προς τον Βενέτικο ποταμό όπου φτάνουμε στο μεγαλύτερο τοξωτό γεφύρι της Μακεδονίας το Αζίζ Αγά.  Ω.Π.: 5\, συνολική Υ.Δ.: 780μ.\, Β.Δ.: 1+ (10χλμ.) \nΘα διασχίσουμε το ποτάμι δύο φορές και ανάλογα τη στάθμη του νερού (ίσως μέχρι το\nγόνατο ή πιο κάτω) θα χρειαστεί να έχουμε μια πετσέτα για να σκουπίσουμε τα πόδια μας.\nΣτην περίπτωση που η στάθμη του νερού είναι ψηλότερη\, υπάρχει εναλλακτική διαδρομή.\nΗ κοίτη του ποταμού σε αυτά τα δύο σημεία είναι βατή αλλά όποιος θέλει μπορεί να\nχρησιμοποιήσει πέδιλα \nΣυντονιστης : Κούσκουρας Αυγερινός & Καλλιόπη Δηλαβεράκη
URL:https://eposfilis.gr/event/%ce%b4%cf%85%cf%84-%ce%bc%ce%b1%ce%ba%ce%b5%ce%b4%ce%bf%ce%bd%ce%af%ce%b1-%cf%8c%cf%81%ce%bb%ce%b9%ce%b1%ce%ba%ce%b1%cf%82-1-433%ce%bc-%cf%83%cf%84%ce%b1%cf%85%cf%81%cf%8c%cf%82-1-380%ce%bc/
CATEGORIES:Ημερολόγιο
ATTACH;FMTTYPE=image/jpeg:https://eposfilis.gr/wp-content/uploads/2025/08/Orliakas-2-1.jpg
END:VEVENT
END:VCALENDAR