BEGIN:VCALENDAR
VERSION:2.0
PRODID:-//Ε.Π.Ο.Σ. ΦΥΛΗΣ - ECPv6.15.18//NONSGML v1.0//EN
CALSCALE:GREGORIAN
METHOD:PUBLISH
X-WR-CALNAME:Ε.Π.Ο.Σ. ΦΥΛΗΣ
X-ORIGINAL-URL:https://eposfilis.gr
X-WR-CALDESC:Events for Ε.Π.Ο.Σ. ΦΥΛΗΣ
REFRESH-INTERVAL;VALUE=DURATION:PT1H
X-Robots-Tag:noindex
X-PUBLISHED-TTL:PT1H
BEGIN:VTIMEZONE
TZID:Europe/Athens
BEGIN:DAYLIGHT
TZOFFSETFROM:+0200
TZOFFSETTO:+0300
TZNAME:EEST
DTSTART:20240331T010000
END:DAYLIGHT
BEGIN:STANDARD
TZOFFSETFROM:+0300
TZOFFSETTO:+0200
TZNAME:EET
DTSTART:20241027T010000
END:STANDARD
BEGIN:DAYLIGHT
TZOFFSETFROM:+0200
TZOFFSETTO:+0300
TZNAME:EEST
DTSTART:20250330T010000
END:DAYLIGHT
BEGIN:STANDARD
TZOFFSETFROM:+0300
TZOFFSETTO:+0200
TZNAME:EET
DTSTART:20251026T010000
END:STANDARD
BEGIN:DAYLIGHT
TZOFFSETFROM:+0200
TZOFFSETTO:+0300
TZNAME:EEST
DTSTART:20260329T010000
END:DAYLIGHT
BEGIN:STANDARD
TZOFFSETFROM:+0300
TZOFFSETTO:+0200
TZNAME:EET
DTSTART:20261025T010000
END:STANDARD
END:VTIMEZONE
BEGIN:VEVENT
DTSTART;VALUE=DATE:20251207
DTEND;VALUE=DATE:20251208
DTSTAMP:20260422T134040
CREATED:20251201T083806Z
LAST-MODIFIED:20251201T175224Z
UID:6525-1765065600-1765151999@eposfilis.gr
SUMMARY:7/12 Καλλίδρομο: Διάσχιση από Ανάβρα έως Θερμοπύλες. Υπαίθρια ιαματικά λουτρά στις Θερμοπύλες
DESCRIPTION:7/12 \nΚαλλίδρομο: Διάσχιση από Ανάβρα έως Θερμοπύλες. Υπαίθρια ιαματικά λουτρά στις Θερμοπύλες \n  \nΑναχώρηση 7:00 για το χωριό Ανάβρα Φθιώτιδας (1.000μ.). \nΗ πορεία αρχίζει από την πλατεία του χωριού Ανάβρα. Ανηφορίζει δυτικά στην ανατολική απόληξη του Καλλίδρομου όρους\, περνώντας αρχικά το λόφο του Παλαιόκαστρου\, όπου υπάρχουν τα απομεινάρια της αρχαίας ακρόπολης των Αλπινών. Ελίσσεται ήπια κάτω από μεικτό δάσος πουρναριών\, πληθώρας κουμαριών\, ελάτης\, διαφόρων ειδών δρυός\, κέδρων κ.λ.π.\, χωρίς αξιόλογη υψομετρική διαφορά. Στο μέσο περίπου της διαδρομής συναντά το επίσης γνωστό “μονοπάτι του Εφιάλτη” ή και “Ανοπαίας Ατραπού”\, το οποίο πλέον και ακολουθεί\, κατηφορίζοντας βόρεια μέχρι το χωριό των Θερμοπυλών\, όπου και ολοκληρώνεται η πορεία. Προαιρετικό κολύμπι στα υπαίθρια ιαματικά λουτρά Θερμοπυλών (Ψωρονέρια) και φαγητό σε ταβερνάκι των Θερμοπυλών. \nΜέτρια διαδρομή\, Ω.Π:4\,5 ώρες\, Υ.Δ. +440μ.\, Β.Δ:1 \nΣυντονιστής πορείας: Αναστασίου Νίκος \n  \n 
URL:https://eposfilis.gr/event/7-12-%ce%ba%ce%b1%ce%bb%ce%bb%ce%af%ce%b4%cf%81%ce%bf%ce%bc%ce%bf-%ce%b4%ce%b9%ce%ac%cf%83%cf%87%ce%b9%cf%83%ce%b7-%ce%b1%cf%80%cf%8c-%ce%b1%ce%bd%ce%ac%ce%b2%cf%81%ce%b1-%ce%ad%cf%89%cf%82-%ce%b8/
CATEGORIES:DEFAULT,Ημερολόγιο
ATTACH;FMTTYPE=image/jpeg:https://eposfilis.gr/wp-content/uploads/2025/12/Kalidromo_Eleftherochori_refuge_view.jpg
END:VEVENT
BEGIN:VEVENT
DTSTART;TZID=Europe/Athens:20251207T093000
DTEND;TZID=Europe/Athens:20251207T170000
DTSTAMP:20260422T134040
CREATED:20251203T132506Z
LAST-MODIFIED:20251203T173651Z
UID:6531-1765099800-1765126800@eposfilis.gr
SUMMARY:7/12/25 Αναρριχητική συνάντηση μελών του Ε.Π.Ο.Σ.Φυλής
DESCRIPTION:Την Κυριακή 7 Δεκεμβρίου\, οι αναρριχήτριες και οι αναρριχητές του Ε.Π.Ο.Σ. Φυλής μαζί με τους εκπαιδευτές μας μαζευόμαστε για το τελευταίο ομαδικό σκαρφάλωμα της χρονιάς! \nΠεδίο: «ΕΠΟΣ ΦΥΛΗΣ» στην Πάρνηθα \nhttps://maps.app.goo.gl/QhovxLUgDZnMHGVY7?g_st=ac \nΡαντεβού εκεί στις 9.30 με τον εξοπλισμό μας (μποντριέ\, κράνος\, παπούτσια\, σχοινί\, σετάκια\, gri-gri/κουβαδάκι)\, νερό και σνακ!
URL:https://eposfilis.gr/event/7-12-25-%ce%b1%ce%bd%ce%b1%cf%81%cf%81%ce%b9%cf%87%ce%b7%cf%84%ce%b9%ce%ba%ce%ae-%cf%83%cf%85%ce%bd%ce%ac%ce%bd%cf%84%ce%b7%cf%83%ce%b7-%ce%bc%ce%b5%ce%bb%cf%8e%ce%bd-%cf%84%ce%bf%cf%85-%ce%b5-%cf%80/
CATEGORIES:Ημερολόγιο
ATTACH;FMTTYPE=image/jpeg:https://eposfilis.gr/wp-content/uploads/2025/12/IMG20250406122438-scaled.jpg
END:VEVENT
END:VCALENDAR