BEGIN:VCALENDAR
VERSION:2.0
PRODID:-//Ε.Π.Ο.Σ. ΦΥΛΗΣ - ECPv6.15.18//NONSGML v1.0//EN
CALSCALE:GREGORIAN
METHOD:PUBLISH
X-ORIGINAL-URL:https://eposfilis.gr
X-WR-CALDESC:Events for Ε.Π.Ο.Σ. ΦΥΛΗΣ
REFRESH-INTERVAL;VALUE=DURATION:PT1H
X-Robots-Tag:noindex
X-PUBLISHED-TTL:PT1H
BEGIN:VTIMEZONE
TZID:Europe/Athens
BEGIN:DAYLIGHT
TZOFFSETFROM:+0200
TZOFFSETTO:+0300
TZNAME:EEST
DTSTART:20240331T010000
END:DAYLIGHT
BEGIN:STANDARD
TZOFFSETFROM:+0300
TZOFFSETTO:+0200
TZNAME:EET
DTSTART:20241027T010000
END:STANDARD
BEGIN:DAYLIGHT
TZOFFSETFROM:+0200
TZOFFSETTO:+0300
TZNAME:EEST
DTSTART:20250330T010000
END:DAYLIGHT
BEGIN:STANDARD
TZOFFSETFROM:+0300
TZOFFSETTO:+0200
TZNAME:EET
DTSTART:20251026T010000
END:STANDARD
BEGIN:DAYLIGHT
TZOFFSETFROM:+0200
TZOFFSETTO:+0300
TZNAME:EEST
DTSTART:20260329T010000
END:DAYLIGHT
BEGIN:STANDARD
TZOFFSETFROM:+0300
TZOFFSETTO:+0200
TZNAME:EET
DTSTART:20261025T010000
END:STANDARD
END:VTIMEZONE
BEGIN:VEVENT
DTSTART;VALUE=DATE:20251214
DTEND;VALUE=DATE:20251215
DTSTAMP:20260422T134627
CREATED:20250819T101502Z
LAST-MODIFIED:20251202T175223Z
UID:6136-1765670400-1765756799@eposfilis.gr
SUMMARY:Παγκόσμια ημέρα βουνού :Αττική. Πάρνηθα: Κατσιμίδι - Λάκκα Τσαούση - Ξηροβούνι (1.119μ.) – Κορομηλιά – Μόλα -Τρίστρατο - Κατσιμίδι (κυκλική)
DESCRIPTION:14/12 \n Παγκόσμια ημέρα βουνού : Αττική. Πάρνηθα: Κατσιμίδι – Λάκκα Τσαούση – Ξηροβούνι (1.119μ.) – Κορομηλιά – Μόλα -Τρίστρατο – Κατσιμίδι (κυκλική)\nΣυνάντηση στην ταβέρνα του Λεωνίδα στη Βαρυμπόμπη στις 07:45. Η πεζοπορία μας αρχίζει  από το Μακρυχωραφο αρχικά σε χωματόδρομο\, στη συνέχεια ακολουθούμε μονοπάτι σε δάσος από πεύκα\, για την Λάκα Τσαούση απ όπου αρχίζει η ανάβαση από υπέροχο μονοπάτι για την κορυφή του Ξηροβουνίου (1.119μ.). Διασχίζοντας την κορυφογραμμή\, αρχίζουμε την κατάβαση προς την πηγή Κορομηλιά. Στη συνέχεια από το Μεσιανό Νερό και φτάνουμε στο λιβάδι της Μόλας κινούμενοι σε μονοπάτι μέσα σε πυκνό δάσος.  Κατόπιν ακολουθώντας ανατολική κατεύθυνση στρίβουμε δεξιά  μέσα από ελατοσκέπαστο μονοπάτι\, φτάνουμε στο Τρίστρατο όπου το μνημείο  πεσόντων από την περιοχή των Καλυβιών  και συνεχίζουμε την κατάβαση  μέσα σε δάσος από κουμαριές\, ακολουθούμε για λίγο χωματόδρομο και έπειτα φτάνουμε  στο Μαχρυχωραφο (κυκλική) Ω.Π.: 6\,50 – 7\, Υ.Δ.: 700\, Β.Δ.: 1+ (15χλμ.) \nΗ πεζοπορία πραγματοποιείται στα πλαίσια της παγκόσμιας ημέρας βουνού με την υποστήριξη της ΕΟΟΑ και του ΟΦΥΠΕΚΑ και είναι αφιερωμένη στην Πάρνηθα\, τον μεγαλύτερο “πνευμονα” οξυγόνου της Αττικής.  \nΣυντονίστριες: Χρυσούλα Γούτσου & Φωτεινή Χριστοπούλου
URL:https://eposfilis.gr/event/%ce%b1%cf%84%cf%84%ce%b9%ce%ba%ce%ae-%cf%80%ce%ac%cf%81%ce%bd%ce%b7%ce%b8%ce%b1-%ce%ba%ce%b1%cf%84%cf%83%ce%b9%ce%bc%ce%af%ce%b4%ce%b9-%ce%bb%ce%ac%ce%ba%ce%ba%ce%b1-%cf%84%cf%83%ce%b1%ce%bf%cf%8d/
CATEGORIES:Ημερολόγιο
ATTACH;FMTTYPE=image/jpeg:https://eposfilis.gr/wp-content/uploads/2025/08/38387942.400x300.jpg
END:VEVENT
END:VCALENDAR