BEGIN:VCALENDAR
VERSION:2.0
PRODID:-//Ε.Π.Ο.Σ. ΦΥΛΗΣ - ECPv6.15.18//NONSGML v1.0//EN
CALSCALE:GREGORIAN
METHOD:PUBLISH
X-WR-CALNAME:Ε.Π.Ο.Σ. ΦΥΛΗΣ
X-ORIGINAL-URL:https://eposfilis.gr
X-WR-CALDESC:Events for Ε.Π.Ο.Σ. ΦΥΛΗΣ
REFRESH-INTERVAL;VALUE=DURATION:PT1H
X-Robots-Tag:noindex
X-PUBLISHED-TTL:PT1H
BEGIN:VTIMEZONE
TZID:Europe/Athens
BEGIN:DAYLIGHT
TZOFFSETFROM:+0200
TZOFFSETTO:+0300
TZNAME:EEST
DTSTART:20250330T010000
END:DAYLIGHT
BEGIN:STANDARD
TZOFFSETFROM:+0300
TZOFFSETTO:+0200
TZNAME:EET
DTSTART:20251026T010000
END:STANDARD
BEGIN:DAYLIGHT
TZOFFSETFROM:+0200
TZOFFSETTO:+0300
TZNAME:EEST
DTSTART:20260329T010000
END:DAYLIGHT
BEGIN:STANDARD
TZOFFSETFROM:+0300
TZOFFSETTO:+0200
TZNAME:EET
DTSTART:20261025T010000
END:STANDARD
BEGIN:DAYLIGHT
TZOFFSETFROM:+0200
TZOFFSETTO:+0300
TZNAME:EEST
DTSTART:20270328T010000
END:DAYLIGHT
BEGIN:STANDARD
TZOFFSETFROM:+0300
TZOFFSETTO:+0200
TZNAME:EET
DTSTART:20271031T010000
END:STANDARD
END:VTIMEZONE
BEGIN:VEVENT
DTSTART;TZID=Europe/Athens:20260110T090000
DTEND;TZID=Europe/Athens:20260111T150000
DTSTAMP:20260422T114102
CREATED:20260108T180423Z
LAST-MODIFIED:20260108T180423Z
UID:6560-1768035600-1768143600@eposfilis.gr
SUMMARY:Σεμινάριο Α΄ Βοηθειών.
DESCRIPTION: Ο Σύλλογός μας\, σε συνεργασία με τον Ελληνικό Ερυθρό Σταυρό (ΕΕΣ)\, διοργανώνει Σεμινάριο Α΄ Βοηθειών. \nΤο εκπαιδευτικό πρόγραμμα «ΠΡΩΤΕΣ ΒΟΗΘΕΙΕΣ ΓΙΑ ΠΟΛΙΤΕΣ» υλοποιείται από πιστοποιημένους Εκπαιδευτές του Τομέα Σαμαρειτών\, Διασωστών και Ναυαγοσωστών του ΕΕΣ με ειδικότητα «ΕΚΠΑΙΔΕΥΤΗ ΠΡΩΤΩΝ ΒΟΗΘΕΙΩΝ και CPR/AED» και αποτελείται από τις παρακάτω 5 ενότητες: \n\nΕΙΣΑΓΩΓΗ – ΒΑΣΙΚΕΣ ΑΡΧΕΣ ΠΡΩΤΩΝ ΒΟΗΘΕΙΩΝ\nΚΑΡΔΙΟΑΝΑΠΝΕΥΣΤΙΚΗ ΑΝΑΖΩΟΓΟΝΗΣΗ\nΑΙΜΟΡΡΑΓΙΕΣ ΚΑΙ ΤΡΑΥΜΑΤΑ\nΕΠΕΙΓΟΝΤΑ ΠΕΡΙΣΤΑΤΙΚΑ\nΑΞΙΟΛΟΓΗΣΗ\n\nΣκοπός είναι οι εκπαιδευόμενοι να είναι σε θέση να προσφέρουν αποτελεσματική βοήθεια με ασφάλεια σε οποιοδήποτε έκτακτο περιστατικό χρειαστεί\, μέχρι να έρθουν οι αρμόδιες υπηρεσίες έκτακτης ανάγκης. \nΜε την επιτυχή ολοκλήρωση του συνόλου του προγράμματος ο εκπαιδευόμενος αποκτά Πιστοποιητικό Εκπαίδευσης\, με ισχύ για 3 χρόνια. \nΤο σεμινάριο έχει διάρκεια 12 ώρες (2 ημέρες) και μπορείτε να επιλέξετε μία από τις παρακάτω ομάδες: \n1)      10 και 11 Ιανουαρίου 2026\, 09:00-15:00 (15 άτομα) \n2)      17 και 18 Ιανουαρίου 2026\, 09:00-15:00 (10 άτομα) \nΤο κόστος συμμετοχής για τα μέλη μας είναι σαράντα ευρώ (40€)\, έναντι αρχικής τιμής 50€. \nΤα μαθήματα θα γίνουν στο κτίριο του ΕΕΣ επί της Γ΄ Σεπτεμβρίου 21\, Ομόνοια. \nΟι ενδιαφερόμενοι μπορούν να δηλώσουν συμμετοχή απαντώντας σε αυτό το email eposfilis@gmail.com  και κοινοποίηση στο zampakidi@gmail.com\, αναφέροντας την ημ/νία του σεμιναρίου που επιλέγετε. Θα τηρηθεί σειρά προτεραιότητας. \nΓια οποιαδήποτε επιπλέον πληροφορία\, μπορείτε να επικοινωνήσετε με την Έφορο Αναρρίχησης και Εκπαίδευσης Ιωάννα Ζαμπακίδη\, Τηλ. επικοινωνίας: 6947911943.
URL:https://eposfilis.gr/event/%cf%83%ce%b5%ce%bc%ce%b9%ce%bd%ce%ac%cf%81%ce%b9%ce%bf-%ce%b1%ce%84-%ce%b2%ce%bf%ce%b7%ce%b8%ce%b5%ce%b9%cf%8e%ce%bd/
CATEGORIES:Ημερολόγιο
END:VEVENT
END:VCALENDAR