BEGIN:VCALENDAR
VERSION:2.0
PRODID:-//Ε.Π.Ο.Σ. ΦΥΛΗΣ - ECPv6.15.18//NONSGML v1.0//EN
CALSCALE:GREGORIAN
METHOD:PUBLISH
X-ORIGINAL-URL:https://eposfilis.gr
X-WR-CALDESC:Events for Ε.Π.Ο.Σ. ΦΥΛΗΣ
REFRESH-INTERVAL;VALUE=DURATION:PT1H
X-Robots-Tag:noindex
X-PUBLISHED-TTL:PT1H
BEGIN:VTIMEZONE
TZID:Europe/Athens
BEGIN:DAYLIGHT
TZOFFSETFROM:+0200
TZOFFSETTO:+0300
TZNAME:EEST
DTSTART:20250330T010000
END:DAYLIGHT
BEGIN:STANDARD
TZOFFSETFROM:+0300
TZOFFSETTO:+0200
TZNAME:EET
DTSTART:20251026T010000
END:STANDARD
BEGIN:DAYLIGHT
TZOFFSETFROM:+0200
TZOFFSETTO:+0300
TZNAME:EEST
DTSTART:20260329T010000
END:DAYLIGHT
BEGIN:STANDARD
TZOFFSETFROM:+0300
TZOFFSETTO:+0200
TZNAME:EET
DTSTART:20261025T010000
END:STANDARD
BEGIN:DAYLIGHT
TZOFFSETFROM:+0200
TZOFFSETTO:+0300
TZNAME:EEST
DTSTART:20270328T010000
END:DAYLIGHT
BEGIN:STANDARD
TZOFFSETFROM:+0300
TZOFFSETTO:+0200
TZNAME:EET
DTSTART:20271031T010000
END:STANDARD
END:VTIMEZONE
BEGIN:VEVENT
DTSTART;TZID=Europe/Athens:20260114T193000
DTEND;TZID=Europe/Athens:20260114T213000
DTSTAMP:20260422T120723
CREATED:20251118T145020Z
LAST-MODIFIED:20251208T160019Z
UID:6459-1768419000-1768426200@eposfilis.gr
SUMMARY:Ετήσια τακτική Γενική Συνέλευση του Ε.Π.Ο.Σ.ΦΥΛΗΣ Τετάρτη 14/1/2026-ΗΜΕΡΗΣΙΑ ΔΙΑΤΑΞΗ
DESCRIPTION:Τετάρτη 14/1/2026\nΚαλούνται τα μέλη να παρευρεθούν στην ετήσια Γενική Συνέλευση\, την Τετάρτη 14/1/26 και  ώρα 19:30 με απαιτούμενη απαρτία του 50%+1 των οικονομικά τακτοποιημένων μελών του Συλλόγου. \nΑν δεν υπάρξει απαρτία\, συγκαλείται επαναληπτική Γ.Σ. αυτόματα στις 20:30 μετά πάροδο μίας ώρας από την σύγκληση της πρώτης\, συνεδριάζει δε έγκυρα οποιοσδήποτε κι αν είναι ο αριθμός των παρόντων οικονομικά τακτοποιημένων μελών (άρθρο 11ο παρ.7 & 8 του Καταστατικού) \nΤόπος και χώρος: Γραφείο του Συλλόγου \nΗμερήσιας Διάταξης Γ.Σ. 14/1/2026 \n1.         Εκλογή Προεδρείου της Γενικής Συνέλευσης \n2.         Διοικητικός Απολογισμός πεπραγμένων του έτους 2025 \n3.         Οικονομικός Απολογισμός έτους 2025 \n4.         Έκθεση Ελεγκτικής Επιτροπής \n5.         Συζήτηση: έγκριση απολογισμών \n6.         Απαλλαγή του Δ.Σ. από κάθε ευθύνη \n7.         Οικονομικός  Προϋπολογισμός έτους 2025 \n8.         Συζήτηση: έγκριση προϋπολογισμού \n9.         Άλλα θέματα
URL:https://eposfilis.gr/event/%ce%b5%cf%84%ce%ae%cf%83%ce%b9%ce%b1-%cf%84%ce%b1%ce%ba%cf%84%ce%b9%ce%ba%ce%ae-%ce%b3%ce%b5%ce%bd%ce%b9%ce%ba%ce%ae-%cf%83%cf%85%ce%bd%ce%ad%ce%bb%ce%b5%cf%85%cf%83%ce%b7-%cf%84%ce%bf%cf%85-%ce%b5/
CATEGORIES:Ημερολόγιο
END:VEVENT
END:VCALENDAR