BEGIN:VCALENDAR
VERSION:2.0
PRODID:-//Ε.Π.Ο.Σ. ΦΥΛΗΣ - ECPv6.15.18//NONSGML v1.0//EN
CALSCALE:GREGORIAN
METHOD:PUBLISH
X-ORIGINAL-URL:https://eposfilis.gr
X-WR-CALDESC:Events for Ε.Π.Ο.Σ. ΦΥΛΗΣ
REFRESH-INTERVAL;VALUE=DURATION:PT1H
X-Robots-Tag:noindex
X-PUBLISHED-TTL:PT1H
BEGIN:VTIMEZONE
TZID:Europe/Athens
BEGIN:DAYLIGHT
TZOFFSETFROM:+0200
TZOFFSETTO:+0300
TZNAME:EEST
DTSTART:20250330T010000
END:DAYLIGHT
BEGIN:STANDARD
TZOFFSETFROM:+0300
TZOFFSETTO:+0200
TZNAME:EET
DTSTART:20251026T010000
END:STANDARD
BEGIN:DAYLIGHT
TZOFFSETFROM:+0200
TZOFFSETTO:+0300
TZNAME:EEST
DTSTART:20260329T010000
END:DAYLIGHT
BEGIN:STANDARD
TZOFFSETFROM:+0300
TZOFFSETTO:+0200
TZNAME:EET
DTSTART:20261025T010000
END:STANDARD
BEGIN:DAYLIGHT
TZOFFSETFROM:+0200
TZOFFSETTO:+0300
TZNAME:EEST
DTSTART:20270328T010000
END:DAYLIGHT
BEGIN:STANDARD
TZOFFSETFROM:+0300
TZOFFSETTO:+0200
TZNAME:EET
DTSTART:20271031T010000
END:STANDARD
END:VTIMEZONE
BEGIN:VEVENT
DTSTART;TZID=Europe/Athens:20260117T090000
DTEND;TZID=Europe/Athens:20260118T150000
DTSTAMP:20260422T114723
CREATED:20260108T180514Z
LAST-MODIFIED:20260108T180514Z
UID:6562-1768640400-1768748400@eposfilis.gr
SUMMARY:Σεμινάριο Α΄ Βοηθειών.
DESCRIPTION: Σύλλογός μας\, σε συνεργασία με τον Ελληνικό Ερυθρό Σταυρό (ΕΕΣ)\, διοργανώνει Σεμινάριο Α΄ Βοηθειών. \nΤο εκπαιδευτικό πρόγραμμα «ΠΡΩΤΕΣ ΒΟΗΘΕΙΕΣ ΓΙΑ ΠΟΛΙΤΕΣ» υλοποιείται από πιστοποιημένους Εκπαιδευτές του Τομέα Σαμαρειτών\, Διασωστών και Ναυαγοσωστών του ΕΕΣ με ειδικότητα «ΕΚΠΑΙΔΕΥΤΗ ΠΡΩΤΩΝ ΒΟΗΘΕΙΩΝ και CPR/AED» και αποτελείται από τις παρακάτω 5 ενότητες: \n\nΕΙΣΑΓΩΓΗ – ΒΑΣΙΚΕΣ ΑΡΧΕΣ ΠΡΩΤΩΝ ΒΟΗΘΕΙΩΝ\nΚΑΡΔΙΟΑΝΑΠΝΕΥΣΤΙΚΗ ΑΝΑΖΩΟΓΟΝΗΣΗ\nΑΙΜΟΡΡΑΓΙΕΣ ΚΑΙ ΤΡΑΥΜΑΤΑ\nΕΠΕΙΓΟΝΤΑ ΠΕΡΙΣΤΑΤΙΚΑ\nΑΞΙΟΛΟΓΗΣΗ\n\nΣκοπός είναι οι εκπαιδευόμενοι να είναι σε θέση να προσφέρουν αποτελεσματική βοήθεια με ασφάλεια σε οποιοδήποτε έκτακτο περιστατικό χρειαστεί\, μέχρι να έρθουν οι αρμόδιες υπηρεσίες έκτακτης ανάγκης. \nΜε την επιτυχή ολοκλήρωση του συνόλου του προγράμματος ο εκπαιδευόμενος αποκτά Πιστοποιητικό Εκπαίδευσης\, με ισχύ για 3 χρόνια. \nΤο σεμινάριο έχει διάρκεια 12 ώρες (2 ημέρες) και μπορείτε να επιλέξετε μία από τις παρακάτω ομάδες: \n1)      10 και 11 Ιανουαρίου 2026\, 09:00-15:00 (15 άτομα) \n2)      17 και 18 Ιανουαρίου 2026\, 09:00-15:00 (10 άτομα) \nΤο κόστος συμμετοχής για τα μέλη μας είναι σαράντα ευρώ (40€)\, έναντι αρχικής τιμής 50€. \nΤα μαθήματα θα γίνουν στο κτίριο του ΕΕΣ επί της Γ΄ Σεπτεμβρίου 21\, Ομόνοια. \nΟι ενδιαφερόμενοι μπορούν να δηλώσουν συμμετοχή απαντώντας σε αυτό το email eposfilis@gmail.com  και κοινοποίηση στο zampakidi@gmail.com\, αναφέροντας την ημ/νία του σεμιναρίου που επιλέγετε. Θα τηρηθεί σειρά προτεραιότητας. \nΓια οποιαδήποτε επιπλέον πληροφορία\, μπορείτε να επικοινωνήσετε με την Έφορο Αναρρίχησης και Εκπαίδευσης Ιωάννα Ζαμπακίδη\, Τηλ. επικοινωνίας: 6947911943.
URL:https://eposfilis.gr/event/%cf%83%ce%b5%ce%bc%ce%b9%ce%bd%ce%ac%cf%81%ce%b9%ce%bf-%ce%b1%ce%84-%ce%b2%ce%bf%ce%b7%ce%b8%ce%b5%ce%b9%cf%8e%ce%bd-2/
CATEGORIES:Ημερολόγιο
END:VEVENT
BEGIN:VEVENT
DTSTART;TZID=Europe/Athens:20260118T070000
DTEND;TZID=Europe/Athens:20260118T170000
DTSTAMP:20260422T114723
CREATED:20251121T182354Z
LAST-MODIFIED:20260116T171414Z
UID:6494-1768719600-1768755600@eposfilis.gr
SUMMARY:Κιθαιρώνας (1.409μ.)\, από Ερυθρές (διάσχιση). Αρχαιολογικό μουσείο Θήβας. Κοπή πρωτοχρονιάτικης πίτας. Παρουσίαση φωτογραφιών από την εξόρμηση στην Σοκότρα (Υεμένη). Βραβεύσεις ορειβατών\, αθλητών\, αναρριχητών και εθελοντών
DESCRIPTION:18/1/26 \nΚιθαιρώνας (1.409μ.)\, από Ερυθρές (διάσχιση). Αρχαιολογικό μουσείο Θήβας. Κοπή πρωτοχρονιάτικης πίτας. Παρουσίαση φωτογραφιών από την εξόρμηση στην Σοκότρα (Υεμένη). Βραβεύσεις ορειβατών\, αθλητών\, αναρριχητών και εθελοντών \nΤο νέο  Αρχαιολογικό Μουσείο Θηβών είναι από τα σημαντικότερα σύγχρονα αρχαιολογικά μουσεία στην Ελλάδα\, καθώς μερικές από τις συλλογές που περιλαμβάνει είναι σπάνιες ή  μοναδικές στο είδος τους. Τα εκθέματά του προέρχονται από ανασκαφές στη Βοιωτία και καλύπτουν χρονολογικά τον πολιτισμό της περιοχής από τα παλαιολιθικά χρόνια έως τους μεταβυζαντινούς χρόνους. \n*Η εύκολη πορεία προτείνεται για αρχαρίους \nΑναχώρηση 07:00 για τη Θήβα  όπου επίσκεψη της πεζοπορικής ομάδας στο Αρχαιολογικό μουσείο και συνέχιση της ορειβατικής ομάδας  οδικώς  μέχρι τις Ερυθρές όπου θα αποβιβαστούν για την πεζοπορία. \nΕύκολη πορεία: Μετά την επίσκεψη στο αρχαιολογικό μουσείο θα μετακινηθούμε οδικώς για τις Ερυθρές (390μ.) απ’ όπου θα αρχίσει η πεζοπορία μας\,  από καλά σημαδοτημένο μονοπάτι. Ανηφορίζοντας το μονοπάτι κινείται σε όμορφο ελατόδασος  μέχρι το καταφύγιο του Κιθαιρώνα (1.090μ.) Ω.Π.: 2-3\, Υ.Δ.: 700\, Β.Δ.: 1 \nΔύσκολη πορεία: Από τις Ερυθρές  (390μ.) αρχίζει η πεζοπορία  μας μέχρι το καταφύγιο και συνεχίζεται η  ανάβασή μας δυτικά προς τις  Τρεις Κορυφές (1.358μ.) και μετά στην κορυφή Προφήτης Ηλίας ή Ελατιάς (1.409 μ.) και επιστροφή μέχρι το διάσελο στο καταφύγιο (1.090μ.)   Ω.Π.: 5\,30-6\, Υ.Δ.: 1020\, Β.Δ.: 2 (ή 6 με χιόνι). \nΣτο καταφύγιο θα ακολουθήσει παρουσίαση φωτογραφιών από το ταξίδι του Συλλόγου στο νησί  Σοκότρα της Υεμένης. Κοπή της πίτας του συλλόγου και  επιβραβεύσεις ορειβατών\, αναρριχητών\, πυροφυλάκων  και αθλητών του συλλόγου.  Αναχώρηση με το πούλμαν από το καταφύγιο εκτός εάν υπάρχει χιόνι\, οπότε κατάβαση πεζοπορώντας στην βρύση της Τσίας πάνω από το χωριό Βίλια. Φαγητό σε ταβέρνα των Βιλίων. \nΣυντονιστής δύσκολης πορείας:  Νίκος Μητρόπουλος \nΣυντονιστής εύκολης πορείας: Γρηγόρης Γρηγοράκης \n \n \n 
URL:https://eposfilis.gr/event/%ce%ba%ce%b9%ce%b8%ce%b1%ce%b9%cf%81%cf%8e%ce%bd%ce%b1%cf%82-1-409%ce%bc-%ce%b1%cf%80%cf%8c-%cf%80%ce%bb%ce%b1%cf%84%ce%b1%ce%b9%ce%ad%cf%82-%ce%b4%ce%b9%ce%ac%cf%83%cf%87%ce%b9%cf%83%ce%b7/
CATEGORIES:Ημερολόγιο
ATTACH;FMTTYPE=image/jpeg:https://eposfilis.gr/wp-content/uploads/2025/11/kithaironas2-1.jpeg
END:VEVENT
END:VCALENDAR