BEGIN:VCALENDAR
VERSION:2.0
PRODID:-//Ε.Π.Ο.Σ. ΦΥΛΗΣ - ECPv6.15.18//NONSGML v1.0//EN
CALSCALE:GREGORIAN
METHOD:PUBLISH
X-ORIGINAL-URL:https://eposfilis.gr
X-WR-CALDESC:Events for Ε.Π.Ο.Σ. ΦΥΛΗΣ
REFRESH-INTERVAL;VALUE=DURATION:PT1H
X-Robots-Tag:noindex
X-PUBLISHED-TTL:PT1H
BEGIN:VTIMEZONE
TZID:Europe/Athens
BEGIN:DAYLIGHT
TZOFFSETFROM:+0200
TZOFFSETTO:+0300
TZNAME:EEST
DTSTART:20250330T010000
END:DAYLIGHT
BEGIN:STANDARD
TZOFFSETFROM:+0300
TZOFFSETTO:+0200
TZNAME:EET
DTSTART:20251026T010000
END:STANDARD
BEGIN:DAYLIGHT
TZOFFSETFROM:+0200
TZOFFSETTO:+0300
TZNAME:EEST
DTSTART:20260329T010000
END:DAYLIGHT
BEGIN:STANDARD
TZOFFSETFROM:+0300
TZOFFSETTO:+0200
TZNAME:EET
DTSTART:20261025T010000
END:STANDARD
BEGIN:DAYLIGHT
TZOFFSETFROM:+0200
TZOFFSETTO:+0300
TZNAME:EEST
DTSTART:20270328T010000
END:DAYLIGHT
BEGIN:STANDARD
TZOFFSETFROM:+0300
TZOFFSETTO:+0200
TZNAME:EET
DTSTART:20271031T010000
END:STANDARD
END:VTIMEZONE
BEGIN:VEVENT
DTSTART;TZID=Europe/Athens:20260124T080000
DTEND;TZID=Europe/Athens:20260124T170000
DTSTAMP:20260422T114704
CREATED:20260113T145910Z
LAST-MODIFIED:20260113T145910Z
UID:6598-1769241600-1769274000@eposfilis.gr
SUMMARY:5ος Διασυλλογικός Αγώνας – “Ερμής Θεοχαρόπουλος” Αγώνας – Boulder
DESCRIPTION:5ος Διασυλλογικός Αγώνας – “Ερμής Θεοχαρόπουλος” Αγώνας – Boulder\nΔΙΟΡΓΑΝΩΣΗ: Ε.Π.Ο.Σ. ΦΥΛΗΣ\, Ε.Ο.Σ ΑΧΑΡΝΩΝ καΙ Π.Ο.Σ. ΠΕΤΡΟΥΠΟΛΗΣ\nΣύμφωνα με το αγωνιστικό πρόγραμμα της Ε.Ο.Ο.Α.\, προκηρύσσεται ο\n5ος ΔΙασυλλογΙκός Αγώνας Boulder.\n1. ΤΟΠΟΣ – ΗΜΕΡΟΜΗΝΙΑ ΔΙΕΞΑΓΩΓΗΣ\nA΄ Αγώνας Σάββατο 24/01/2026: Αναρριχητική Πίστα Ε.Π.Ο.Σ. Φυλής\, (διεύθυνση Ικτίνου 3 & Προμηθέως\, ΦΥΛΗ 13344)\nΚΑΤΗΓΟΡΙΕΣ ΑΘΛΗΤΩΝ\nΣάββατο 24/01/2026 (πρωί 8:30) οΙ Κατηγορίες:\nΠαμπαίδες/Παγκορασίδες Δ (2018-2019)\nΠαμπαίδες/Παγκορασίδες Γ (2016-2017)\nΠαμπαίδες/Παγκορασίδες Β (2014-2015)\nΠαμπαίδες/Παγκορασίδες Α (2012-2013)\nΠαίδες;/Κορασίδες (2010-2011)\nΈφηβοι/Νεανίδες (2008-2009)\nΤόπος Διεξαγωγής: Αναρριχητική Πίστα Ε.Π.Ο.Σ. Φυλής\, (διεύθυνση Ικτίνου 3 & Προμηθέως\, ΦΥΛΗ)\n Ελάχιστος αριθμός αθλητών ανά κατηγορία τρεις (3) αθλητές.\n ΔΙΚΑΙΩΜΑ ΣΥΜΜΕΤΟΧΗΣ\nΔικαίωμα συμμετοχής έχουν όλοι οι αθλητές των συλλόγων με θεωρημένη κάρτα υγείας για το τρέχον έτος\n2026 ή η ημερομηνία λήξης του ΔΕΛΤΙΟΥ ΥΓΕΙΑΣ να είναι μεταγενέστερη της 24/1/2026\n ΔΗΛΩΣΕΙΣ ΣΥΜΜΕΤΟΧΗΣ\nΗ δήλωση συμμετοχής γίνεται στον παρακάτω σύνδεσμο:\nhttps://forms.gle/Pz9J37fqQBV5iefFA\nΔηλώσεις συμμετοχής για τον Αγώνα υποβάλλονται αυστηρά έως την Τρίτη 20/01/2026 και ώρα 24:00\nΣύνδεσμος για έλεγχο στοιχείων και μετάδοση αποτελεσμάτων κατά την διάρκεια του αγώνα:\nhttps://docs.google.com/spreadsheets/d/e/2PACX-1vSNm52dJ8pnSKj7Jg6gaBKMpZNbe4Uz1jZZMll75nwhL4g_AW05YRnpc9hw0giEwiByi7EcLbG5jjyS/pubhtml \nΟι αρχηγοί των συμμετεχόντων Σωματείων υποχρεούνται να προσκομίσουν στη Γραμματεία των αγώνων και ώρα 08.30 π.μ. το Σάββατο 24/1/26 λίστα με τους αθλητές που έχουν δηλώσει συμμετοχή και τις κάρτες υγείας των αθλητών. Οι κάρτες υγείας των αθλητών πρέπει να είναι θεωρημένες από γιατρό καρδιολόγο για\nτο 2026 διαφορετικά οι αθλητές θα αποκλείονται από τον αγώνα και δεν θα επιτραπεί η συμμετοχή τους.\n ΣΥΣΚΕΨΗ ΑΡΧΗΓΩΝ\nΗ σύσκεψη των αρχηγών θα πραγματοποιηθεί με τηλεδιάσκεψη την Πέμπτη 22/01/2026 και ώρα 14:30. Περισσότερες λεπτομέρειες θα δοθούν έγκαιρα. Όλοι οι σύλλογοι πρέπει να στείλουν τα όνομα και το email ενός τακτικού και ενός αναπληρωματικού στελέχους έως τις 21/01/2026 ώστε να τους σταλθεί ο ηλεκτρονικός σύνδεσμος συμμετοχής στην τηλεδιάσκεψη. Τα email συμμετοχής στην τηλεδΙάσκεψη\, παρακαλούμε να σταλούν στο email zoipapaefthimiou@outlook.com . Σωματεία που δεν θα συμμετάσχουν στη σύσκεψη\, υποχρεούνται να δεχθούν τις αποφάσεις της σύσκεψης.\n ΣΥΝΔΡΟΜΗ ΣΥΜΜΕΤΟΧΗΣ ΣΤΟΝ ΑΓΏΝΑ\nΗ συνδρομή συμμετοχής στον Αγώνα Boulder του Σάββατο 24/01/2026 είναΙ γΙα κάθε αθλητή 15€\nσύμφωνα με το εγκύκλιο έγγραφο της ΕΟΟΑ του Ιανουαρίου 2025.\nΠαρακαλείται ο κάθε αρχηγός Σωματείου\, μαζί με τα δελτία υγείας αθλητών να προσκομίσει στη Γραμματεία του αγώνα και το συνολικό αντίτιμο συνδρομών για όλους τους αθλητές του\, γιατί θα εκδίδεται μια απόδειξη για το σύνολο των αθλητών ανά αθλητικό σωματείο.\n8. ΒΡΑΒΕΥΣΗ ΑΘΛΗΤΩΝ καΙ ΣΥΛΛΟΓΩΝ\nΣε όλους τους αθλητές θα απονεμηθούν αναμνηστΙκά δΙπλώματα. Στους τρεΙς πρώτους κάθε κατηγορίας θα δοθούν μετάλλΙα (χρυσό\, αργυρό\, χάλκινο)\nΘα ανακοινωθούν αποτελέσματα βαθμολογίας για τους αθλητές και τους Συλλόγους. Ο τρόπος υπολογισμού για τις βαθμολογίες των Συλλόγων και των αθλητών γίνεται όπως και στους Αγώνες Κυπέλλου και ισχύουν τα εξής:\n Σε κάθε κατηγορία υπολογίζονται οι τρεις καλύτεροι αθλητές από κάθε Σύλλογο. Αν έχει 4\, 5 ή και παραπάνω αθλητές σε μία κατηγορία μόνο οι τρεις καλύτεροι δίνουν βαθμολογία στον Σύλλογο.\n Σε ισοπαλίες προσθέτονται οι βαθμοί στη σειρά και διαιρούνται με τον αριθμό των αθλητών που ισοβαθμούν. Γι ΄ αυτό μπορεί να προκύπτουν δεκαδικά.\n Το Πρόγραμμα των αγώνων θα ανακοινωθεί άμεσα μετά την σύσκεψη των αρχηγών των Συλλόγων της 22/1/26 λαμβάνοντας υπόψη καΙ τΙς συμμετοχές.\nΧορηγοί οΙ ΟποίοΙ θα υποστηρίξουν τους αθλητές του αγώνα είναι οι εταιρείες Polo. Freerider\, Climbing holds με δώρα: 2 αναρριχητικά σχοινιά\, κράνος\, και πολλά άλλα δωράκια.\nΤους ευχαριστούμε πολύ για τη συμβολή τους !!!
URL:https://eposfilis.gr/event/5%ce%bf%cf%82-%ce%b4%ce%b9%ce%b1%cf%83%cf%85%ce%bb%ce%bb%ce%bf%ce%b3%ce%b9%ce%ba%cf%8c%cf%82-%ce%b1%ce%b3%cf%8e%ce%bd%ce%b1%cf%82-%ce%b5%cf%81%ce%bc%ce%ae%cf%82-%ce%b8%ce%b5%ce%bf/
CATEGORIES:Ημερολόγιο
ATTACH;FMTTYPE=image/jpeg:https://eposfilis.gr/wp-content/uploads/2026/01/24126-1024x1432-1.jpg
END:VEVENT
END:VCALENDAR