BEGIN:VCALENDAR
VERSION:2.0
PRODID:-//Ε.Π.Ο.Σ. ΦΥΛΗΣ - ECPv6.15.18//NONSGML v1.0//EN
CALSCALE:GREGORIAN
METHOD:PUBLISH
X-ORIGINAL-URL:https://eposfilis.gr
X-WR-CALDESC:Events for Ε.Π.Ο.Σ. ΦΥΛΗΣ
REFRESH-INTERVAL;VALUE=DURATION:PT1H
X-Robots-Tag:noindex
X-PUBLISHED-TTL:PT1H
BEGIN:VTIMEZONE
TZID:Europe/Athens
BEGIN:DAYLIGHT
TZOFFSETFROM:+0200
TZOFFSETTO:+0300
TZNAME:EEST
DTSTART:20250330T010000
END:DAYLIGHT
BEGIN:STANDARD
TZOFFSETFROM:+0300
TZOFFSETTO:+0200
TZNAME:EET
DTSTART:20251026T010000
END:STANDARD
BEGIN:DAYLIGHT
TZOFFSETFROM:+0200
TZOFFSETTO:+0300
TZNAME:EEST
DTSTART:20260329T010000
END:DAYLIGHT
BEGIN:STANDARD
TZOFFSETFROM:+0300
TZOFFSETTO:+0200
TZNAME:EET
DTSTART:20261025T010000
END:STANDARD
BEGIN:DAYLIGHT
TZOFFSETFROM:+0200
TZOFFSETTO:+0300
TZNAME:EEST
DTSTART:20270328T010000
END:DAYLIGHT
BEGIN:STANDARD
TZOFFSETFROM:+0300
TZOFFSETTO:+0200
TZNAME:EET
DTSTART:20271031T010000
END:STANDARD
END:VTIMEZONE
BEGIN:VEVENT
DTSTART;TZID=Europe/Athens:20260125T083000
DTEND;TZID=Europe/Athens:20260125T170000
DTSTAMP:20260422T120732
CREATED:20260114T155108Z
LAST-MODIFIED:20260119T172834Z
UID:6606-1769329800-1769360400@eposfilis.gr
SUMMARY:Κεντρική Πάρνηθα: Καζίνο – Φλαμπούρι - Πηγή Κυράς -  Πυροφυλάκιο ΕΔΑΣΑ στη Σκίπιζα  -  Μπάφι - Καζίνο.
DESCRIPTION:25/1 \nΚεντρική Πάρνηθα: Καζίνο – Φλαμπούρι – Πηγή Κυράς –  Πυροφυλάκιο ΕΔΑΣΑ στη Σκίπιζα  –  Μπάφι – Καζίνο. \nΜια κυκλική διαδρομή στην καρδιά της Πάρνηθας. \nΣυνάντηση στο πάρκινγκ του τελεφερίκ της Πάρνηθας στις 08:15 αυστηρά για να αναχωρήσουμε με το βαγόνι  των 08:30 \n Η πεζοπορία μας ξεκινά από το Καζίνο. Κατευθυνόμαστε προς το καταφύγιο Φλαμπούρι (1.149 μ. ) όπου και η πρώτη στάση μας. Στη συνέχεια κατηφορίζουμε προς την πηγή Κυρά (1.092 μ.). Μετά μέσω του μονοπατιού Ο22 ανηφορίζουμε για το Πυροφυλάκιο του ΕΔΑΣΑ στην Σκίπιζα όπου θα απολαύσουμε την πανοραμική θέα. Το πυροφυλάκειο της Σκίπιζας βρίσκεται στην ομώνυμη θέση σε υψόμετρο 1270 μέτρων στη ΒΔ πλευρά της Πάρνηθας. (“Σκίπιζα” στην αρβανίτικη διάλεκτο σημαίνει “αετοφωλιά”). Παίρνουμε το κατηφορικό μονοπάτι της επιστροφής προς Μπάφι και συνεχίζουμε προς το σημείο εκκίνησης. Το μεγαλύτερο μέρος της διαδρομής κινείται μέσα σε πυκνό δάσος πεύκων και ελάτης. \nΩ.Π.: 5.30-6\, Υ.Δ.: 600\, Β.Δ.: 1+ )16χλμ.) \nΣυντονίστρια: Χρυσάνθη Γεωργούλη
URL:https://eposfilis.gr/event/%ce%ba%ce%b5%ce%bd%cf%84%cf%81%ce%b9%ce%ba%ce%ae-%cf%80%ce%ac%cf%81%ce%bd%ce%b7%ce%b8%ce%b1-%ce%ba%ce%b1%ce%b6%ce%af%ce%bd%ce%bf-%cf%86%ce%bb%ce%b1%ce%bc%cf%80%ce%bf%cf%8d%cf%81%ce%b9/
CATEGORIES:Ημερολόγιο
END:VEVENT
END:VCALENDAR