BEGIN:VCALENDAR
VERSION:2.0
PRODID:-//Ε.Π.Ο.Σ. ΦΥΛΗΣ - ECPv6.15.18//NONSGML v1.0//EN
CALSCALE:GREGORIAN
METHOD:PUBLISH
X-WR-CALNAME:Ε.Π.Ο.Σ. ΦΥΛΗΣ
X-ORIGINAL-URL:https://eposfilis.gr
X-WR-CALDESC:Events for Ε.Π.Ο.Σ. ΦΥΛΗΣ
REFRESH-INTERVAL;VALUE=DURATION:PT1H
X-Robots-Tag:noindex
X-PUBLISHED-TTL:PT1H
BEGIN:VTIMEZONE
TZID:Europe/Athens
BEGIN:DAYLIGHT
TZOFFSETFROM:+0200
TZOFFSETTO:+0300
TZNAME:EEST
DTSTART:20250330T010000
END:DAYLIGHT
BEGIN:STANDARD
TZOFFSETFROM:+0300
TZOFFSETTO:+0200
TZNAME:EET
DTSTART:20251026T010000
END:STANDARD
BEGIN:DAYLIGHT
TZOFFSETFROM:+0200
TZOFFSETTO:+0300
TZNAME:EEST
DTSTART:20260329T010000
END:DAYLIGHT
BEGIN:STANDARD
TZOFFSETFROM:+0300
TZOFFSETTO:+0200
TZNAME:EET
DTSTART:20261025T010000
END:STANDARD
BEGIN:DAYLIGHT
TZOFFSETFROM:+0200
TZOFFSETTO:+0300
TZNAME:EEST
DTSTART:20270328T010000
END:DAYLIGHT
BEGIN:STANDARD
TZOFFSETFROM:+0300
TZOFFSETTO:+0200
TZNAME:EET
DTSTART:20271031T010000
END:STANDARD
END:VTIMEZONE
BEGIN:VEVENT
DTSTART;TZID=Europe/Athens:20260301T070000
DTEND;TZID=Europe/Athens:20260301T170000
DTSTAMP:20260422T073644
CREATED:20260123T161220Z
LAST-MODIFIED:20260123T161220Z
UID:6661-1772348400-1772384400@eposfilis.gr
SUMMARY:1/3  Μαίναλο: Λεβίδι – Αλωνίσταινα (διάσχιση)
DESCRIPTION:1/3 \nΜαίναλο: Λεβίδι – Αλωνίσταινα (διάσχιση) \nΑναχώρηση στις 07:00 για Λεβίδι Αρκαδίας (900μ.).  Έναρξη πορείας σε σηματοδοτημένο μονοπάτι μέσα σε δάσος κωνοφόρων μέχρι το καταφύγιο του ΕΟΣ Τρίπολης όπου και διάλειμμα. Συνέχεια της πορείας με ελαφριά ανηφορική πορεία μέχρι την θέση  Ξερακιά και από εκεί αρχίζει η κατάβαση στην Αλωνίσταινα (1.220μ.)\, διάσχιση .Ω.Π.:7\, Υ.Δ.: +900 -700\, Β.Δ.: 2 (13χλμ) \nΣυντονιστής: Κωνσταντίνος Κατσούλης
URL:https://eposfilis.gr/event/1-3-%ce%bc%ce%b1%ce%af%ce%bd%ce%b1%ce%bb%ce%bf-%ce%bb%ce%b5%ce%b2%ce%af%ce%b4%ce%b9-%ce%b1%ce%bb%cf%89%ce%bd%ce%af%cf%83%cf%84%ce%b1%ce%b9%ce%bd%ce%b1-%ce%b4%ce%b9%ce%ac%cf%83%cf%87%ce%b9/
CATEGORIES:Ημερολόγιο
END:VEVENT
END:VCALENDAR