BEGIN:VCALENDAR
VERSION:2.0
PRODID:-//Ε.Π.Ο.Σ. ΦΥΛΗΣ - ECPv6.15.18//NONSGML v1.0//EN
CALSCALE:GREGORIAN
METHOD:PUBLISH
X-WR-CALNAME:Ε.Π.Ο.Σ. ΦΥΛΗΣ
X-ORIGINAL-URL:https://eposfilis.gr
X-WR-CALDESC:Events for Ε.Π.Ο.Σ. ΦΥΛΗΣ
REFRESH-INTERVAL;VALUE=DURATION:PT1H
X-Robots-Tag:noindex
X-PUBLISHED-TTL:PT1H
BEGIN:VTIMEZONE
TZID:Europe/Athens
BEGIN:DAYLIGHT
TZOFFSETFROM:+0200
TZOFFSETTO:+0300
TZNAME:EEST
DTSTART:20250330T010000
END:DAYLIGHT
BEGIN:STANDARD
TZOFFSETFROM:+0300
TZOFFSETTO:+0200
TZNAME:EET
DTSTART:20251026T010000
END:STANDARD
BEGIN:DAYLIGHT
TZOFFSETFROM:+0200
TZOFFSETTO:+0300
TZNAME:EEST
DTSTART:20260329T010000
END:DAYLIGHT
BEGIN:STANDARD
TZOFFSETFROM:+0300
TZOFFSETTO:+0200
TZNAME:EET
DTSTART:20261025T010000
END:STANDARD
BEGIN:DAYLIGHT
TZOFFSETFROM:+0200
TZOFFSETTO:+0300
TZNAME:EEST
DTSTART:20270328T010000
END:DAYLIGHT
BEGIN:STANDARD
TZOFFSETFROM:+0300
TZOFFSETTO:+0200
TZNAME:EET
DTSTART:20271031T010000
END:STANDARD
END:VTIMEZONE
BEGIN:VEVENT
DTSTART;TZID=Europe/Athens:20260306T163000
DTEND;TZID=Europe/Athens:20260308T210000
DTSTAMP:20260422T073828
CREATED:20260209T180702Z
LAST-MODIFIED:20260302T175833Z
UID:6696-1772814600-1773003600@eposfilis.gr
SUMMARY:Παναιτωλικό: Κορυφή Κατελάνος (1\,924μ.)\, Κόκα (1.691μ.)\, Βγένας (1.737μ.)\, – Γιόρλας (1.600μ.). Αράκυνθος: Άγιος Νικόλαος Κρεμαστός. Μεσολόγγι. Λιμνοθάλασσα\, νήσος Τουρλίδα & Μουσείο αλατιού. Νησάκια Βασιλάδι και Κλείσοβα
DESCRIPTION:6-8/3\nΠαναιτωλικό: Κορυφή Κατελάνος (1\,924μ.)\, Κόκα (1.691μ.)\, Βγένας (1.737μ.)\, – Γιόρλας\n(1.600μ.). Αράκυνθος: Άγιος Νικόλαος Κρεμαστός. Μεσολόγγι. Λιμνοθάλασσα\, νήσος\nΤουρλίδα &amp; Μουσείο αλατιού. Νησάκια Βασιλάδι και Κλείσοβα\nΠαρασκευή: Αναχώρηση 16:30 για το χωριό Περιστέρα (760μ.) και νυχτερινή πορεία με\nφακούς κεφαλής μέχρι το καταφύγιο του Παναιτωλικού (1.160μ.)\, Ω.Π.: 1.30\, Υ.Δ.: 400\,\nΒ.Δ.: 1 Τα σακίδια θα μεταφερθούν με αγροτικό όχημα.\nΣάββατο: Δύσκολη πορεία: Ξεκινάμε από το καταφύγιο Παναιτωλικού (1\,160μ.) ανηφορικό\nμονοπάτι μέσα στα έλατα μέχρι κορυφή Κόκα (1.691μ.) η θέα προς την λίμνη Τριχωνίδα\nμαγευτική! Τραβερσάρουμε δεξιά της κορυφογραμμής Κόκας για κορυφογραμμή Ζυγού ή\nΒγένας (1.737μ.) Συνεχίζουμε για διάσελο Ζυγού – Γιόρλας (1.600μ.) Ανηφορίζουμε την\nανήλιαγη βορειοδυτική πλευρά την Γιόρλας (1.\,820) να μας οδηγήσει στο διάσελο\nΚατελάνου. Ανεβαίνουμε την τελική ανηφόρα για την κορυφή Κατελάνο (1.924μ.)\, την\nυψηλότερη κορυφή του Παναιτωλικού.\nΑπολαμβάνουμε τη θέα προς Κριμνίτσα\, Χελιδόνα\, Καλιακούδα\, Σκόλλις (Σαντομέρι)\nλίμνη Κρεμαστών. Επιστρέφουμε από την ίδια διαδρομή Ω.Π.: 8-9\, Υ.Δ.: συνολική 1060\,\nΒ.Δ.: 2 (5 με χιόνι) (13\,50χλμ.) Συνιστάται  χειμερινός εξοπλισμός (κραμπόν\, πιολέ)\nΕύκολη πορεία: Από το καταφύγιο του Παναιτωλικού (1.160μ.) μέχρι την κορυφή Κόκκα\n(1.691μ.) κι αφού απολαύσουμε τη θέα επιστροφή από τα ίδια Ω.Π.: 4-5 (αναλόγως τη\nχιόνωση) \, Υ.Δ.: 530\, Β.Δ.: 1+\nΚυριακή: Πεζοπορία κατάβασης από το καταφύγιο προς το χωριό Περιστέρα (περίπου 1\nώρα) και μεταφορά οδικώς στην περιοχή του Αράκυνθου στη θέση Κάτω Ελληνικά (πρώην\nΚάτω Αμπέλια) (560μ.) απ’ όπου αρχίζουμε την πεζοπορία μας για 20 λεπτά σε\nχωματόδρομο και στη συνέχεια σε μονοπάτι με θέα τη λιμνοθάλασσα του Αιτωλικού\nμέχρι το φωλιασμένο σε ψηλό βράχο μοναστήρι\, κυριολεκτικά μετέωρο στο κενό\, του Αγίου\nΝικολάου του Κρεμαστού (480μ.) . Η σπηλαιώδης Μονή βρίσκεται χτισμένη στη ΝΔ πλαγιά\nτου όρους Αράκυνθος σε σπήλαια πάνω σε απόκρυμνη χαράδρα και το καθολικό του ναού\nβρίσκεται στη μεγαλύτερη από τις σπηλιές. Υπάρχουν αγιογραφίες «καπαδοκικής»\nτεχνοτροπίας που χρονολογούνται τον 10 ο – 11 ο αι. και ιδρυτής της Μονής θεωρείται ο\nΝίκανδρος το 990μ.Χ. Σε απόσταση 5 λεπτών από το μοναστήρι θα δούμε μεγάλο\nκαταρράκτη. Η διάσχισή μας θα ολοκληρωθεί κατηφορίζοντας από μονοπάτι στο χωριό\nΚεφαλόβρυσο (15μ.υψόμετρο) (διάσχιση) Ω.Π.: 3\, Υ.Δ.: -540\, Β.Δ.: 1+ (8\,5χλμ.)\nΜεταφορά οδικώς στην Ιερή Πόλη του Μεσολογγίου. Περιήγηση στην πόλη των Ελεύθερων\nπολιορκημένων\, με επίσκεψη στο νησάκι Τουρλίδα της λιμνοθάλασσας όπου και το\nμουσείο αλατιού ή επίσκεψη με πλοιάριο  στα νησάκια Βασιλάδι και Κλείσοβα\nόπου και το ιστορικό εκκλησάκι της Αγίας Τριάδας\, αναλόγως του ελέυθερου χρόνου. \nΣυντονιστές Δύσκολης πορείας: Κώστας Κατσούλης  &  Νίκος Λούρας \nΣυντονιστές Εύκολης πορείας: Άγγελος Χριστοδουλάκης & Φωτεινή Χριστοπούλου
URL:https://eposfilis.gr/event/%cf%80%ce%b1%ce%bd%ce%b1%ce%b9%cf%84%cf%89%ce%bb%ce%b9%ce%ba%cf%8c-%ce%ba%ce%bf%cf%81%cf%85%cf%86%ce%ae-%ce%ba%ce%b1%cf%84%ce%b5%ce%bb%ce%ac%ce%bd%ce%bf%cf%82-1924%ce%bc-%ce%ba%cf%8c%ce%ba%ce%b1/
CATEGORIES:Ημερολόγιο
ATTACH;FMTTYPE=image/jpeg:https://eposfilis.gr/wp-content/uploads/2026/02/0d701977-1eb6-9ab9-3a3e-e71951e01d0d.jpg
END:VEVENT
END:VCALENDAR