BEGIN:VCALENDAR
VERSION:2.0
PRODID:-//Ε.Π.Ο.Σ. ΦΥΛΗΣ - ECPv6.15.18//NONSGML v1.0//EN
CALSCALE:GREGORIAN
METHOD:PUBLISH
X-ORIGINAL-URL:https://eposfilis.gr
X-WR-CALDESC:Events for Ε.Π.Ο.Σ. ΦΥΛΗΣ
REFRESH-INTERVAL;VALUE=DURATION:PT1H
X-Robots-Tag:noindex
X-PUBLISHED-TTL:PT1H
BEGIN:VTIMEZONE
TZID:Europe/Athens
BEGIN:DAYLIGHT
TZOFFSETFROM:+0200
TZOFFSETTO:+0300
TZNAME:EEST
DTSTART:20250330T010000
END:DAYLIGHT
BEGIN:STANDARD
TZOFFSETFROM:+0300
TZOFFSETTO:+0200
TZNAME:EET
DTSTART:20251026T010000
END:STANDARD
BEGIN:DAYLIGHT
TZOFFSETFROM:+0200
TZOFFSETTO:+0300
TZNAME:EEST
DTSTART:20260329T010000
END:DAYLIGHT
BEGIN:STANDARD
TZOFFSETFROM:+0300
TZOFFSETTO:+0200
TZNAME:EET
DTSTART:20261025T010000
END:STANDARD
BEGIN:DAYLIGHT
TZOFFSETFROM:+0200
TZOFFSETTO:+0300
TZNAME:EEST
DTSTART:20270328T010000
END:DAYLIGHT
BEGIN:STANDARD
TZOFFSETFROM:+0300
TZOFFSETTO:+0200
TZNAME:EET
DTSTART:20271031T010000
END:STANDARD
END:VTIMEZONE
BEGIN:VEVENT
DTSTART;TZID=Europe/Athens:20260328T103000
DTEND;TZID=Europe/Athens:20260329T200000
DTSTAMP:20260422T074250
CREATED:20260112T161711Z
LAST-MODIFIED:20260312T185955Z
UID:6594-1774693800-1774814400@eposfilis.gr
SUMMARY:28-29/3  Φωκίδα. Γκιώνα\, κορυφή Πύργος (2.063μ.)\, διάσχιση . Βαγονέτο . Πεζοπορία Καλοσκοπή.- Πανουργιάς
DESCRIPTION:28-29/3 \nΦωκίδα. Γκιώνα\, κορυφή Πύργος (2.063μ.)\, διάσχιση . Βαγονέτο . Πεζοπορία Καλοσκοπή.- Πανουργιάς \n  \nΣάββατο: \nΑναχώρηση στις 10:30  προς το μεταλλευτικό πάρκο Φωκίδας όπου προγραμματισμένη επίσκεψη (Vagonetto https://www.vagonetto.gr/) (εισιτήριο εισόδου 10€/άτομο) \n “Στόχος του Μεταλλευτικού Πάρκου Φωκίδας είναι\, όχι μόνο να παρουσιάσει τους χώρους λειτουργίας ενός μεταλλείου\, αλλά να ενημερώσει\, να ψυχαγωγήσει και να εκπαιδεύσει τις καινούργιες γενιές πάνω στην ιστορία εκμετάλλευσης του βωξίτη και των ανθρώπων που εργάστηκαν για αυτό.”Μετά το πέρας της επίσκεψης οι 2 ομάδες θα αναχωρήσουν προς το χωριό Συκιά\, όπου θα γίνει η διανυκτέρευση σε καταφύγιο. \nΚυριακή: \nΔύσκολη πορεία: Γκιώνα: Συκιά – Πύργος – Καλοσκοπή  \nΗ πορεία ξεκινά από το χωριό Συκιά (735 μ.) και ακολουθεί αρχικά ήπια ανηφορική κατεύθυνση. Σε σύντομο χρόνο προσεγγίζουμε το Λαζόρεμα\, το οποίο διασχίζουμε και συνεχίζουμε ανηφορίζοντας προς την Πλάκα\, τη μεγαλύτερη ορθοπλαγιά των Βαλκανίων. Μετά από περίπου 2\,1 χλμ και +400 μ. υψομετρικής\, φτάνουμε σε μικρό οροπέδιο όπου συναντώνται τα μονοπάτια του Λαζορέματος και του Καραγιάννη. Από εδώ συνεχίζουμε με βόρεια–βορειοανατολική πορεία\, κινούμενοι παράλληλα με το Λαζόρεμα. Διασχίζουμε ακόμη ένα μικρό οροπέδιο και\, μετά από 1\,3 χλμ ήπιας ανηφόρας (+100 μ.)\, καταλήγουμε σε στάνη\, από όπου ανοίγεται η θέα προς βορρά και ξεχωρίζει η κορυφή Πύργος (2.063μ). Από τη στάνη η ανάβαση γίνεται πιο έντονη. Ανηφορίζουμε προς το διάσελο\, το οποίο προσεγγίζουμε από την ανατολική πλευρά\, καλύπτοντας 2\,4 χλμ με +500 μ. υψομετρικής. Από το διάσελο ακολουθεί η τελική ανάβαση προς την κορυφή Πύργος\, σε σαφή ανηφορική πορεία\, μήκους 0\,9 χλμ και +300 μ. Η διάσχιση συνεχίζεται προς την Καλοσκοπή\, συνδυάζοντας μονοπάτια και δασικούς δρόμους\, με κυρίαρχη κατάβαση και μεγάλα ανοίγματα θέας προς τη Φωκίδα. Ω.Π.: 9\, Υ.Δ.: +1500μ / – 1300μ\, Β.Δ.: 3 (22χλμ.).Απαραίτητος χειμερινος εξοπλισμός ( κραμπόν\, πιολέ\, μπωντριέ\, κράνος\, καραμπίνερ ασφαλείας) \nΕύκολη πορεία:  Η πορεία μας αρχίζει από την πλατεία του χωριού Καλοσκοπή. Είναι μια ήπια πεζοπορική διαδρομή στις παρυφές της πανέμορφης Γκιώνας  από νέο μονοπάτι. Ανηφορίζουμε μέσα σε ελατοσκέπαστο δάσος μέχρι τον δασικό δρόμο των Μεταλλείων. Στην συνέχεια κατηφορίζουμε από δασικό δρόμο μέχρι το χωριό Πανουργιάς. Κατόπιν ανηφορίζουμε για λίγο ακόμη σε ελατοσκέπαστο μονοπάτι δίπλα από τις Βρύζες και κατεβαίνουμε στο Κεφαλόβρυσο. Θαυμάζουμε το τοπίο και συνεχίζουμε για το χωριό Καλοσκοπή όπου ολοκληρώνεται η διαδρομή μας\, Ω.Π.: 4-5\, Υ.Δ.: +500\, Β.Δ.: 1 \nΣυντονιστής δύσκολης πορείας: Κώστας Κατσούλης \nΣυντονιστής εύκολης πορείας: Νίκος Αναστασίου
URL:https://eposfilis.gr/event/28-29-3-%cf%86%cf%89%ce%ba%ce%af%ce%b4%ce%b1-%ce%b3%ce%ba%ce%b9%cf%8e%ce%bd%ce%b1-%ce%ba%ce%bf%cf%81%cf%85%cf%86%ce%ae-%cf%80%cf%8d%cf%81%ce%b3%ce%bf%cf%82-2-063%ce%bc-%ce%b4%ce%b9%ce%ac%cf%83/
CATEGORIES:Ημερολόγιο
END:VEVENT
END:VCALENDAR