BEGIN:VCALENDAR
VERSION:2.0
PRODID:-//Ε.Π.Ο.Σ. ΦΥΛΗΣ - ECPv6.15.18//NONSGML v1.0//EN
CALSCALE:GREGORIAN
METHOD:PUBLISH
X-WR-CALNAME:Ε.Π.Ο.Σ. ΦΥΛΗΣ
X-ORIGINAL-URL:https://eposfilis.gr
X-WR-CALDESC:Events for Ε.Π.Ο.Σ. ΦΥΛΗΣ
REFRESH-INTERVAL;VALUE=DURATION:PT1H
X-Robots-Tag:noindex
X-PUBLISHED-TTL:PT1H
BEGIN:VTIMEZONE
TZID:Europe/Athens
BEGIN:DAYLIGHT
TZOFFSETFROM:+0200
TZOFFSETTO:+0300
TZNAME:EEST
DTSTART:20250330T010000
END:DAYLIGHT
BEGIN:STANDARD
TZOFFSETFROM:+0300
TZOFFSETTO:+0200
TZNAME:EET
DTSTART:20251026T010000
END:STANDARD
BEGIN:DAYLIGHT
TZOFFSETFROM:+0200
TZOFFSETTO:+0300
TZNAME:EEST
DTSTART:20260329T010000
END:DAYLIGHT
BEGIN:STANDARD
TZOFFSETFROM:+0300
TZOFFSETTO:+0200
TZNAME:EET
DTSTART:20261025T010000
END:STANDARD
BEGIN:DAYLIGHT
TZOFFSETFROM:+0200
TZOFFSETTO:+0300
TZNAME:EEST
DTSTART:20270328T010000
END:DAYLIGHT
BEGIN:STANDARD
TZOFFSETFROM:+0300
TZOFFSETTO:+0200
TZNAME:EET
DTSTART:20271031T010000
END:STANDARD
END:VTIMEZONE
BEGIN:VEVENT
DTSTART;TZID=Europe/Athens:20260404T080000
DTEND;TZID=Europe/Athens:20260411T170000
DTSTAMP:20260422T051235
CREATED:20251119T174946Z
LAST-MODIFIED:20260226T191046Z
UID:6482-1775289600-1775926800@eposfilis.gr
SUMMARY:Μαρόκο: ανάβαση στην ψηλότερη κορυφή του Άτλαντα\, Τουμπκαλ (4.167μ.)\, Πεζοπορίες σε βερβέρικα χωριά. Ερημος Σαχάρα. Φαράγγια Νταντές\, Τουδρα. Μερζούγκα. Αΐτ Μπεν Χαντού – Κάσμπα Ταλαούτ. Μαρακές και Μεδίνα.
DESCRIPTION:Μαρόκο: ανάβαση στην ψηλότερη κορυφή του Άτλαντα\, Τουμπκαλ (4.167μ.)\, Πεζοπορίες σε βερβέρικα χωριά. Ερημος Σαχάρα. Φαράγγια Νταντές\, Τουδρα. Μερζούγκα. Αΐτ Μπεν Χαντού – Κάσμπα Ταλαούτ. Μαρακές και Μεδίνα.  \n  \nΟργάνωση: ταξιδιωτικό πρακτορείο. \nΣάββατο 4/4/26: Ημέρα 1η : Συνάντηση στο αεροδρόμιο «Ελ.Βενιζέλος» στις  06:30 για την πτήση  ATH   RAK   Α3738 και αναχώρηση 08:55 . για Μαρόκο. Άφιξη στις 11:25  και \nμεταφορά  από το αεροδρόμιο γύρω στις 3 μ.μ. έναρξη περιήγησης στην πόλη με επίσκεψη στα εξής αξιοθέατα μετά από σύντομο γεύμα: Εβραϊκή πλατεία – Παλάτι Μπαΐα – Σχολείο Μπεν Γιουσέφ – Αλντ Μεδίνα – η πλατεία Τζαμάα ελ Φνα – σουκ – μουσουλμανικό μουσείο Κοτούμπια.. Μυστικός κήπος – Κήπος Μαζουρέλ. \nΔιανυκτέρευση στο Riad Omar ή σε παρόμοιο ξενοδοχείο. \nΚυριακή 5/4/26 Ημέρα 2η : ΟΡΕΙΒΑΤΙΚΗ ΟΜΑΔΑ: Μαρακές-Ιμλίλ – Καταφύγιο Τουμπκάλ 3207 μ. υψόμετρο: \nΜετά το πρωινό στο Μαρακές\, ταξιδεύουμε προς το Ιμλίλ για 1 ώρα και 30 λεπτά οδικώς\, περνώντας από τα tagnout\, moulay Ibrahim και asni και το Ιμλίλ. Εκεί θα συναντήσουμε τους οδηγούς βουνού και θα κατευθυνθούμε κατά μήκος της κοιλάδας Mizane προς το ιερό του Sidi Chamarouch\, όπου μικρή στάση. Από εδώ το μονοπάτι συνεχίζει να ανηφορίζει σταθερά\, φιδωτά και ζιγκ-ζαγκ μέχρι το Καταφύγιο Τουμπκάλ (3207 μ.)\, όπου η  διανυκτέρευσή μας Ω.Π.: 5-6\, Υ.Δ.: ??\, Β.Δ.: δύσκολη. Διαδρομή σε συνθήκες μεγάλου υψομέτρου σε αργούς ρυθμούς. \n \nΚυριακή 5/4/26 2η ΠΕΖΟΠΟΡΙΚΗ ΟΜΑΔΑ: Ιμλίλ – Τιζί Μιζίκ – Ιντ Άισα: \nΜετά το πρωινό στο Μαρακές\, θα ταξιδέψουμε στο Ιμλίλ για 1 ώρα και 30 λεπτά οδηγώντας\, περνώντας από τα Ταχνούτ\, Μουλέι Μπραχίμ και Άσνι. Εκεί θα συναντήσουμε τον οδηγό βουνού και τους μουλαράδες. Όταν φορτώσουμε τα σακίδιά μας στα μουλάρια\, θα ξεκινήσουμε με σακίδιο ημέρας την πεζοπορία μας στο μονοπάτι ανεβαίνοντας προς το Tizi Mzik (2500μ.)\, το οποίο προσφέρει ένα υπέροχο τοπίο των κοιλάδων Imlil και Azzaden. Εδώ\, θα γευματίσουμε κάτω από τη σκιά των αρκεύθων με εκπληκτική θέα στα βουνά του Άτλαντα. Μετά το μεσημεριανό γεύμα\, θα κατεβούμε για να δούμε το θερινό χωριό της περιοχής. Θα ακολουθήσουμε τον δρόμο που κατεβαίνει μέσα από αρκεύθους μέχρι να φτάσουμε στο χωριό Tizi Oussem (1850μ.). Εδώ\, θα έχουμε ένα διάλειμμα για φωτογραφίες από τις περιοχές των Βερβέρων με τα ιδιαίτερα έθιμά τους. Ω.Π.: 7-8\, Υ.Δ.: +700 -650 Β.Δ.: 1+   Διανυκτέρευση στο χωριό Id Aissa σε παραδοσιακό ξενώνα ¨”the house of Brothers”. \nΔευτέρα 6/4/26 Ημέρα 3η κορυφής : ΟΡΕΙΒΑΤΙΚΗ ΟΜΑΔΑ: Καταφύγιο Τουμπκάλ – Κορυφή Τουμπκάλ 4167μ – Κοιλάδα Ιμλίλ: \nΝωρίς το πρωί θα επιχειρήσουμε την ανάβαση στην κορυφή του Τζεμπέλ Τουμπκάλ\, της υψηλότερης κορυφής στη Βόρεια Αφρική. Η διαδρομή μας θα είναι κυκλική από τη νότια πλευρά του βουνού\, διασχίζοντας το ρέμα πάνω από το καταφύγιο. Το περπάτημα είναι σχετικά απλό\, αλλά οι χαλίκια και το υψόμετρο θα κάνουν την πορεία αρκετά δύσκολη σε ορισμένα σημεία. Η θέα κατά μήκος της διαδρομής κάνει το ταξίδι κάτι παραπάνω από αξιόλογο. Κατάβαση στο χωριό Ιμλίλ  Ω.Π.: 10+\, Υ.Δ.: +960 – 2267\, Β.Δ. Δύσκολη \nΔιανυκτέρευση σε ξενώνα στο Ιμλίλ. \n \n  \nΔευτέρα 6/4/26 ΠΕΖΟΠΟΡΙΚΗ ΟΜΑΔΑ: Ημέρα 3η :  Ιντ Ίσα – Τίζι Ουντίντ – Ματάτ – Ιμλίλ – Άρουμντ: \nΗ σημερινή πεζοπορία θα μας οδηγήσει από το Τίζι Ουσέμ κατηφορικά\, κατά μήκος της κοιλάδας μέχρι να φτάσουμε στο χωριό Ιντ Άισα (1800μ.)\, ακολουθώντας την ανατολική διαδρομή που περνάει πάνω από το πέρασμα Τίζι Ουντίντ (2010μ.)\, η οποία μας επιτρέπει να απολαύσουμε τη θέα των κοιλάδων Ιμλίλ\, Αζαντέν και των χωριών Βερβέρων που είναι χτισμένα διάσπαρτα σε βουνοπλαγιές. Συνεχίζουμε την πεζοπορία για άλλη μια ώρα περνώντας από το χωριό Ματάτ μέχρι να φτάσουμε κοντά στο ποτάμι του χωριού Αγκερσιουάλ (1600μ.)\, όπου θα γευματίσουμε κάτω από καρυδιές και θα χαλαρώσουμε στο κοντινό ποτάμι. Το απόγευμα\, συνεχίζουμε κατά μήκος της κοιλάδας μέχρι το τελευταίο και μεγαλύτερο χωριό του Ιμλίλ για τη διανυκτέρευσή μας. Η σημερινή πεζοπορία είναι 5 ώρες με τα πόδια μέχρι το Άρμεντ. Ω.Π.: 5-6 \, Υ.Δ.: +300 -500\, Β.Δ.1 \nΣτο Νταρ Ιμπίριαλ   θα συναντηθεί η πεζοπορική με την ορειβατική ομάδα. \nΔιαδρομή προς την έρημο: \nΜ.Τρίτη 7/4/26 Ημέρα 4η : Ιμλίλ – Ουαρζαζάτ – Φαράγγια Ντάντες: \nΑπό το Ιμλίλ θα διασχίσουμε την Τιζί-ν-Τίτσα (2.260 μ.) και θα περάσουμε από την Ουαρζαζάτ\, «την πόρτα της ερήμου». Πρόκειται για ένα φυσικό σκηνικό κινηματογραφικών ταινιών υπερπαραγωγών  όπως ο Λόρενς της Αραβίας (1962)\, η Μούμια (1999) και πολλές άλλες. Θα απολαύσουμε το μεσημεριανό μας γεύμα εκεί και στη συνέχεια θα συνεχίσουμε για το Φαράγγι Ντάντες\, όπου θα διανυκτερεύσουμε σε ένα ξενοδοχείο που βρίσκεται μέσα στο εντυπωσιακό φαράγγι. Καθ’ οδόν\, θα σταματήσουμε στην κοιλάδα με τα τριαντάφυλλα του Καλάτ Μγκούνα\, όπου οι άνθρωποι γιορτάζουν ένα φεστιβάλ ροδόνερου κάθε Μάιο\, και υπάρχουν παραδοσιακά προϊόντα από τριαντάφυλλα. Θα διανυκτερεύσουμε σε ένα ξενοδοχείο με θέα το φαράγγι. Νταρ Αχλάμ ή παρόμοιο \n \nΜ.Τετάρτη 8/4/26. Ημέρα 5η : Φαράγγια Ντάντες – Φαράγγι Τούδρα – Μερζούγκα: \nΜετά το πρωινό\, θα αναχωρήσουμε από το ξενοδοχείο και θα οδηγήσουμε μέσα από τα πολύχρωμα βερβερικά χωριά της κοιλάδας Ντέντες\, περνώντας από το Τίνγκιρ με τα όμορφα φοινικοδάση και την παλιά εβραϊκή συνοικία. Στη συνέχεια\, θα συνεχίσουμε μέσα από τα φαράγγια Τούδρα\, όπου θα έχουμε την ευκαιρία να κάνουμε μια εύκολη βόλτα γύρω από τα φαράγγια\, τα οποία έχουν ύψος σχεδόν 300 μέτρα. Το φαράγγι είναι γνωστό για την αναρρίχηση. Στη συνέχεια\, θα γευματίσουμε στην πόλη Τιντζντάντ και στη συνέχεια θα συνεχίσουμε προς την επιβλητική έρημο Σαχάρα\, όπου οι καμήλες σας θα μας περιμένουν για ένα περίπατο  στους αμμόλοφους της Σαχάρας μέχρι το σούρουπο με τα μαγευτικά χρώματα. Στην 90λεπτη βόλτα με καμήλες\, θα απολαύσουμε το μαγευτικό ηλιοβασίλεμα της Σαχάρας στη διαδρομή προς την πολυτελή κατασκήνωσή μας στους αμμόλοφους του Έργκ Τσάμπι. Αφού φτάσουμε στις βερβερικές σκηνές όπου θα διανυκτερεύσουμε\, θα συνεχίσουν όποιοι  επιθυμούν  να εξερευνήσουν ελεύθερα τους αμμόλοφους. Μετά το δείπνο\, θα απολαύσουμε ζωντανή  μουσική της Σαχάρας γύρω από αναμένη φωτιά\, κάτω από τα αστέρια στον καθαρό Μαροκινό ουρανό. Διανυκτέρευση σε πολυτελές κάμπινγκ \nΜ.Πέμπτη 9/4/26 Ημέρα 6η : Μερζούγκα – Αγκντέζ – Αΐτ Μπεν Χαντού: \nΠολύ πρωινό ξύπνημα για την απόλαυση των χρωμάτων της ανατολής του ήλιου πάνω από τους αμμόλοφους της Σαχάρας. Θα συνεχίσουμε με μια 90λεπτη βόλτα με καμήλες στο κέντρο του χωριού Μερζούγκα. Εδώ υπάρχει η δυνατότητα για ντους για να ξεπλύνουμε την άμμο της Σαχάρας και να απολαύσουμε  το υπέροχο παραδοσιακό  πρωινό μας. Στη συνέχεια\, θα μεταφερθούμε με οχήματα 4 Χ 4  στην Αγκντέζ μέσω της κοιλάδας Ντράα\, όπου θα έχουμε την επιλογή να περπατήσουμε 1-2 ώρες μέσα από την όαση των φοινικόδεντρων και τα χωριά των Βερβέρων και στη συνέχεια θα απολαύσουμε ένα ωραίο παραδοσιακό γεύμα στην Αγκντέζ. Το απόγευμα θα ταξιδέψουμε στην εκπληκτική Κάσμπα Αΐτ Μπεν Χαντού. Εδώ θα περάσουμε την νύχτα μας σε ξενοδοχείο ή ξενώνα στο παλιό χωριό. Κάσμπα Ραγιάν ή παρόμοιο. \n \nΠαρασκευή 10/4/26 Ημέρα 7η : Αΐτ Μπεν Χαντού – Κάσμπα Ταλαούτ – Μαρακές: \nΠρωινή βόλτα μιας ώρας γύρω από την παλιά Κάσμπα Αΐτ Μπεν Χαντού\, που αποτελεί Μνημείο Παγκόσμιας Κληρονομιάς της UNESCO. Το Ait Ben Haddou είναι ένα οχυρωμένο χωριό κατά μήκος της αρχαίας διαδρομής των καραβανιών μεταξύ της Σαχάρας και του Μαρακές. Στο Ait Ben Haddou θα δούμε την παραδοσιακή μαροκινή αρχιτεκτονική των Κάσμπα. Πρόκειται για ένα αρχαίο εμπορικό κέντρο και μια πρόσφατη τοποθεσία για γυρίσματα πολλών σειρών\, συμπεριλαμβανομένου του Game of Thrones. Στη συνέχεια\, θα οδηγηθούμε από γραφική διαδρομή στο Μαρακές όπου θα φτάσουμε περίπου το μεσημέρι. Μετά το μεσημεριανό γεύμα\, ο τοπικός μας ξεναγός θα μας  οδηγήσει στη Μεδίνα\, σε μια επίσκεψη σε Σουκ\, το παλάτι Bahia\, το τζαμί Kotoubia και τους τάφους των Sadian. Διανυκτέρευση στο Riad Omar ή σε παρόμοιο ξενοδοχείο. \n  \nΜ.Σάββατο 11/4/26 Ημέρα 8η : ελεύθερος χρόνος στην πόλη πριν από τη μεταφορά στο αεροδρόμιο  για την πτήση RAK   ATH   12:25  Α3739   Άφιξη στην Αθήνα στις 18:30 \n  \nΤι περιλαμβάνεται στην τιμή; \nΜεταφορά από και προς το αεροδρόμιο στο Μαρόκο \nΔιαμονή στα βουνά Άτλαντα (καταφύγιο – ξενώνες)\, \nΌλα τα γεύματα περιλαμβάνονται κατά τη διάρκεια της πεζοπορίας \nΜαγείρισσες για τις κοιλάδες και το καταφύγιο\, \nΜουλάρια για τη μεταφορά των αποσκευών σας στις κοιλάδες και το καταφύγιο\, \nΑγγλόφωνοι ξεναγοί\, \nΣτο δρόμο για την έρημο\, περιλαμβάνονται: \nΌλες οι διαμονές (πρωινό και δείπνο)\, \nΣκηνές στην έρημο\, \nΙππασία με καμήλες\, \nΞενάγηση με οδηγό στο Ait benhaddou\, \nΞενάγηση με οδηγό στο Timidrt kasbah\, \nΠεζοπορία γύρω από την όαση\, \nΔιαμονή στο Μαρακές ( μόνο πρωινό)\, \nΞενάγηση με οδηγό στο Μαρακές για την 1η \, 7η  και 8η ημέρα\, \nΓεύματα στην έρημο\, \nΑσφάλεια έναντι ατυχήματος. \n  \nΔεν περιλαμβάνονται στην τιμή: \nΑναψυκτικά/αλκοολούχα ποτά\, \nΦιλοξενίες και προσωπικά έξοδα\, \nΔείπνα στο Μαρακές\, \nΕίσοδος σε μνημεία \nΕισιτήρια για παλάτια και σχολείο Ben Yousef \n  \nΕξοπλισμός:  \nΓια την ορειβατική ομάδα: \nΜπορούν να συμμετέχουν ορειβάτες με πολύ καλή φυσική κατάσταση\, γιατί οι συνθήκες μεγάλου υψομέτρου κατά την ανάβαση είναι απαιτητικές και Πλήρης ορειβατικός εξοπλισμός ένδυσης και υπόδησης. Θεωρείται σχεδόν βέβαιο ότι θα χρειαστούν κραμπόν και πιολέ αλλά αυτό θα οριστικοποιηθεί από το πρακτορείο μας όταν πλησιάζει το ταξίδι μας. Θα υπάρχει η δυνατότητα και ενοικίασης από το πρακτορείο με ανάλογο κόστος. Είναι απαραίτητη η γνώση χρήσης του εξοπλισμού. Θα προηγηθεί συνάντηση του συντονιστή με την ορειβατική ομάδα μόλις οριστικοποιηθούν οι κρατήσεις σε ημερομηνία που θα ανακοινωθεί σε εύθετο χρόνο. \nΔιαδικασία κρατήσεων και ακυρωτικά πτήσεων:  \nΓια την κράτηση είναι απαραίτητη η προκαταβολή του ποσού των 600€ & αποστολή στοιχείων διαβατηρίου. Από αυτά τα χρήματα θα εκδοθεί το αεροπορικό σας εισιτήριο και τα υπόλοιπα θα παραμείνουν ως προκαταβολή για το κόστος του ταξιδιού σας. Η εξόφληση πρέπει να γίνει ένα μήνα πριν το ταξίδι \nΚατηγορία ναύλου : Comfort flex ( περιλαμβάνει 1χειραποσκευή 8 κιλών + 1προσωπικό αντικείμενο να χωράει κάτω από το κάθισμα + 1 παραδοτέα αποσκευή 23 κιλών). \nΓια το ταξίδι είναι απαραίτητο το διαβατήριο και μαζί με την προκαταβολή είναι απαραίτητη η αποστολή σε φωτογραφία του διαβατηρίου (ακόμη κι αν είναι ληγμένο) για την σωστή αναγραφή του ονοματεπωνύμου στο αεροπορικό εισιτήριο. \n  \nΤα αεροπορικά εισιτήρια  εκδίδονται άμεσα και θα είναι ατομικά με αρχική τιμή στα 444€ To εισιτήριο δεν μεταβιβάζονται σε άλλο άτομο. Σε περίπτωση ακύρωσης η αεροπορική εταιρεία επιστρέφει το ποσό παρακρατώντας 140€ από την τιμή έκδοσής του. Σε κάθε περίπτωση θα ενημερώνεστε για την διαμόρφωση της τιμής του. \nΣυντονίστρα Εύκολης πορείας : Καλλιόπη Δηλαβεράκη \nΣυντονιστής ανάβασης στην κορυφή Τουμπκαλ: Δημήτρης Δηλαβέρης
URL:https://eposfilis.gr/event/%ce%bc%ce%b1%cf%81%cf%8c%ce%ba%ce%bf-%ce%b1%ce%bd%ce%ac%ce%b2%ce%b1%cf%83%ce%b7-%cf%83%cf%84%ce%b7%ce%bd-%cf%88%ce%b7%ce%bb%cf%8c%cf%84%ce%b5%cf%81%ce%b7-%ce%ba%ce%bf%cf%81%cf%85%cf%86%ce%ae-%cf%84/
CATEGORIES:Ημερολόγιο
ATTACH;FMTTYPE=image/jpeg:https://eposfilis.gr/wp-content/uploads/2025/11/HIKETRAGEDY-02.jpg
END:VEVENT
END:VCALENDAR