BEGIN:VCALENDAR
VERSION:2.0
PRODID:-//Ε.Π.Ο.Σ. ΦΥΛΗΣ - ECPv6.15.18//NONSGML v1.0//EN
CALSCALE:GREGORIAN
METHOD:PUBLISH
X-WR-CALNAME:Ε.Π.Ο.Σ. ΦΥΛΗΣ
X-ORIGINAL-URL:https://eposfilis.gr
X-WR-CALDESC:Events for Ε.Π.Ο.Σ. ΦΥΛΗΣ
REFRESH-INTERVAL;VALUE=DURATION:PT1H
X-Robots-Tag:noindex
X-PUBLISHED-TTL:PT1H
BEGIN:VTIMEZONE
TZID:Europe/Athens
BEGIN:DAYLIGHT
TZOFFSETFROM:+0200
TZOFFSETTO:+0300
TZNAME:EEST
DTSTART:20250330T010000
END:DAYLIGHT
BEGIN:STANDARD
TZOFFSETFROM:+0300
TZOFFSETTO:+0200
TZNAME:EET
DTSTART:20251026T010000
END:STANDARD
BEGIN:DAYLIGHT
TZOFFSETFROM:+0200
TZOFFSETTO:+0300
TZNAME:EEST
DTSTART:20260329T010000
END:DAYLIGHT
BEGIN:STANDARD
TZOFFSETFROM:+0300
TZOFFSETTO:+0200
TZNAME:EET
DTSTART:20261025T010000
END:STANDARD
BEGIN:DAYLIGHT
TZOFFSETFROM:+0200
TZOFFSETTO:+0300
TZNAME:EEST
DTSTART:20270328T010000
END:DAYLIGHT
BEGIN:STANDARD
TZOFFSETFROM:+0300
TZOFFSETTO:+0200
TZNAME:EET
DTSTART:20271031T010000
END:STANDARD
END:VTIMEZONE
BEGIN:VEVENT
DTSTART;TZID=Europe/Athens:20260524T070000
DTEND;TZID=Europe/Athens:20260524T170000
DTSTAMP:20260423T013642
CREATED:20260108T182657Z
LAST-MODIFIED:20260108T182657Z
UID:6582-1779606000-1779642000@eposfilis.gr
SUMMARY:24/5  Αρκαδία: Αρτεμίσιο όρος. Καρυές – Νεστάνη (διάσχιση)
DESCRIPTION:24/5 \nΑρκαδία: Αρτεμίσιο όρος. Καρυές – Νεστάνη (διάσχιση) \nΑναχώρηση στις 07:00 για το χωριό Καρυά Αργολίδας. Από τη Μονή Παναγίας της Καρυάς\, ανηφορίζουμε τέμνοντας δρόμους\, ακολουθούμε για λίγο χωματόδρομο και μονοπάτι  και φτάνοντας στη διχάλα\, ακολουθούμε την αριστερή διαδρομή  όπου από μικρό εκτεθειμένο τμήμα\, φτάνουμε στην κορυφή Μαλαιβός (1.771μ.) με εξαιρετική θέα στον Αργολικό Κόλπο. Στην κατάβαση  \,  συναντάμε την πηγή Νεραϊδοβρύση. Από το σημείο αυτό και μετά\, το τοπίο γίνεται πιο βραχώδες και γυμνό και καταλήγει Ν.Δ. στη Νεστάνη\, ολοκληρώνοντας τη διάσχιση Ω.Π.: 7\, Υ.Δ.: +818\,-1190\, Β.Δ.: 2 (14χλμ.) \nΣυντονίστρια : Χρυσούλα Γούτσου
URL:https://eposfilis.gr/event/24-5-%ce%b1%cf%81%ce%ba%ce%b1%ce%b4%ce%af%ce%b1-%ce%b1%cf%81%cf%84%ce%b5%ce%bc%ce%af%cf%83%ce%b9%ce%bf-%cf%8c%cf%81%ce%bf%cf%82-%ce%ba%ce%b1%cf%81%cf%85%ce%ad%cf%82-%ce%bd%ce%b5%cf%83/
CATEGORIES:Ημερολόγιο
END:VEVENT
BEGIN:VEVENT
DTSTART;TZID=Europe/Athens:20260529T163000
DTEND;TZID=Europe/Athens:20260601T210000
DTSTAMP:20260423T013642
CREATED:20260119T173840Z
LAST-MODIFIED:20260422T182342Z
UID:6614-1780072200-1780347600@eposfilis.gr
SUMMARY:29-31/5 – 1/6 Αγίου Πνεύματος  Νότια Πίνδος: Νεράιδα (2.074μ.)\, Μπάτης (1.959μ.)\, Τσούμα (2.055μ.)\, Κούκος (1.245μ.)\, Ε4\, Κακαρδίτσα (2.429μ.). Πεζοπορίες & εύκολες διαδρομές σε ελατοδάση και υπέροχα τοπία της περιοχής.
DESCRIPTION:29-31/5 – 1/6 Αγίου Πνεύματος \nΝότια Πίνδος: Νεράιδα (2.074μ.)\, Μπάτης (1.959μ.)\, Τσούμα (2.055μ.)\, Κούκος (1.245μ.)\, Ε4\, Κακαρδίτσα (2.429μ.). Πεζοπορίες & εύκολες διαδρομές σε ελατοδάση και υπέροχα τοπία της περιοχής. \nΠαρασκευή: \nΑναχώρηση στις 16:30 για Ελάτη Τρικάλων όπου όλες οι διανυκτερεύσεις σε ξενώνες \nΣαββατο 30/5/2026 \nΜεγάλη Διαδρομή: \nΗ διαδρομή ξεκινά από τα λιβάδια Περτουλίου και διασχίζει το Πανεπιστημιακό ελατόδασος μέχρι τα 1600μ όπου κινείται στις καταπράσινες αλπικές πλαγιές και κορυφογραμμές της Νεράιδας. Λόγω της συνεχούς κίνησης στην ράχη των κορυφών έχει θέα προς την οροσειρά της Τριγγίας και της Λουπάτας\, Μαρόσας\, Αυγού ενώ μπροστά υψώνονται τα Αθαμανικά Όρη (Τζουμέρκα\, Κακαρδίτσα\, Λάκμος) με μεγαλειώδη θέα στους ορεινούς όγκους τους. \nΑναχώρηση από την Ελάτη πολύ νωρίς το πρωί στις 05:00 με λεωφορείο για την Αγία Κυριακή στα Λιβάδια Περτουλίου. Από εδώ αρχίζει η πεζοπορία μας προς  Παλιοκόπρι – Βρύση και ανάβαση στην κορυφή Νεράιδα (2.074μ.) στη συνέχεια στην κορυφή Μπάτης (1.959μ.) και στην κορυφή Τσούμα (2.055μ.). Η πεζοπορία μας συνεχίζεται στην κορυφογραμμή προς Μπριτσιάσα (Μπριτσίνα ή Χαλικόβουνο) (2.134μ.) όπου διασχίζουμε την κορυφογραμμή του Χαλικόβουνου προς τον αυχένα\, στο Μεγάλο Πύργο\, στα Μουτσόρια και σταδιακά κατεβαίνουμε στο Τσιονάρικο (1.767μ.) στη συνέχεια στο Ψήλωμα (1.637μ.) με τερματισμό της πεζοπορίας  μας στην Πολυθέα Ασπροποτάμου στα 1.100μ. υψόμετρο\,  αργά το απόγευμα. Επιστροφή με λεωφορείο στην Ελάτη.  Ω.Π.: 12\, Υ.Δ.: 1.450\, Β.Δ.: 3 (24χλμ.) (Συνεχή ανεβοκατεβάσματα\, ενδείκνυται για έμπειρους και δυνατούς ορειβάτες. Στην διαδρομή δεν υπάρχει νερό \nΜικρή Διαδρομή: \nΗ διαδρομή εκτός της ανάβασης στην πίστα κινείται διαρκώς μέσα σε πυκνό\, σκιερό και πανέμορφο ελατόδασος.  Μεταφερόμαστε με λεωφορείο από την Ελάτη στα Λιβάδια Περτουλίου (Χιονοδρομικό Κέντρο)\, κι από την πίστα του Χιονοδρομικού κέντρου αρχίζει η  ανάβαση προς την κορυφή του χιονοδρομικού\, διασχίζουμε το  Πανεπιστημιακό δάσος Περτουλίου και φτάνουμε στην κορυφή Κούκος (1.445μ.). Αφού απολαύσουμε τη θέα αρχίζουμε την κατάβαση προς Βλάχα και από το μονοπάτι Ε4 φτάνουμε στην Ελάτη. Ω.Π.: 4\, Υ.Δ.: 400\, Β.Δ.: 1 (10χλμ.) \nΚυριακή 31/5/2026 \nΜεγάλη Διαδρομή: \nΑναχώρηση στις 05:00 το πρωί από την Ελάτη μέχρι τη θέση «Αλεξίου» με λεωφορείο. Μετακίνηση μέχρι το Γαρδίκι (900μ. υψόμετρο) με 4Χ4. Η πεζοπορία μας αρχίζει προς μαντριά\,  Στρογγυλό\, ανατολική κοιλάδα και κορυφή Κακαρδίτσα (2.429μ.). Συνεχίζουμε στην  κορυφογραμμή και κατάβαση από την νοτιοανατολική ράχη\, στο οροπέδιο Πρόδρομος  και ολοκληρώνεται η διαδρομή στο χωριό Αθαμανία (1.000μ.). Γεύμα τύπου μπάρμπεκιου στο τοπικό  πεστροφείο Αθαμανίας και επιστροφή Ελάτη με λεωφορείο. Ω.Π.: 12\, Υ.Δ.: 1400\, Β.Δ.: 3 (17χλμ.) \nΗ διαδρομή τραβερσάρει τις απόκρημνες πλαγιές της Κουρούνας από στενό δασικό δρόμο και μπαίνει στο δάσος προς τη θέση Στρογγυλό. Η ανάβαση προς την κορυφή είναι αρκετά επικλινής ακολουθώντας τη δεξιά κοιλάδα και την ανατολική ράχη μέχρι την κορυφή της Κακαρδίτσας 2.429μ. Διασχίζουμε την κορυφογραμμή περνώντας εύκολα τεχνικά περάσματα και κατηφορίζουμε την επικλινή ράχη προς το οροπέδιο του Προδρόμου και μέσα από πυκνό μικρό δάσος ελάτης φτάνουμε στο χωριό Αθαμανία \nΜικρή Διαδρομή: \nΜετακινούμαστε από την Ελάτη  για τη θέση Κόρπ (1.240μ.) με λεωφορείο απ όπου αρχίζει η πεζοπορία μας μέσω του Ε4 ανηφορίζουμε για την  κορυφη Μαυροπούλι (1.721μ.)\, κατάβαση στο διάσελο\, επιστροφή από το δασικό στο Κόρπ\, (κυκλική διαδρομή). Επιστροφή με λεωφορείο στην Ελάτη. Ω.Π.: 5\, Υ.Δ.: 500\, Β.Δ.: 1 (12χλμ) \nΗ διαδρομή ανάβασης διασχίζει πυκνό ελατόδασος εκτός της τελική ανάβασης στην κορυφή που είναι σε αλπικό πεδίο. Η κατάβαση προς διάσελο διασχίζει όμορφα αλπικά λιβάδια και η επιστροφή γίνεται από το δασικό δρόμο περνώντας μέσα σε πυκνό ελατόδασος \nΔευτέρα 1/6/2026 \nΗ τελευταία ημέρα μας στα Περτουλιώτικα λιβάδια αρχίζει με πεζοπορία από την Ελάτη (920μ.) προς τον  Κόκκινο Βράχο\,  θέση Κώστα (1.300μ.)\, συνεχίζει κατηφορικά προς τη σπηλιά Μπέη\, καλύβες μέχρι το χωριό Πιαλεία (250μ.). Ω.Π.: 6\, Υ.Δ.: +450 -1050\, Β.Δ.: 2 (12χλμ) \nΗ διαδρομή διασχίζει μικτά δάση όπου τα δέντρα ποικίλουν ανάλογα το υψόμετρο. Αρχικά διασχίζουμε πανέμορφο ελατόδασος των παρυφών του Κόζιακα και την κοιλάδα Μπέη μέχρι την σπηλιά Μπέη ενώ χαμηλότερα αποτελείται από δάση με δρυς\, πουρνάρια\, καστανιες και πλατάνους μέχρι το χωρίο Πιαλεία όπου και γεύμα σε ταβερνάκι \nΣυντονιστές δύσκολων πορειών: Νίκος Κρούπης και ……………. \nΣυντονιστής εύκολων πορειών: ………
URL:https://eposfilis.gr/event/29-31-5-1-6-%ce%b1%ce%b3%ce%af%ce%bf%cf%85-%cf%80%ce%bd%ce%b5%cf%8d%ce%bc%ce%b1%cf%84%ce%bf%cf%82-%ce%bd%cf%8c%cf%84%ce%b9%ce%b1-%cf%80%ce%af%ce%bd%ce%b4%ce%bf%cf%82-%ce%bd%ce%b5%cf%81/
CATEGORIES:Ημερολόγιο
ATTACH;FMTTYPE=image/jpeg:https://eposfilis.gr/wp-content/uploads/2026/01/DSC06740-scaled.jpg
END:VEVENT
BEGIN:VEVENT
DTSTART;TZID=Europe/Athens:20260613T070000
DTEND;TZID=Europe/Athens:20260614T210000
DTSTAMP:20260423T013642
CREATED:20260422T150828Z
LAST-MODIFIED:20260422T150828Z
UID:6834-1781334000-1781470800@eposfilis.gr
SUMMARY:Ταΰγετος: Δάσος της Βασιλικής - Προφήτης Ηλίας (2.407μ.) – Αναβρυτή (2ήμερη διάσχιση)
DESCRIPTION:13-14/6\nΤαΰγετος: Δάσος της Βασιλικής – Προφήτης Ηλίας (2.407μ.) – Αναβρυτή (2ήμερη διάσχιση)\nΠεζοπορίες στα μονοπάτια από το Μυστρά ως την Αναβρυτή κι από την Αναβρυτή στα γύρω\nΜοναστήρια (Λαγκαδιώτισσας\, Φανερωμένης\, Ζαγούνας) \nΈνα άλλο όνομα του βουνού είναι «Πενταδάκτυλος» από τις πέντε κορυφές του βουνού όπως\nφαίνονται από τα ανατολικά. Η αρχαία ονομασία του ήταν «Ταλετός» ενώ το Ταϋγετος προήλθε την\nΤαϋγέτη\, μία από τις επτά\, κόρες του Άτλαντα και της Πλειόνης. Η σκιά της «πυραμίδας» του πέφτει\nστον Μεσσηνιακό κόλπο τα διαυγή πρωινά.\nΔύσκολο πρόγραμμα:\nΣάββατο: αναχώρηση στις 07:00 για το χωριό Καστάνια και προώθηση με αγροτικά προς το δάσος\nτης Βασιλικής (1.400 μ.). Ανάβαση από το πυκνό και πανέμορφο δάσος της Βασιλικής προς Άγιο\nΔημήτριο (όπου πηγές με νερό) – Άη Γιώργη (2.020 μ.) – Προφήτη Ηλία (2.405 μ.). Αφήνοντας το\nδάσος πριν την κορυφή\, το τοπίο γίνεται αλπικό και υπάρχει ένα απότομο και δύσκολο πέρασμα\,\nσχεδόν σκραμπλ. Ανάβαση στην κορυφή όπου και θα γίνει η διανυκτέρευση με χειμερινούς\nυπνόσακους ή/και σκηνές Ω.Π.: 5-6\, Υ.Δ.:+1.005 μ.\,. Β.Δ.: 2+ (19χλμ.)\nΚυριακή: Με την ανατολή του ήλιου παρατήρηση της «πυραμίδας»\, δηλαδή της σκιάς του\nΤαϋγέτου στο Μεσσηνιακό κόλπο (καιρού επιτρέποντος)\, ένα μοναδικό θέαμα και κατάβαση από\nΠόρτες – Βαρβάρα (καταφύγιο) απ όπου και ακολουθούμε το Ε4 στις παρυφές του βουνού\,\nανάμεσα από ελατόδασος\, περνώντας από τα Λακώματα και ολοκληρώνοντας τη διαδρομή στην\nΑναβρυτή (850μ.) Ω.Π.: 6.30-7\, Υ.Δ.: -1550μ\, Β.Δ.: 2+\nΈνα απαιτητικό διήμερο για δυνατούς ορειβάτες με πολύ καλή φυσική κατάσταση καθώς\nμεταφέρουν τον εξοπλισμό για τη διανυκτέρευση + νερό για 2 μέρες + φαγητό.\nΕύκολο πρόγραμμα:\nΠεζοπορίες στα μονοπάτια από τον Μυστρά στην Αναβρυτή κι από το Παρόρι στα γύρω\nΜοναστήρια (Λαγκαδιώτισσας\, Φανερωμένης\, Ζαγούνας)\nΠροτείνεται για αρχάριους\nΣάββατο: Αναχώρηση στις 07:00 από Αθήνα για τον Μυστρά (295 μ.) όπου και αποβίβαση της\nομάδας εύκολων διαδρομών. Πεζοπορία από τον Μυστρά μέσω του παλιού καλντεριμιού και του\nρέματος της Νεροκαρυάς ανάβαση από χωριό Ταϋγέτη – Περγανταίϊκα – Μονή Φανερωμένης με\nπολύ ωραία θέα στον λόφο της καστροπολιτείας του Μυστρά και τέλος της διαδρομής στην\nΑναβρυτή όπου και η διανυκτέρευση σε ξενώνα ή σε ημιυπαίθριο χώρο με υπνόσακους. Ω.Π.: 5\,\nΥ.Δ.: +790 μ.\, Β.Δ.: 1+\nΚυριακή: Πεζοπορία από την Αναβρυτή προς στην Μονή Φανερωμένης και στην συνέχεια σε\nμονοπάτι που ελίσσεται πάνω στις πλαγιές του Αγίου Ελισσαίου\, συναντά την Παναγία την Ζαγούνα\nφωλιασμένη στην κοιλότητα μιας μεγάλης σπηλιάς και καταλήγει το Παρόρι. Ξεκούραση στις πηγές\nκαι επιστροφή στην Αναβρυτή μέσα από εντυπωσιακό μονοπάτι σε φαράγγι με μικρή παράκαμψη\nγια την σπηλαιώδη Μονή Παναγιάς Λαγκαδιώτισσας Ω.Π.: 3-3.30\, Υ.Δ.: +510μ. -510μ.\, Β.Δ.; 1 \nΣυντονιστές δύσκολων διαδρομών: Σταύρος Ανάγνου & Φώτης Γεωργακόπουλος\nΣυντονιστής εύκολων διαδρομών: Δρόσος Τραπεζάρης
URL:https://eposfilis.gr/event/%cf%84%ce%b1%ce%b0%ce%b3%ce%b5%cf%84%ce%bf%cf%82-%ce%b4%ce%ac%cf%83%ce%bf%cf%82-%cf%84%ce%b7%cf%82-%ce%b2%ce%b1%cf%83%ce%b9%ce%bb%ce%b9%ce%ba%ce%ae%cf%82-%cf%80%cf%81%ce%bf%cf%86%ce%ae%cf%84%ce%b7/
CATEGORIES:Ημερολόγιο
END:VEVENT
END:VCALENDAR