BEGIN:VCALENDAR
VERSION:2.0
PRODID:-//Ε.Π.Ο.Σ. ΦΥΛΗΣ - ECPv6.15.18//NONSGML v1.0//EN
CALSCALE:GREGORIAN
METHOD:PUBLISH
X-WR-CALNAME:Ε.Π.Ο.Σ. ΦΥΛΗΣ
X-ORIGINAL-URL:https://eposfilis.gr
X-WR-CALDESC:Events for Ε.Π.Ο.Σ. ΦΥΛΗΣ
REFRESH-INTERVAL;VALUE=DURATION:PT1H
X-Robots-Tag:noindex
X-PUBLISHED-TTL:PT1H
BEGIN:VTIMEZONE
TZID:Europe/Athens
BEGIN:DAYLIGHT
TZOFFSETFROM:+0200
TZOFFSETTO:+0300
TZNAME:EEST
DTSTART:20220327T010000
END:DAYLIGHT
BEGIN:STANDARD
TZOFFSETFROM:+0300
TZOFFSETTO:+0200
TZNAME:EET
DTSTART:20221030T010000
END:STANDARD
BEGIN:DAYLIGHT
TZOFFSETFROM:+0200
TZOFFSETTO:+0300
TZNAME:EEST
DTSTART:20230326T010000
END:DAYLIGHT
BEGIN:STANDARD
TZOFFSETFROM:+0300
TZOFFSETTO:+0200
TZNAME:EET
DTSTART:20231029T010000
END:STANDARD
BEGIN:DAYLIGHT
TZOFFSETFROM:+0200
TZOFFSETTO:+0300
TZNAME:EEST
DTSTART:20240331T010000
END:DAYLIGHT
BEGIN:STANDARD
TZOFFSETFROM:+0300
TZOFFSETTO:+0200
TZNAME:EET
DTSTART:20241027T010000
END:STANDARD
END:VTIMEZONE
BEGIN:VEVENT
DTSTART;TZID=Europe/Athens:20230617T110000
DTEND;TZID=Europe/Athens:20230618T200000
DTSTAMP:20260421T033229
CREATED:20230517T152300Z
LAST-MODIFIED:20230517T152300Z
UID:2850-1686999600-1687118400@eposfilis.gr
SUMMARY:1st  Rock climbing tour @ Ναύπλιο  Μια δράση που ήρθε …. για να μείνει!
DESCRIPTION:17 – 18/6 \nΠολλές φορές έχουμε συναντηθεί στα πεδία της Αττικής ανταλλάσσοντας ατάκες\, γέλιο\, απόψεις για το πως θα καταφέρουμε να σκαρφαλώσουμε μια διαδρομή… Εμείς λοιπόν που ξεφεύγουμε από την καθημερινότητά μας στα βράχια μπορούμε να χαρούμε τέτοιες στιγμές μαζί\, στο 1ο διήμερο Rock Climbing αναρρίχησης που διοργανώνει ο σύλλογός μας στα αναρριχητικά πεδία του Ναυπλίου. \nΤο Ναύπλιο προσφέρεται για τους αναρριχητές όλων των επιπέδων\, από αρχάριους μέχρι έμπειρους μιας και έχει τρία αναρριχητικά πεδία πολύ κοντά το ένα με το άλλο όπου όλα είναι άμεσα και εύκολα προσβάσιμα για όλους. Δείτε τα σχετικά link παρακάτω: \nhttps://www.vrahomania.gr/kato_kosmos/ https://www.vrahomania.gr/anatoli/ https://www.vrahomania.gr/%CE%BD%CE%B1%CF%8D%CF%80%CE%BB%CE%B9%CE%BF-%CE%BA%CE%B1%CF%81%CE%B1%CE%B8%CF%8E%CE%BD%CE%B1/ \nhttps://www.vrahomania.gr/%CE%BD%CE%B1%CF%8D%CF%80%CE%BB%CE%B9%CE%BF-%CE%BA%CE%B1 \nΣάββατο 08:00\, αναχώρηση από την αφετηρία του Συλλόγου μας (οδός Λιοσίων\, στάση του ΜΕΤΡΟ «Αττική») και άφιξη στις 10:00 στο κάμπινγκ TRITON ΙΙ όπου η διανυκτέρευση σε σκηνές ή μπαγκαλόους. Στο βανάκι μας ..χωράνε και αναρριχητές από άλλους συλλόγους!!. \nΕκεί : \n– διήμερο παρεϊστικο σκαρφάλωμα κατά βούληση \n– κολύμπι στον Καραθώνα…άμα ζεσταθούμε(!!) \n– δωρεάν απογευματινό μάθημα γιόγκα ευγενική προσφορά της Ιωαννας Μπαλατσουκα.\, \n– barbeque το βράδυ του Σαββάτου και μπύρες\, \n– προβολή αναρριχητικής ταινίας και…..άλλα όμορφα που θα μας χαρίσουν ένα αξέχαστο αναρριχητικό διήμερο! \n-η μετακίνησή μας στα πεδία θα γίνεται με το πούλμαν \nΘα αφήσουμε τα πεδία το απόγευμα της Κυριακής στις 19:30 για να επιστρέψουμε στην βάση μας\, σχεδιάζοντας πότε θα ξαναβρεθούμε!!! \nΑτομικός εξοπλισμός: Όλοι οι αναρριχητές θα πρέπει απαραιτήτως να έχουν τον εξοπλισμό τους (σχοινί\, κράνος\, μποντριέ\, σετάκια\, αναρριχητικά παπούτσια). Για όποιον δεν έχει σχοινοσύντροφο\, στην ασφάλισή του θα βοηθήσουν οι πιο έμπειροι καθώς ο σκοπός του διήμερου event δεν είναι αγωνιστικός αλλά ένα ευχάριστο\, χαλαρό\, αναρριχητικό διήμερο που θα βοηθήσει να «δέσουν» σαν παρέα οι αναρριχητές του Συλλόγου μας! \nΟι δηλώσεις συμμετοχών γίνονται στο τηλέφωνο του Συλλόγου απαραίτητα 210-2411148  ή στέλνοντας email στο eposfilis@gmail.com παραθέτοντας στοιχεία επικοινωνίας. Στην τιμή περιλαμβάνονται: το κόστος της μετακίνησης με το βανάκι\, η διαμονή στο κάμπινγκ σε σκηνές και το bbq του Σαββάτου (χωρίς τις μπύρες). Απαραίτητη η κατάθεση προκαταβολής για την κράτηση θέσης (περιορισμένες θέσεις συμμετοχής: έως 23 άτομα) \nΓια πληροφορίες του διημέρου\, ρωτήστε τον Μάξιμο Αμπντούλ-Μάλακ!!!   \n“Όλοι όσοι συμμετέχουν ή σκαρφαλώνουν κατά τη διάρκεια του διήμερου\, σκαρφαλώνουν αποκλειστικά με δική τους ευθύνη  και είναι απόλυτα υπεύθυνοι για τους χειρισμούς τους\, αναλαμβάνοντας την ατομική ευθύνη των πράξεών τους”
URL:https://eposfilis.gr/event/1st-rock-climbing-tour-%ce%bd%ce%b1%cf%8d%cf%80%ce%bb%ce%b9%ce%bf-%ce%bc%ce%b9%ce%b1-%ce%b4%cf%81%ce%ac%cf%83%ce%b7-%cf%80%ce%bf%cf%85-%ce%ae%cf%81%ce%b8%ce%b5-%ce%b3%ce%b9%ce%b1-%ce%bd-2/
CATEGORIES:Ημερολόγιο
END:VEVENT
END:VCALENDAR